BEGIN:VCALENDAR
VERSION:2.0
PRODID:-//Montreal Gaming - Les esports au Qu&eacute;bec (Qc). - ECPv6.15.16//NONSGML v1.0//EN
CALSCALE:GREGORIAN
METHOD:PUBLISH
X-ORIGINAL-URL:https://www.montrealgaming.com
X-WR-CALDESC:Events for Montreal Gaming - Les esports au Qu&eacute;bec (Qc).
REFRESH-INTERVAL;VALUE=DURATION:PT1H
X-Robots-Tag:noindex
X-PUBLISHED-TTL:PT1H
BEGIN:VTIMEZONE
TZID:America/Halifax
BEGIN:DAYLIGHT
TZOFFSETFROM:-0400
TZOFFSETTO:-0300
TZNAME:ADT
DTSTART:20150308T060000
END:DAYLIGHT
BEGIN:STANDARD
TZOFFSETFROM:-0300
TZOFFSETTO:-0400
TZNAME:AST
DTSTART:20151101T050000
END:STANDARD
BEGIN:DAYLIGHT
TZOFFSETFROM:-0400
TZOFFSETTO:-0300
TZNAME:ADT
DTSTART:20160313T060000
END:DAYLIGHT
BEGIN:STANDARD
TZOFFSETFROM:-0300
TZOFFSETTO:-0400
TZNAME:AST
DTSTART:20161106T050000
END:STANDARD
BEGIN:DAYLIGHT
TZOFFSETFROM:-0400
TZOFFSETTO:-0300
TZNAME:ADT
DTSTART:20170312T060000
END:DAYLIGHT
BEGIN:STANDARD
TZOFFSETFROM:-0300
TZOFFSETTO:-0400
TZNAME:AST
DTSTART:20171105T050000
END:STANDARD
BEGIN:DAYLIGHT
TZOFFSETFROM:-0400
TZOFFSETTO:-0300
TZNAME:ADT
DTSTART:20180311T060000
END:DAYLIGHT
BEGIN:STANDARD
TZOFFSETFROM:-0300
TZOFFSETTO:-0400
TZNAME:AST
DTSTART:20181104T050000
END:STANDARD
END:VTIMEZONE
BEGIN:VEVENT
DTSTART;TZID=America/Halifax:20170318T180000
DTEND;TZID=America/Halifax:20170318T180000
DTSTAMP:20260421T125256
CREATED:20170215T214644Z
LAST-MODIFIED:20170215T214644Z
UID:10000689-1489860000-1489860000@www.montrealgaming.com
SUMMARY:LAN - BYOC - Don't starve together
DESCRIPTION:Ce n’est pas un tournoi \nDurant la soirée\, deux modes du jeux seront tentés; coopératif et compétitif. \nJoueurs débutants et expérimentés les bienvenues! \nPrix : 7$ \nÀ vendre sur place : boissons gazeuses et énergisantes \nÀ apporter : ordinateur\, écran souris\, tapis de souris et fils de courant. \nTournament rules:\nle respect des joueurs est de mise.
URL:https://www.montrealgaming.com/lan-quebec/lan-byoc-dont-starve-together/
LOCATION:6660 Avenue des Pionniers\, St-Hyacinthe\, QC J2R 1C1\, Canada\, 6660 Avenue des Pionniers\, St-Hyacinthe\, Quebec\, J2R 1C1\, Canada
CATEGORIES:Killer Instinct Event,Multi-eSports-Event,Rocket League Event,Smash Bros Event,Street Fighter Event
ATTACH;FMTTYPE=image/png:https://www.montrealgaming.com/wp-content/uploads/2017/02/15940624_1210914012319505_2958790296333851090_n-e1487195530216.png
ORGANIZER;CN="United Gamers":MAILTO:info@ugamers.ca
GEO:45.6490964;-72.9909276
X-APPLE-STRUCTURED-LOCATION;VALUE=URI;X-ADDRESS=6660 Avenue des Pionniers St-Hyacinthe QC J2R 1C1 Canada 6660 Avenue des Pionniers St-Hyacinthe Quebec J2R 1C1 Canada;X-APPLE-RADIUS=500;X-TITLE=6660 Avenue des Pionniers:geo:-72.9909276,45.6490964
END:VEVENT
BEGIN:VEVENT
DTSTART;TZID=America/Halifax:20161016T150000
DTEND;TZID=America/Halifax:20161016T200000
DTSTAMP:20260421T125256
CREATED:20161002T205929Z
LAST-MODIFIED:20161002T210019Z
UID:10000534-1476630000-1476648000@www.montrealgaming.com
SUMMARY:Ultra Sunday #1
DESCRIPTION:Ultra Sunday #1\nWelcome the new wave of weeklies in Montreal honoring the Killer Instinct itself.\nStarting off with our large monthly before the start of the weeklies.\nPlayers of all skill levels come out to the opening of our Killer Instinct weeklies where you can enjoy casuals and competitive play in this title whether you are just starting or experienced. \nParticipate at this event for prize raffles\, a large pot bonus tournament and Qualifier points in where at the end of the season will be sent to Evo 2017.\nAs well as unlimited pizza and drinks. \nSo come out all and get your Combo Breaker on.\n_________________________________________________ \nBienvenue à la nouvelle vague des hebdomadaires à Montréal honorant le Killer Instinct lui-même.\nCommençant avec notre grande mensuelle avant le début des hebdomadaires. \nLes joueurs de tous les niveaux de compétence sortent à l’ouverture de nos hebdomadaires Killer Instinct où vous pourrez profiter casuals et jeu compétitif dans ce titre. \nParticiper à cet événement pour des tirages de prix\, un grand tournoi de bonus de pot et de points Qualifier dans où à la fin de la saison sera envoyé à Evo 2017.\nAussi bien que la pizza illimitée et des boissons. \nAlors venez tous et obtenir votre Combo Breaker. \nEntree Fee: $10\nTournament Fee: $5\nPizza & Drinks: $5 \nTournament Registration\n3 pm / 15h \nTournament Starts\n4 pm / 16h \nTournament Rules \nMatches 2 out of 3\nLoser Finals 3 out of 5\nSemi-Finals 3 out of 5\nFinals 3 out of 5
URL:https://www.montrealgaming.com/lan-quebec/ultra-sunday-1/
LOCATION:2107 Sainte-Catherine East\, H2K 2H9\, 2107 Sainte-Catherine East\, Montreal\, Quebec\, H2K 2H9\, Canada
CATEGORIES:Killer Instinct Event
ATTACH;FMTTYPE=image/jpeg:https://www.montrealgaming.com/wp-content/uploads/2016/10/facebook_event_1213342175354382.jpg
ORGANIZER;CN="Montreal Mash-Up":MAILTO:info@montrealmashup.com
GEO:45.5251312;-73.5502859
X-APPLE-STRUCTURED-LOCATION;VALUE=URI;X-ADDRESS=2107 Sainte-Catherine East H2K 2H9 2107 Sainte-Catherine East Montreal Quebec H2K 2H9 Canada;X-APPLE-RADIUS=500;X-TITLE=2107 Sainte-Catherine East:geo:-73.5502859,45.5251312
END:VEVENT
BEGIN:VEVENT
DTSTART;TZID=America/Halifax:20160604T160000
DTEND;TZID=America/Halifax:20160605T003000
DTSTAMP:20260421T125256
CREATED:20160514T031748Z
LAST-MODIFIED:20160517T030440Z
UID:10000522-1465056000-1465086600@www.montrealgaming.com
SUMMARY:Montreal Mash-Up - Episode XVI: Enter The Shadows
DESCRIPTION:Montreal Mash-Up – Episode XVI: Enter The Shadows\nAfter that battle throughout the streets the MMU is taken by not one but two shadows.\nEnter the shadows in episode XVI as we host two tournamnets throughout the night. \nMortal Kombat XL& Killer Instinct enter the ring in the beginning of our three part series this season. \nCome play new games like Doom\, Street Fighter V and Pokken Tournament or classics like Vigilante 8 Second Offense\, State of Emergency & Bloody Roar Xtreme. \nBring your trading card decks and throw down with the local competition or play some of the board games from our collection such as Cards Against Humanity\, Blokus and others or classics like Taboo or Monopoly. \nFight Card \nMortal Kombat XL \nStart Time: 6:30 pm \n$100.00 pot \nRules: \nDouble Elimination. \nPrize Payout \n1st Place = 55%\n2nd Place = 30%\n3rd Place = 15% \n__________________ \nKiller Instinct \nStart Time: 8:30 pm \n$150.00 pot \nRules: \nDouble Elimination. \nPrize Payout \n1st Place = 55%\n2nd Place = 30%\n3rd Place = 15% \nVenue Fee: 10$\nTournament Entry Fee: 3$ \nFood and drinks will be sold on the premises.\nSnacks will be provided for free. \nAny questions? Email: info@montrealmashup.com
URL:https://www.montrealgaming.com/lan-quebec/montreal-mash-up-episode-xvi-enter-the-shadows/
LOCATION:Montreal Mash-Up\, 2407 Sainte Catherine East\, Montreal\, QC\, H2K 2J7\, Canada
CATEGORIES:Killer Instinct Event,Mortal Kombat Event,Multi-eSports-Event
ATTACH;FMTTYPE=image/jpeg:https://www.montrealgaming.com/wp-content/uploads/2016/05/Montreal-Mash-Up.jpg
ORGANIZER;CN="Montreal Mash-Up":MAILTO:info@montrealmashup.com
GEO:45.528555;-73.5470517
X-APPLE-STRUCTURED-LOCATION;VALUE=URI;X-ADDRESS=Montreal Mash-Up 2407 Sainte Catherine East Montreal QC H2K 2J7 Canada;X-APPLE-RADIUS=500;X-TITLE=2407 Sainte Catherine East:geo:-73.5470517,45.528555
END:VEVENT
END:VCALENDAR