BEGIN:VCALENDAR
VERSION:2.0
PRODID:-//Montreal Gaming - Les esports au Qu&eacute;bec (Qc). - ECPv6.15.16//NONSGML v1.0//EN
CALSCALE:GREGORIAN
METHOD:PUBLISH
X-WR-CALNAME:Montreal Gaming - Les esports au Qu&eacute;bec (Qc).
X-ORIGINAL-URL:https://www.montrealgaming.com
X-WR-CALDESC:Events for Montreal Gaming - Les esports au Qu&eacute;bec (Qc).
REFRESH-INTERVAL;VALUE=DURATION:PT1H
X-Robots-Tag:noindex
X-PUBLISHED-TTL:PT1H
BEGIN:VTIMEZONE
TZID:America/Halifax
BEGIN:DAYLIGHT
TZOFFSETFROM:-0400
TZOFFSETTO:-0300
TZNAME:ADT
DTSTART:20150308T060000
END:DAYLIGHT
BEGIN:STANDARD
TZOFFSETFROM:-0300
TZOFFSETTO:-0400
TZNAME:AST
DTSTART:20151101T050000
END:STANDARD
BEGIN:DAYLIGHT
TZOFFSETFROM:-0400
TZOFFSETTO:-0300
TZNAME:ADT
DTSTART:20160313T060000
END:DAYLIGHT
BEGIN:STANDARD
TZOFFSETFROM:-0300
TZOFFSETTO:-0400
TZNAME:AST
DTSTART:20161106T050000
END:STANDARD
BEGIN:DAYLIGHT
TZOFFSETFROM:-0400
TZOFFSETTO:-0300
TZNAME:ADT
DTSTART:20170312T060000
END:DAYLIGHT
BEGIN:STANDARD
TZOFFSETFROM:-0300
TZOFFSETTO:-0400
TZNAME:AST
DTSTART:20171105T050000
END:STANDARD
END:VTIMEZONE
BEGIN:VEVENT
DTSTART;TZID=America/Halifax:20161012T120000
DTEND;TZID=America/Halifax:20161013T120000
DTSTAMP:20260422T041856
CREATED:20160909T015004Z
LAST-MODIFIED:20160909T015705Z
UID:10000685-1476273600-1476360000@www.montrealgaming.com
SUMMARY:LAN de l'ADEPT - Automne 2016
DESCRIPTION:LAN de l’ADEPT – Automne 2016\nLe LAN de l’ADEPT est l’activité organisée par l’ADEPT Informatique\, c’est à dire\, les étudiants et étudiantes de la technique informatique du Cégep Édouard-Montpetit. Cette activité est organisée à chaque session d’automne et d’hiver lors de la semaine de lecture. \nBon LAN ! \n  \nVoir sur la page des tournois sur notre site web:\nhttp://lanadept.com/Tournament \n 
URL:https://www.montrealgaming.com/lan-quebec/lan-de-ladept-automne-2016/
LOCATION:Cégep Édouard-Montpetit\, 945\, chemin Chambly\, Longueuil\, QC\, J4H 3M6\, Canada
CATEGORIES:Counter-Strike Event,DOTA Event,Hearthstone Event,League of Legends Event,Multi-eSports-Event,Overwatch Event,Rocket League Event
ATTACH;FMTTYPE=image/jpeg:https://www.montrealgaming.com/wp-content/uploads/2016/09/fb_img_1473088485933.jpg
ORGANIZER;CN="ADEPT Informatique":MAILTO:adept.informatique.cem@gmail.com
GEO:45.5352471;-73.4940854
X-APPLE-STRUCTURED-LOCATION;VALUE=URI;X-ADDRESS=Cégep Édouard-Montpetit 945 chemin Chambly Longueuil QC J4H 3M6 Canada;X-APPLE-RADIUS=500;X-TITLE=945\, chemin Chambly:geo:-73.4940854,45.5352471
END:VEVENT
BEGIN:VEVENT
DTSTART;TZID=America/Halifax:20161007T193000
DTEND;TZID=America/Halifax:20161009T150000
DTSTAMP:20260422T041856
CREATED:20160725T223249Z
LAST-MODIFIED:20160725T223517Z
UID:10000681-1475868600-1476025200@www.montrealgaming.com
SUMMARY:JOUR de LAN ( JDL LAN )
DESCRIPTION:JOUR de LAN ( JDL LAN ) \nBonjour ! C’est officiel Le JDL LAN aura lieu cette année le 7-8-9 octobre à Saint-Apollinaire dans une salle pouvant accueillir 120 personnes.\nAdresse complete : 83 rue Boucher\, Saint-Apollinaire\, QC G0S 2E0 \nL’évenement est organisé par Jeoffroy Noel(Livin)\, Simon Hince(Hunterkiller) et Dave Carrier si vous avez des questions veuillez les écrires dans l’évenement \nTu es gamer et ta envie d’avoir du fun avec d’autres gamers ? Alors\, viens passer la fin de semaine avec nous ! \nQu’est-ce que le JDL LAN ? \nLe JDL lan est un nouveau concept . C’est un événement 100 % pour le plaisir (casual) avec beaucoup de prix \, puisque en dehors des couts de la salle\, l’internet et l’électricité tout l’argent généré par le lan sera remis au lan en prix de présence pour vous. Une personne sur quatre gagne ! \nIl y aura des tournois amicaux\, une bonne connection internet\, une cantine sur place\, un endroit pour dormir a l’intérieur et a l’extérieur pour les gens qui veule dormir dans une tente et bien sur des douches sont disponible! \nTous les tournois seront choisis par vous dans un pool qui sera posté plus bas ! \nLe cout du lan est de 60$ payable par PayPal ou 70$ à la Porte s’il reste de la place ! Le plus gros prix du lan d’une valeur d’environ 500$ sera tiré parmi les gens qui ont précommandé leur billet avant le premier septembre 2016 !\n********************************************************************\nVoici le lien pour payer https://www.paypal.me/hunterkiller/60\nBIEN IMPORTANT DE NE PAS COCHER LA CASE PROTECTION D’ACHAT SINON JE VOUS REMBOURSE.\n********************************************************************\nQuoi apporter ? \n-Powerbar obligatoire\n-Extention\n-votre nourriture (Cantine sur place)\n-Brosse a dent\, serviette\, shampoing\, etc..\n-Tente de camping\n-Votre argent $$\n-un seul écran d’ordinateur*\n-votre linge \nVeuillez prendre note que si vous n’avez pas 18 ans le jour de l’événement vous devez * OBLIGATOIREMENT* faire remplir le document si dessous par vos parents et nous l’apporter ! \nhttps://drive.google.com/file/d/0B4sMJ_NY8buUUTlfUl9Gc19hSWs/view?usp=sharing
URL:https://www.montrealgaming.com/lan-quebec/jour-de-lan-jdl-lan/
LOCATION:Salle Communautaire De St-Apollinaire\, 83\, rue Boucher\, Saint-Apollinaire\, QC\, G0S 2E0\, Canada
CATEGORIES:Call of Duty Event,Counter-Strike Event,Hearthstone Event,League of Legends Event,Multi-eSports-Event,Overwatch Event,Rocket League Event,Starcraft Event
ATTACH;FMTTYPE=image/jpeg:https://www.montrealgaming.com/wp-content/uploads/2016/07/facebook_event_288498008153403.jpg
GEO:46.6085296;-71.5166193
X-APPLE-STRUCTURED-LOCATION;VALUE=URI;X-ADDRESS=Salle Communautaire De St-Apollinaire 83 rue Boucher Saint-Apollinaire QC G0S 2E0 Canada;X-APPLE-RADIUS=500;X-TITLE=83\, rue Boucher:geo:-71.5166193,46.6085296
END:VEVENT
BEGIN:VEVENT
DTSTART;TZID=America/Halifax:20160924T180000
DTEND;TZID=America/Halifax:20160924T180000
DTSTAMP:20260422T041856
CREATED:20160628T183349Z
LAST-MODIFIED:20160628T183349Z
UID:10000529-1474740000-1474740000@www.montrealgaming.com
SUMMARY:LAN - BYOC - Overwatch
DESCRIPTION:LAN non compétitif. \nÀ apporter : ordinateur\, souris\, clavier\, tapis de souris. \nprix : 10$ (+1$ via paypal) \nsur place : fil\, internet\, routeur et switch prêt à connecter à votre ordinateur. \nSur place : service de vente de boisson gazeuse et énergisante \n 
URL:https://www.montrealgaming.com/lan-quebec/lan-byoc-overwatch/
LOCATION:6660 avenue des Pioniers St-Hyacinthe\, 6660 Avenue des Pionniers\, St-Hyacinthe\, Quebec\, \, QC J2R 1C1\, Canada
CATEGORIES:Overwatch Event
ATTACH;FMTTYPE=image/jpeg:https://www.montrealgaming.com/wp-content/uploads/2016/06/facebook_event_1742603789358743.jpg
ORGANIZER;CN="United Gamers":MAILTO:info@ugamers.ca
GEO:45.6490964;-72.9909276
X-APPLE-STRUCTURED-LOCATION;VALUE=URI;X-ADDRESS=6660 avenue des Pioniers St-Hyacinthe 6660 Avenue des Pionniers St-Hyacinthe Quebec  QC J2R 1C1 Canada;X-APPLE-RADIUS=500;X-TITLE=6660 Avenue des Pionniers:geo:-72.9909276,45.6490964
END:VEVENT
BEGIN:VEVENT
DTSTART;VALUE=DATE:20160812
DTEND;VALUE=DATE:20160815
DTSTAMP:20260422T041856
CREATED:20160407T031048Z
LAST-MODIFIED:20160805T002126Z
UID:10000670-1470960000-1471219199@www.montrealgaming.com
SUMMARY:DreamHack Montreal 2016
DESCRIPTION:Français\n\n \nDreamHack Montreal 2016\nPour la première année \, l’événement aura lieu à la Place Bonaventure\, et DreamHack aura pour objectif de poursuivre une tradition annuelle avec DreamHack Montréal 2016. En explorant différents endroits pour poursuivre l’expansion en Amérique du Nord\, Montréal est devenu un choix évident. En raison de la grande communauté de jeux vidéo et la grande culture des Lan party à Montréal\, et dans l’ensemble du Canada\, qui est un marché d’esports chroniquement sous-desservis. \nDreamHack Montréal mettra en vedette au moins deux grands tournois d’esports internationaux\, ainsi que des activités pour les visiteurs à travers tous les titres\, dans les jeux de combat\, jeux PC et jeux sur console. Parallèlement à cela\, il y aura bien évidemment la partie BYOC\, Cosplay et encore plus. Tous les participants sont encouragés à aider et se joindre à l’équipe de bénévoles pour aider à façonner DreamHack Montréal! \nBillets BYOC\n\nBillets BYOC – 100$ CAD + Taxes + Frais\nVIP BYOC LAN / Billets Fondateurs – 450$ CAD + Taxes + Frais\n\nBILLETS VISITEURS\n\nBillet Visiteurs 3 jours – 50$ CAD + Taxes + Frais\nBillets Visiteurs VIP 3 jours – 250$ CAD + Taxes + Frais\nBillet visiteur 1 jour: vendredi – 25$ CAD + Taxes + Frais\nBillet visiteur 1 jour: Samedi – 30$ CAD + Taxes + Frais\nBillet visiteur 1 jour: Dimanche – 30$ CAD + Taxes + Frais\n\nTOURNOI BYOC\n\nCounter-Strike: Global Offensive – $15\,000\nLeague of Legends – $15\,000\nHearthstone – $6\,000\nStarcraft 2 – $3\,000\nRocket League – $4\,000\nOverwatch – $6\,000\nSuper Smash Bros. Melee – $4\,000\nStreet Fighter 5 – $2\,000\n\n \nBILLETS EN VENTE ICI !!!\n\n\n  \nZONE ESPORT\n\nLa zone esports de DreamHack Montréal vous offre la chance de compétitionner dans les meilleurs jeux du moment.\nLes fans seront en mesure de regarder les tournois en direct\, en ligne\, et rencontrer leurs gamers préférés sur place\, assurez-vous donc de vous diriger vers la zone esport! \n \n\n\nStarcraft 2 – $150\,000\nLe Championnat WCS d’été\n\nPlus de détails seront dévoilés pour les tournois esports dont les bourses\, les formats\, et plus encore à l’approche de DreamHack Montréal! \n\nEnglish\n\n \nDreamHack Montreal 2016\nThe event will be hosted at Place Bonaventure for the first year\, and DreamHack will aim to continue with an annual tradition starting with DreamHack Montreal 2016. When exploring different locations to continue expansion in North America\, Montreal became a very obvious choice\, due to both the proven gaming and LAN party culture in the city\, but also the entire country of Canada\, which is a chronically under-served esports market. \nDreamHack Montreal will feature at least two major international esports tournaments\, as well as activities for visitors across all titles in fighting games\, PC games and console games. Alongside this there will the obvious BYOC LAN party for visitors to take in\, Cosplay contents and more. All attendees are encouraged to help get involved and join the volunteer crew to help shape DreamHack Montreal to be what the visitors want it to be! \nBYOC LAN SEAT TICKETS\n\nBYOC LAN Pass – 100$ CAD + Taxes + Fees\nBYOC LAN VIP/Founders Pass- 450$ CAD + Taxes + Fees\n\nVISITOR PASSES\n\n3-day Visitor Pass – 50$ CAD + Taxes + Fees\n3-day DreamHack VIP/Founder Visitor Pass – 250$ CAD + Taxes + Fees\n1-day Visitor Pass: Friday – 25$ CAD + Taxes + Fees\n1-day Visitor Pass: Saturday – 30$ CAD + Taxes + Fees\n1-day Visitor Pass: Sunday – 30$ CAD + Taxes + Fees\n\nBYOC TOURNAMENTS\n\nCounter-Strike: Global Offensive – $15\,000\nLeague of Legends – $15\,000\nHearthstone – $6\,000\nStarcraft 2 – $3\,000\nRocket League – $4\,000\nOverwatch – $6\,000\nSuper Smash Bros. Melee – $4\,000\nStreet Fighter 5 – $2\,000\n\n \nTICKETS AVAILABLE HERE!\n\n  \nESPORTS AREA\n\nThe esports area of DreamHack Montreal will offer you the chance to compete in the best game of the moment.\nFans will be able to watch the tournaments live\, online\, meet their favourite progamers and esports personalities onsite\, so be sure to head to the esport area! \n \n\n\nStarcraft 2 – $150\,000\nWCS Circuit Summer Championship\n\n\n\n\nMore details will be revealed for all esports tournaments including the prize pools\, formats\, and more as DreamHack Montreal draws closer! \n\n\n\n\n 
URL:https://www.montrealgaming.com/lan-quebec/dreamhack-montreal-2016/
LOCATION:Place Bonaventure\, 800\, De La Gauchetière Ouest\, Montreal\, QC\, H5A 1K6\, Canada
CATEGORIES:Counter-Strike Event,Hearthstone Event,League of Legends Event,Multi-eSports-Event,Overwatch Event,Rocket League Event,Smash Bros Event,Starcraft Event,Street Fighter Event
ATTACH;FMTTYPE=image/jpeg:https://www.montrealgaming.com/wp-content/uploads/2016/04/facebook_event_790900851043720.jpg
GEO:45.4999204;-73.5654861
X-APPLE-STRUCTURED-LOCATION;VALUE=URI;X-ADDRESS=Place Bonaventure 800 De La Gauchetière Ouest Montreal QC H5A 1K6 Canada;X-APPLE-RADIUS=500;X-TITLE=800\, De La Gauchetière Ouest:geo:-73.5654861,45.4999204
END:VEVENT
BEGIN:VEVENT
DTSTART;TZID=America/Halifax:20160708T140000
DTEND;TZID=America/Halifax:20160710T170000
DTSTAMP:20260422T041856
CREATED:20160122T001520Z
LAST-MODIFIED:20160621T062740Z
UID:10000518-1467986400-1468170000@www.montrealgaming.com
SUMMARY:Montreal Comiccon 2016
DESCRIPTION:Français\n\n \nComiccon de Montréal\nLe Comiccon de Montréal est un événement destiné aux amateurs de culture populaire à l’occasion duquel ces derniers ont la chance de rencontrer des artistes et de voir un large éventail de produits issus de l’univers du divertissement: science-fiction\, horreur\, anime\, jeux vidéo sous toutes leurs formes et\, bien sûr\, bandes dessinées et comic books. On y trouve une grande diversité d’exposants\, notamment des entreprises qui y présentent leurs marchandises\, ainsi que des véhicules ou d’autres éléments marquants de films ou de séries télévisées. Il s’agit d’une occasion unique pour les collectionneurs de trouver le tee-shirt\, le comic book\, le jouet\, la figurine\, le DVD ou Blu-ray ou la réplique dont ils rêvent. \nLes aficionados de comic books et de bandes dessinées ont quant à eux la chance de rencontrer leurs artistes préférés\, de demander leur autographe\, d’acheter un dessin ou de les remercier pour leur travail. L’un des points marquants de l’événement est certes la possibilité pour les visiteurs de rencontrer les artisans mêmes de leur émission de télé ou de leur film préféré. Les vedettes participent à des séances de photo et de signature d’autographes\, et donnent des conférences accueillant de 700 à 2 500 personnes. \nOn encourage les visiteurs (sans les obliger\, toutefois) à se costumer sous les traits de leur icône de la culture populaire préférée (cinéma\, télé\, jeu vidéo ou comic book\, par exemple). Le défilé de costumes atteint son apogée lors de la mascarade\, grand concours de costumes présidé par des juges venus des quatre coins du monde qui notent plus de 60 concurrents devant les encouragements de près de 2 500 amateurs réunis pour l’occasion. \nPendant les trois jours de l’événement\, les visiteurs sont invités à plus de 100 groupes de discussion et ateliers visant la promotion des comic books\, des costumes\, des jeux vidéo et de la culture populaire en général. Une zone de jeux vidéo est aménagée pour ceux et celles qui voudraient découvrir des jeux en démonstration\, participer à des tournois ou simplement profiter d’une séance de jeu gratuite. Les démonstrations sur place et les tournois de jeux vidéo de sport englobent à la fois des jeux indépendants et des titres parmi les plus prisés. Dans l’ensemble des longs et courts métrages présentés\, notons des films d’amateurs ainsi que des productions indépendantes et de grands studios. \nFACEBOOK \n\n \nVenez consulter notre panel sur les ‪#‎Esports‬ au Montreal Comiccon le 9 Juillet à 13h30 avec Joey Luckes\, Leo Vitelli et P-O Crépin. \n\n \nLa zone «E-sports» est totalement renouvelée cette année. Est-ce vous qui mettrez la main sur la convoitée ComicCup? De nombreuses vedettes du domaine des sports électroniques québécois participeront à des «showmatchs». Profitez de l’occasion pour venir les rencontrer et pourquoi pas\, prendre quelques photos avec eux! Joignez-vous à la Ligue Pokémon de Montréal au Comiccon de Montréal 2016 ou à Super Smash Montréal pour un tournoi de smash! \nPour participer aux tournois\, vous devez OBLIGATOIREMENT détenir un billet pour le Comiccon. \nInscription aux tournois :\nOverwatch : https://battlefy.com/mtl-comiccon/comiccup-2016-overwatch-1500-prize-pool/575395cc8faa137e12faff89/info \nHearthstone : inscription sur place\, zone des sports électroniques (511) \nSmash 4 for WiiU : https://smash.gg/tournament/smash-4-comiccon-2016 \nPokemon : inscription sur place\, zone des sports électroniques (511) \nPlus d’information à venir! \n\nEnglish\n\n \nMontreal Comiccon\nMontreal Comiccon is a pop-culture fan convention that showcases artists and products from entertainment genres like: Sci-fi\, Horror\, Anime\, Gaming in all its forms\, and\, of course\, bande dessinée and comic books. It features a large array of exhibits with several companies demonstrating their wares and a few vehicles or set pieces from film or television are on display\, a shopping experience like no other\, aimed at fans that are looking for games\, T-Shirts\, comics\, toys\, statues\, DVDs/Blu-rays\, replicas and more collector items. \nFans have the opportunity come to meet their favorite creators from the world of comics and BD\, get their autographs\, buy a sketch or thank them for their work. Additionally\, one of the biggest draws\, fans get to meet the personalities behind their favorite TV shows and movies. Celebrities participate in autograph sessions\, photo opportunities and Q&As that accommodate between 700 and 2500 fans. \nFans are encouraged (but not obliged) to come dressed as their favorite pop culture characters\, be they from movies\, TV\, video games or comics. It culminates at the Masquerade\, the big costuming competition that brings in judges from across the globe\, over 60 competitors\, and close to 2500 fans to cheer them on when they hit the big stage. \nOver the course of three days\, fans are treated to over 100 different panel discussions and workshops that help further promote comics\, costuming\, gaming and pop culture in general. A gaming zone for fans to discover new game demos\, participate in tourneys or simply enjoy some free-play. Video games are feature for both indie games and AAA studios with demos and eSports tournaments. Screenings for short and feature films are presented that include fans films\, as well as independent and studio productions. \nFACEBOOK \n\n \nCome check out our panel on ‪#‎Esports‬ at the Montreal Comiccon this July 9th at 1:30pm with Joey Luckes\, Leo Vitelli and P-O Crépin. \n\n \nA newly expanded eSports Zone will feature several activities for attendees to discover this fascinating world\, in which the best players will compete live at Comiccon for glory\, honour and prizes\, with several Quebec eSport personalities in attendance. Join the Ligue Pokémon de Montréal and the Super Smash Montreal for some exciting tournaments! Plus\, come play some of the hottest games including the ever-popular Hearthstone and the universally acclaimed Overwatch. \nThe eSports Zone can be found on the fifth floor of the Palais des congrès. \nFor tournament registration::\nOverwatch : https://battlefy.com/mtl-comiccon/comiccup-2016-overwatch-1500-prize-pool/575395cc8faa137e12faff89/info \nHearthstone : On-site at the eSports Zone (511) \nSmash 4 for WiiU: https://smash.gg/tournament/smash-4-comiccon-2016 \nPokemon : On-site at the eSports Zone (511) \nStay tuned for more info! \n*A Montreal Comiccon ticket is required to enter the eSports Zone. \n\n  \n 
URL:https://www.montrealgaming.com/lan-quebec/montreal-comiccon-2016-2/
LOCATION:Montreal Comiccon\, 1001 Place Jean-Paul-Riopelle\,\, Montreal\, Quebec\, H2Z 1H5\, Canada
CATEGORIES:Hearthstone Event,Multi-eSports-Event,Overwatch Event,Smash Bros Event
ATTACH;FMTTYPE=image/png:https://www.montrealgaming.com/wp-content/uploads/2016/01/facebook_event_957749654282875.png
GEO:45.50386;-73.5609688
X-APPLE-STRUCTURED-LOCATION;VALUE=URI;X-ADDRESS=Montreal Comiccon 1001 Place Jean-Paul-Riopelle Montreal Quebec H2Z 1H5 Canada;X-APPLE-RADIUS=500;X-TITLE=1001 Place Jean-Paul-Riopelle\,:geo:-73.5609688,45.50386
END:VEVENT
END:VCALENDAR