BEGIN:VCALENDAR
VERSION:2.0
PRODID:-//Montreal Gaming - Les esports au Qu&eacute;bec (Qc). - ECPv6.15.16//NONSGML v1.0//EN
CALSCALE:GREGORIAN
METHOD:PUBLISH
X-ORIGINAL-URL:https://www.montrealgaming.com
X-WR-CALDESC:Events for Montreal Gaming - Les esports au Qu&eacute;bec (Qc).
REFRESH-INTERVAL;VALUE=DURATION:PT1H
X-Robots-Tag:noindex
X-PUBLISHED-TTL:PT1H
BEGIN:VTIMEZONE
TZID:America/New_York
BEGIN:DAYLIGHT
TZOFFSETFROM:-0500
TZOFFSETTO:-0400
TZNAME:EDT
DTSTART:20190310T070000
END:DAYLIGHT
BEGIN:STANDARD
TZOFFSETFROM:-0400
TZOFFSETTO:-0500
TZNAME:EST
DTSTART:20191103T060000
END:STANDARD
BEGIN:DAYLIGHT
TZOFFSETFROM:-0500
TZOFFSETTO:-0400
TZNAME:EDT
DTSTART:20200308T070000
END:DAYLIGHT
BEGIN:STANDARD
TZOFFSETFROM:-0400
TZOFFSETTO:-0500
TZNAME:EST
DTSTART:20201101T060000
END:STANDARD
BEGIN:DAYLIGHT
TZOFFSETFROM:-0500
TZOFFSETTO:-0400
TZNAME:EDT
DTSTART:20210314T070000
END:DAYLIGHT
BEGIN:STANDARD
TZOFFSETFROM:-0400
TZOFFSETTO:-0500
TZNAME:EST
DTSTART:20211107T060000
END:STANDARD
BEGIN:DAYLIGHT
TZOFFSETFROM:-0500
TZOFFSETTO:-0400
TZNAME:EDT
DTSTART:20220313T070000
END:DAYLIGHT
BEGIN:STANDARD
TZOFFSETFROM:-0400
TZOFFSETTO:-0500
TZNAME:EST
DTSTART:20221106T060000
END:STANDARD
BEGIN:DAYLIGHT
TZOFFSETFROM:-0500
TZOFFSETTO:-0400
TZNAME:EDT
DTSTART:20230312T070000
END:DAYLIGHT
BEGIN:STANDARD
TZOFFSETFROM:-0400
TZOFFSETTO:-0500
TZNAME:EST
DTSTART:20231105T060000
END:STANDARD
BEGIN:DAYLIGHT
TZOFFSETFROM:-0500
TZOFFSETTO:-0400
TZNAME:EDT
DTSTART:20240310T070000
END:DAYLIGHT
BEGIN:STANDARD
TZOFFSETFROM:-0400
TZOFFSETTO:-0500
TZNAME:EST
DTSTART:20241103T060000
END:STANDARD
END:VTIMEZONE
BEGIN:VEVENT
DTSTART;TZID=America/New_York:20200404T090000
DTEND;TZID=America/New_York:20200405T200000
DTSTAMP:20260425T230932
CREATED:20191219T044508Z
LAST-MODIFIED:20191219T045046Z
UID:10000719-1585990800-1586116800@www.montrealgaming.com
SUMMARY:Summit Esports
DESCRIPTION:Français\n\n \nSummit Esports\nNous organisons actuellement un nouvel événement de sports électroniques à grande échelle qui se tiendra à Montréal les 4 et 5 avril 2020 dans le complexe sportif de l’Université de Montréal. Summit Esports 2020 accueillera plus de 500 joueurs BYOC\, des centaines de spectateurs et plus de 15 kiosques. 10 000 $ en prix seront attribués sur 4 tournois: Fortnite\, League of Legends\, Rainbow Six Siege et Overwatch. De plus\, les billets pour les visiteurs réguliers sont gratuits\, ce qui garantit un nombre élevé de visiteurs. L’événement est également un grand LAN où les joueurs amateurs peuvent venir jouer avec leurs amis jour et nuit\, sans participer à aucun tournois. \nRules:\nToutes nos règles de tournois sont sur nos pages Toornament associées à chaque jeu. Vous pouvez cliquer sur chaque jeu de notre site Web pour être dirigé sur Toornament.\n\nEnglish\n\n \nSummit Esports\nWe are currently organizing a new large-scale electronic sports event to be held in Montreal on April 4-5\, 2020 in the sports complex of the Université de Montréal. Summit Esports 2020 will host more than 500 BYOC players\, hundreds of spectators and more than 15 kiosks. $ 10\,000 in prize money will be awarded on 4 tournaments: Fortnite\, League of Legends\, Rainbow Six Siege and Overwatch. In addition\, tickets for regular visitors are free\, which ensures a high amount of visitors. The event\, is also a big LAN where amateur players can come and play with their friends day and night without participating in any tournaments. \nTournament rules:\nAll our tournaments rules are on our Toornament pages associated with every game. You can click on every game on our website to be directed on Toornament.\n\n 
URL:https://www.montrealgaming.com/lan-quebec/summit-esports/
LOCATION:Athletics University De Montréal\, 2100 Edouard Montpetit Blvd\, Montreal\, Quebec\, H3T 1J4\, Canada
CATEGORIES:Fortnite Event,League of Legends Event,Multi-eSports-Event,Overwatch Event,Rainbow Six Event
ATTACH;FMTTYPE=image/png:https://www.montrealgaming.com/wp-content/uploads/2019/12/Summit-Esports-Logo-3-Final-1-e1576730839535.png
ORGANIZER;CN="Summit Esports":MAILTO:info@summitesports.ca
GEO:45.508987;-73.6113893
X-APPLE-STRUCTURED-LOCATION;VALUE=URI;X-ADDRESS=Athletics University De Montréal 2100 Edouard Montpetit Blvd Montreal Quebec H3T 1J4 Canada;X-APPLE-RADIUS=500;X-TITLE=2100 Edouard Montpetit Blvd:geo:-73.6113893,45.508987
END:VEVENT
BEGIN:VEVENT
DTSTART;TZID=America/New_York:20200418T100000
DTEND;TZID=America/New_York:20200419T230000
DTSTAMP:20260425T230932
CREATED:20200225T010648Z
LAST-MODIFIED:20200225T010925Z
UID:10000727-1587204000-1587337200@www.montrealgaming.com
SUMMARY:KEBEK rendez-vous eSports
DESCRIPTION:KEBEK rendez-vous eSports\nLa Baie de Beauport et la LHEQ s’associent pour présenter la première édition du KEBEK\, rendez-vous eSports dans le cadre de la Semaine NumériQC. Au programme\, plus de 12 tournois sur consoles et PC\, du jeux libres\, zone rétro\, animation et diffusion en direct sur Twitch. Plus de 350 places TOURNOI ouvertes et un total de 500 places VISITEURS disponibles à la Baie de Beauport dans la ville de Québec du 17 au 19 avril 2020 pour cette première édition du plus important rendez-vous eSports de l’Est de la Province! \n25$ pour participation à un tournoi (35$ à la porte)\n5$ pour entrée générale \nLiens pour achat de billets: https://lepointdevente.com/billets/kebek?fbclid=IwAR1W-bjw1dwmsOGLtA2Iaj23lWQzDE-l8Y9VWVTlxdR2Q8a0kS21tynpXiM \nBourses\n1. NHL 1v1 = 400$\n2\, NHL 2v2 = 400$\n3\, NHL 6v6 = 1000$\n4. Smash Ultimate 1v1 = 800$\n5. Smash Ultimate 2v2 = 250$\n6. Smash Mêlée 1v1 = 250$\n7. Rocket League 3v3 = 460$\n8. Rainbow Six 5v5 = 800$\n9. Overwatch 6v6 = 800$\n10. League of Legends 5v5 = 800$\n11. Street Fighter V 1v1 = 300$\n12. Tekken 7 1v1 = 100$\n13. Mortal Kombat 11 1v1 = 100$ \n 
URL:https://www.montrealgaming.com/lan-quebec/kebek-rendez-vous-esports/
LOCATION:Baie de Beauport\, 1 Boulevard Henri-Bourassa\, Quebec\, Quebec\, G1J 5L7\, Canada
CATEGORIES:League of Legends Event,Mortal Kombat Event,Multi-eSports-Event,NHL Event,Overwatch Event,Rainbow Six Event,Rocket League Event,Smash Bros Event,Street Fighter Event,Tekken Event
ATTACH;FMTTYPE=image/png:https://www.montrealgaming.com/wp-content/uploads/2020/02/KEBEK-TICKET.png
ORGANIZER;CN="KEBEK":MAILTO:philippe@lheqc.com
GEO:46.8374724;-71.1962517
X-APPLE-STRUCTURED-LOCATION;VALUE=URI;X-ADDRESS=Baie de Beauport 1 Boulevard Henri-Bourassa Quebec Quebec G1J 5L7 Canada;X-APPLE-RADIUS=500;X-TITLE=1 Boulevard Henri-Bourassa:geo:-71.1962517,46.8374724
END:VEVENT
BEGIN:VEVENT
DTSTART;TZID=America/New_York:20201219T140000
DTEND;TZID=America/New_York:20201227T180000
DTSTAMP:20260425T230932
CREATED:20201214T184402Z
LAST-MODIFIED:20201214T184402Z
UID:10000729-1608386400-1609092000@www.montrealgaming.com
SUMMARY:MGA Canada Dragon Cup 2020
DESCRIPTION:MGA Canada Dragon Cup\nMSI Dragon Cup is back and this year we will be hosting a 5vs5 Rainbow Six Siege online tournament. \nQualifier Rounds: Dec 19th\, Saturday at 2:00PM EST/ 11:00AM PST\nSemi Finals & Finals: Dec. 27th\, Sunday at 2:00PM EST/ 11:00AM PST \nOur current prize pool has reached up to $17k worth of grand prizes waiting for teams to fight through and win! There will be also activities for players and fans to participate in and win many giveaways. \nPlayers who signed up will automatically enter our MSI Dragon Cup raffle draw for a chance to win our MSI GeForce RTX3080 Gaming X TRIO 10GB! So don’t hesitate to team up with your friends and sign up now! (Join our Discord if you’re looking for a team: https://discord.gg/hBV2FtB9ZQ) \nFor our fans and viewers\, make sure to tune in to our live Twitch stream on Dec 19th and 27th\, where we will be announcing activities and guide you on how to win our giveaways. \nVisit our MSI Dragon Cup site now for more details on our winners’ Grand Prizes and viewers prizes (Terms and Conditions apply!)>\nhttps://ca.msi.com/Landing/MGA_DC2020 \nTag us with #MGADRAGONCUP2020
URL:https://www.montrealgaming.com/lan-quebec/mga-canada-dragon-cup-2020/
LOCATION:ONLINE\, 1 Côte de la Citadelle\, Québec City\, Quebec\, G1R 3R2\, Canada
CATEGORIES:Rainbow Six Event
ATTACH;FMTTYPE=image/jpeg:https://www.montrealgaming.com/wp-content/uploads/2020/12/MGA-Canada-Dracon-Cup.jpg
ORGANIZER;CN="Cyber Entertainment Agency":MAILTO:mathieu@cea-acd.com
GEO:46.8071979;-71.2081029
X-APPLE-STRUCTURED-LOCATION;VALUE=URI;X-ADDRESS=ONLINE 1 Côte de la Citadelle Québec City Quebec G1R 3R2 Canada;X-APPLE-RADIUS=500;X-TITLE=1 Côte de la Citadelle:geo:-71.2081029,46.8071979
END:VEVENT
BEGIN:VEVENT
DTSTART;TZID=America/New_York:20231006T160000
DTEND;TZID=America/New_York:20231008T233000
DTSTAMP:20260425T230932
CREATED:20230926T135535Z
LAST-MODIFIED:20230926T141612Z
UID:10000756-1696608000-1696807800@www.montrealgaming.com
SUMMARY:Lan JDL - Stream-O-Thon
DESCRIPTION:Lan JDL – Stream-O-Thon\nPlusieurs jeux participatifs sur place lors du week-end. \n  \nVoici quelques explications pour les jeux participatifs : \n\nL’inscription au jeu participatif se fera 30 minutes avant le début de celui-ci. Vous devrez confirmer votre nom de gamer et votre niveau au jeu allant de 1 à 5. Ainsi\, nous pourrons essayer de faire des équipes les plus équitables possible.\nÀ l’heure indiquée pour le jeu participatif\, vous devrez être dans le channel vocal sur le discord du LAN JDL et un membre du staff expliquera le fonctionnement des parties et du bracket.\nLorsque vous avez fini une partie\, veuillez écrire au membre du staff responsable du jeu participatif et attendez les indications pour la suite.\nAmusez-vous au max et que la meilleure équipe gagne!\n\n  \nVous pouvez voir les jeux ici -> https://www.lanjdl.ca/horaire-2023
URL:https://www.montrealgaming.com/lan-quebec/lan-jdl-stream-o-thon/
LOCATION:Centre Multifonctionnel\, 20 Rue Terry Fox\, Saint-Apollinaire\, Quebec\, G0S 2E0\, Canada
CATEGORIES:Call of Duty Event,League of Legends Event,Multi-eSports-Event,Rainbow Six Event,Rocket League Event,Smash Bros Event,Valorant Event
ATTACH;FMTTYPE=image/jpeg:https://www.montrealgaming.com/wp-content/uploads/2023/09/Avatar_-_JDL_2023_-_Depuis.jpg
ORGANIZER;CN="Lan JDL":MAILTO:rastakilla@lanjdl.ca
GEO:46.6105103;-71.5151792
X-APPLE-STRUCTURED-LOCATION;VALUE=URI;X-ADDRESS=Centre Multifonctionnel 20 Rue Terry Fox Saint-Apollinaire Quebec G0S 2E0 Canada;X-APPLE-RADIUS=500;X-TITLE=20 Rue Terry Fox:geo:-71.5151792,46.6105103
END:VEVENT
END:VCALENDAR