BEGIN:VCALENDAR
VERSION:2.0
PRODID:-//Montreal Gaming - Les esports au Qu&eacute;bec (Qc). - ECPv6.15.16//NONSGML v1.0//EN
CALSCALE:GREGORIAN
METHOD:PUBLISH
X-ORIGINAL-URL:https://www.montrealgaming.com
X-WR-CALDESC:Events for Montreal Gaming - Les esports au Qu&eacute;bec (Qc).
REFRESH-INTERVAL;VALUE=DURATION:PT1H
X-Robots-Tag:noindex
X-PUBLISHED-TTL:PT1H
BEGIN:VTIMEZONE
TZID:America/Halifax
BEGIN:DAYLIGHT
TZOFFSETFROM:-0400
TZOFFSETTO:-0300
TZNAME:ADT
DTSTART:20140309T060000
END:DAYLIGHT
BEGIN:STANDARD
TZOFFSETFROM:-0300
TZOFFSETTO:-0400
TZNAME:AST
DTSTART:20141102T050000
END:STANDARD
BEGIN:DAYLIGHT
TZOFFSETFROM:-0400
TZOFFSETTO:-0300
TZNAME:ADT
DTSTART:20150308T060000
END:DAYLIGHT
BEGIN:STANDARD
TZOFFSETFROM:-0300
TZOFFSETTO:-0400
TZNAME:AST
DTSTART:20151101T050000
END:STANDARD
BEGIN:DAYLIGHT
TZOFFSETFROM:-0400
TZOFFSETTO:-0300
TZNAME:ADT
DTSTART:20160313T060000
END:DAYLIGHT
BEGIN:STANDARD
TZOFFSETFROM:-0300
TZOFFSETTO:-0400
TZNAME:AST
DTSTART:20161106T050000
END:STANDARD
END:VTIMEZONE
BEGIN:VTIMEZONE
TZID:America/New_York
BEGIN:DAYLIGHT
TZOFFSETFROM:-0500
TZOFFSETTO:-0400
TZNAME:EDT
DTSTART:20130310T070000
END:DAYLIGHT
BEGIN:STANDARD
TZOFFSETFROM:-0400
TZOFFSETTO:-0500
TZNAME:EST
DTSTART:20131103T060000
END:STANDARD
BEGIN:DAYLIGHT
TZOFFSETFROM:-0500
TZOFFSETTO:-0400
TZNAME:EDT
DTSTART:20140309T070000
END:DAYLIGHT
BEGIN:STANDARD
TZOFFSETFROM:-0400
TZOFFSETTO:-0500
TZNAME:EST
DTSTART:20141102T060000
END:STANDARD
BEGIN:DAYLIGHT
TZOFFSETFROM:-0500
TZOFFSETTO:-0400
TZNAME:EDT
DTSTART:20150308T070000
END:DAYLIGHT
BEGIN:STANDARD
TZOFFSETFROM:-0400
TZOFFSETTO:-0500
TZNAME:EST
DTSTART:20151101T060000
END:STANDARD
BEGIN:DAYLIGHT
TZOFFSETFROM:-0500
TZOFFSETTO:-0400
TZNAME:EDT
DTSTART:20160313T070000
END:DAYLIGHT
BEGIN:STANDARD
TZOFFSETFROM:-0400
TZOFFSETTO:-0500
TZNAME:EST
DTSTART:20161106T060000
END:STANDARD
END:VTIMEZONE
BEGIN:VEVENT
DTSTART;TZID=America/Halifax:20150917T170000
DTEND;TZID=America/Halifax:20150917T170000
DTSTAMP:20260421T195248
CREATED:20150911T225454Z
LAST-MODIFIED:20150911T225629Z
UID:10000605-1442509200-1442509200@www.montrealgaming.com
SUMMARY:LAN at McGill by MeSA and CSUS
DESCRIPTION:LAN at McGill\nThis year McGill e-Sports and CSUS are bringing you bi-weekly LANs! \nBring your own computers and come meet other students who are passionate about League\, DOTA\, CS:GO\, Hearthstone\, Starcraft or any other game! \nInvite your buddies and see you there! \nNote: No food or drinks in the lab
URL:https://www.montrealgaming.com/lan-quebec/lan-at-mcgill-by-mesa-and-csus/
LOCATION:3630 University – Trottier Building\, Room 3090\, 3630 University\, Montreal\, Quebec\, Canada
CATEGORIES:Counter-Strike Event,DOTA Event,Hearthstone Event,League of Legends Event,Starcraft Event
ATTACH;FMTTYPE=image/jpeg:https://www.montrealgaming.com/wp-content/uploads/2015/09/facebook_event_1476845699283290.jpg
GEO:45.5074008;-73.579024
X-APPLE-STRUCTURED-LOCATION;VALUE=URI;X-ADDRESS=3630 University – Trottier Building Room 3090 3630 University Montreal Quebec Canada;X-APPLE-RADIUS=500;X-TITLE=3630 University:geo:-73.579024,45.5074008
END:VEVENT
BEGIN:VEVENT
DTSTART;TZID=America/Halifax:20150912T100000
DTEND;TZID=America/Halifax:20150913T180000
DTSTAMP:20260421T195248
CREATED:20150910T024206Z
LAST-MODIFIED:20150913T172858Z
UID:10000603-1442052000-1442167200@www.montrealgaming.com
SUMMARY:Gaming Expo de Sherbrooke
DESCRIPTION:Gaming Expo de Sherbrooke\nPlus de 200 joueurs de tous niveaux pourront participer à diverses compétitions pour remporter des prix en argent et en matériel dernier cri. #GES2015 \nLAN et PRIX: \n\nCounter-Strike : Global Offensive – $1800\nwww.twitch.tv/focus_esports\nHearthstone – $725\nwww.twitch.tv/h3lz_commander\nLeague of Legends – $2300\nwww.twitch.tv/focus_esports\nStarcraft II – $725\nwww.twitch.tv/kadiumlive\n\nhttp://www.facebook.com/DFGLAN\nhttp://www.sherbrookegamingexpo.ca/fr/lan-dfg/ \nhttp://www.sherbrookegamingexpo.ca\nhttp://www.facebook.com/GamingExpoSherbrooke\nhttp://www.twitter.com/GamingExpoSherb\nhttp://www.instagram.com/gamingexposherbrooke
URL:https://www.montrealgaming.com/lan-quebec/gaming-expo-de-sherbrooke/
LOCATION:Gaming Expo Sherbrooke\, 1600\, boul. du Plateau-St-Joseph\, Sherbrooke\, Quebec\, J1L 0C8\, Canada
CATEGORIES:Counter-Strike Event,Hearthstone Event,League of Legends Event,Multi-eSports-Event,Starcraft Event
ATTACH;FMTTYPE=image/jpeg:https://www.montrealgaming.com/wp-content/uploads/2015/09/facebook_event_458069877699579.jpg
GEO:45.4217161;-71.9631822
X-APPLE-STRUCTURED-LOCATION;VALUE=URI;X-ADDRESS=Gaming Expo Sherbrooke 1600 boul. du Plateau-St-Joseph Sherbrooke Quebec J1L 0C8 Canada;X-APPLE-RADIUS=500;X-TITLE=1600\, boul. du Plateau-St-Joseph:geo:-71.9631822,45.4217161
END:VEVENT
BEGIN:VEVENT
DTSTART;VALUE=DATE:20150306
DTEND;VALUE=DATE:20150309
DTSTAMP:20260421T195248
CREATED:20141122T051928Z
LAST-MODIFIED:20150211T013307Z
UID:10000585-1425600000-1425859199@www.montrealgaming.com
SUMMARY:LAN ETS 2015
DESCRIPTION:Street fighters 4 – $1000\nCounter-Strike: Global Offensive – $7000\nHearthstone – $1500\nStarcraft 2 – $3500\nDota 2 – $3500\nSuper Smash Bros. (Mellee & Project M) – $1250\nLeague of Legends – $10\,000\n\n\n  \nBourses monétaires pour les tournois officiels du Lan ETS 2015! // Cash prizes for official tournaments at Lan ETS 2015! \n\nFrançais\n\n \nNous sommes de retour encore une fois pour le Lan ETS 2015! C’est quoi le Lan ETS ? Tout simplement le plus gros LAN Party au Canada et une expérience unique pour les passionnés de jeux vidéo! \nVous serez plongé dans une ambiance de gaming pendant 48 heures : des milliers d’ordinateurs\, une connexion Internet de 5Gbps\, des tournois sur PC et console\, des activités\, des milliers de prix matériels et beaucoup de plaisir 🙂 \nPlusieurs détails à venir prochainement! Restez attentif 😉 \n\nEnglish\n\n \nWe are back again for Lan ETS 2015 ! What’s Lan ETS ? Simply the largest LAN Party event in Canada and an unique experience for all video game lovers! \nImmerse yourself in a gaming atmosphere for 48 hours : thousands of computers\, 5Gbps Internet connection\, PC and console tournaments\, great entertainment\, thousands of material prizes and lots of fun! \nMore details about the event soon! Stay tuned 😉 \n\n Info \nwww.lanets.ca\n1000+ seats\nBYOC (Bring Your Own Computer)\nMars 6-7-8 / March 6-7-8th\, 2015\nÉcole de technologie supérieure\, Montréal\, QC\, Canada \nCommanditaires / Sponsors\nÉTS – École de technologie supérieure\, Cisco\, Vidéotron\, MicroBytes HyperX Community\nPNY TechnologiesNVIDIA GeForceNVIDIAThermaltake Technology Inc InWin Development\nAstro Gaming MusiquePlus Fonds de développement durable de l’AÉÉTS Corsair Gaming Le Skyzo\nMSI Canada Gestion FÉRIQUE – Section étudiante AÉÉTS – Association étudiante de l’ÉTS\nTwitch Mtlsf No Scope Glasses \nPLUS À VENIR / MORE TO BE ADDED \nPrix/Prizes\n$29 000 en ARGENT/CASH\nDes tonnes de prix matériels / Tons of material prizes \nTournois/Tournaments \nPC\nLeague of Legends 5vs5\nCounter Strike : GO 5vs5\nDOTA 2 5vs5\nStarcraft 2 1vs1\nHearthstone 1vs1 \nConsole \nSuper Street Fighter IV Ultra\nSuper Smash Bros Melee + Project M \n 
URL:https://www.montrealgaming.com/lan-quebec/lan-ets-2015/
LOCATION:ETS – Pavillon A\, École de technologie supérieure\, 1100 Rue Notre-Dame Ouest\, Montréal\, Quebec\, H3C 1K3\, Canada
CATEGORIES:Counter-Strike Event,DOTA Event,Hearthstone Event,League of Legends Event,Multi-eSports-Event,Smash Bros Event,Starcraft Event,Street Fighter Event
ATTACH;FMTTYPE=image/jpeg:https://www.montrealgaming.com/wp-content/uploads/2014/11/LAN-ETS-2015-e1417338776762.jpg
ORGANIZER;CN="LAN ETS":MAILTO:contact@lanets.ca
GEO:45.4951636;-73.5628144
X-APPLE-STRUCTURED-LOCATION;VALUE=URI;X-ADDRESS=ETS – Pavillon A École de technologie supérieure 1100 Rue Notre-Dame Ouest Montréal Quebec H3C 1K3 Canada;X-APPLE-RADIUS=500;X-TITLE=1100 Rue Notre-Dame Ouest:geo:-73.5628144,45.4951636
END:VEVENT
BEGIN:VEVENT
DTSTART;VALUE=DATE:20141114
DTEND;VALUE=DATE:20141117
DTSTAMP:20260421T195248
CREATED:20140401T034138Z
LAST-MODIFIED:20140731T043836Z
UID:10000574-1415923200-1416182399@www.montrealgaming.com
SUMMARY:DreamLan 1ere édition
DESCRIPTION:Ordinateur : \nSmite ( 5 vs 5 ) \nLeague of Legends (5 vs 5 ) \nStarcraft II ( 1 vs 1 ) \nCounterstrike Global Offensive ( 5 vs 5 ) \nDOTA 2 (nouveau) ( 5 vs 5 ) \n  \nConsole :  \nNHL (1v1) \nCall of Duty: Ghosts (4v4) \n  \nBYOC: 49.99$\nConsole: 29.99$ \nLe DreamLan est un organisme à but non lucratif qui se donne pour objectif de créer des Lan Partys dans le but de réunir les communautés de « Gamers » de tous niveaux. Que vous soyez un maniaque de jeux PC en équipe\, un simple geek\, un fan de jeux de consoles actuelles ou rétro\, nous nous faisons un devoir de vous offrir le week-end d’une vie cette année au Centre Pierre Charbonneau. Nous désirons profiter de l’évènement pour faire sortir de l’isolement plusieurs joueurs qui s’y confinent. Le DreamLan tend à s’impliquer dans le milieu vidéoludique sans ménager ses efforts dans son désir d’enrayer le fléau social qu’est le suicide. Pour faire honneur à notre mission nos profits iront à l’Assocation Québécoise de Prévention du Suicide. Game on! \nFacebook: DreamLAN\nTwitter: DreamLAN
URL:https://www.montrealgaming.com/lan-quebec/dreamlan-1ere-edition/
LOCATION:Centre Pierre-Charbonneau\, 3000\, rue Viau\, Montreal\, Quebec\, H1V 3J3\, Canada
CATEGORIES:Call of Duty Event,Counter-Strike Event,DOTA Event,League of Legends Event,Multi-eSports-Event,NHL Event,Starcraft Event
ATTACH;FMTTYPE=image/jpeg:https://www.montrealgaming.com/wp-content/uploads/2014/03/10505147_249018378627840_9072672201383756254_o.jpg
GEO:45.562381;-73.550291
X-APPLE-STRUCTURED-LOCATION;VALUE=URI;X-ADDRESS=Centre Pierre-Charbonneau 3000 rue Viau Montreal Quebec H1V 3J3 Canada;X-APPLE-RADIUS=500;X-TITLE=3000\, rue Viau:geo:-73.550291,45.562381
END:VEVENT
BEGIN:VEVENT
DTSTART;VALUE=DATE:20140510
DTEND;VALUE=DATE:20140511
DTSTAMP:20260421T195248
CREATED:20140402T160027Z
LAST-MODIFIED:20140501T160438Z
UID:10000576-1399680000-1399766399@www.montrealgaming.com
SUMMARY:DUEL LAN - 10 Mai
DESCRIPTION:***TOURNOI BYOC (AMENEZ VOTRE ORDINATEUR)***\n***PRÉVOYEZ DES POWERBARS – MINIMUM 2 PAR ÉQUIPE\n***TOUS LES INFO SUR LE TOURNOI DISPONIBLE ICI: http://duelgamerchallenge.weebly.com/eacuteveacutenements.html \nDUEL LEAGUE OF LEGENDS- 5V5 SUMMONERS RIFT\nDUEL STARCRAFT II- 1V1 \nPrix d’inscription League Of Legends: 100$ / équipe**\nPrix d’inscription S2 : 25$ \nLes prix LOL :\n1ère -600$/equipe+3200 RP+skin Ryse Triumphant / joueur\n2ème -250$/équipe+2400 RP / joueur\n3ème -100$/équipe+1600 RP / joueur\n4ème -50$/équipe+800 RP / joueur \nLes Prix Starcraft 2\n50% des inscriptions seront remis en bourse\n \n  \nN’oubliez pas de vous amenez au minimum 2 powerbars par équipe (10 prises électrique soit 2 par joueur). Nous fournissons le filage internet\, les commutateurs (switchs) et les routeurs. \n***TOUS LES INFOS ET RÈGLEMENT SUR LA PAGE FACEBOOK DE DUEL GAMER CHALLENGES\nhttps://www.facebook.com/events/821210074560582/
URL:https://www.montrealgaming.com/lan-quebec/duel-lan-10-mai/
LOCATION:Faculté de génie\, 	 Hide Map Faculté de génie 2500\, boul. de l'Université\, Sherbrooke\, Quebec\, J1K 2R1\, Canada
CATEGORIES:League of Legends Event,Multi-eSports-Event,Smash Bros Event,Starcraft Event
ATTACH;FMTTYPE=image/png:https://www.montrealgaming.com/wp-content/uploads/2014/03/logo.png
ORGANIZER;CN="DUEL GAMER CHALLENGE":MAILTO:DUELGC.INFO@GMAIL.COM
GEO:45.3781125;-71.9252185
X-APPLE-STRUCTURED-LOCATION;VALUE=URI;X-ADDRESS=Faculté de génie 	 Hide Map Faculté de génie 2500 boul. de l'Université Sherbrooke Quebec J1K 2R1 Canada;X-APPLE-RADIUS=500;X-TITLE=Hide Map Faculté de génie 2500\, boul. de l'Université:geo:-71.9252185,45.3781125
END:VEVENT
BEGIN:VEVENT
DTSTART;TZID=America/New_York:20140329T100000
DTEND;TZID=America/New_York:20140330T170000
DTSTAMP:20260421T195248
CREATED:20140325T160751Z
LAST-MODIFIED:20140325T162722Z
UID:10000573-1396087200-1396198800@www.montrealgaming.com
SUMMARY:WonderLAN à l'UQAC
DESCRIPTION:Salut tout le monde! \nC’est en fin de semaine que se déroule le WonderLAN d’hiver a l’UQAC\, l’université du Québec à Chicoutimi! \n\nC’est où? À l’UQAC\nC’est combien? 30$ en prévente avec souper et déjeuner inclut! Le prix est le même a la porte\, mais sans les repas.\nCombien de temps? Samedi et Dimanche! Les deux jours!\nQuels jeux? Il y aura des tournois de SC2 HOTS\, LoL\, DOTA2\, Super Smash Bros Brawl!\nIl y aura aussi des places libre pour du Freeplay de divers jeux\nQu’est-ce que j’apporte? Votre matos de gamer\, la liste complète peut être trouvée dans la FAQ\nVous avez jusqu’a demain (le 26) pour vous inscrire! Après ca ce ne sera que pour du FreePlay\n\nPour plus d’informations\, dirigez-vous vers leur site web: http://wonderlan.aemi.ca/ \nSi vous y allez\, laisser nous savoir comment c’était et votre ranking! \nGame on! \n-Radhamante
URL:https://www.montrealgaming.com/lan-quebec/wonderlan-a-luqac/
LOCATION:Université du Québec à Chicoutimi\, 555 Boulevard Université\, Chicoutimi\, Québec\, G7H 2B1\, Canada
CATEGORIES:League of Legends Event,Multi-eSports-Event,Starcraft Event
ATTACH;FMTTYPE=image/jpeg:https://www.montrealgaming.com/wp-content/uploads/2014/03/WonderLAN.jpg
GEO:48.4199;-71.0521877
X-APPLE-STRUCTURED-LOCATION;VALUE=URI;X-ADDRESS=Université du Québec à Chicoutimi 555 Boulevard Université Chicoutimi Québec G7H 2B1 Canada;X-APPLE-RADIUS=500;X-TITLE=555 Boulevard Université:geo:-71.0521877,48.4199
END:VEVENT
END:VCALENDAR