BEGIN:VCALENDAR
VERSION:2.0
PRODID:-//Montreal Gaming - Les esports au Qu&eacute;bec (Qc). - ECPv6.15.16//NONSGML v1.0//EN
CALSCALE:GREGORIAN
METHOD:PUBLISH
X-ORIGINAL-URL:https://www.montrealgaming.com
X-WR-CALDESC:Events for Montreal Gaming - Les esports au Qu&eacute;bec (Qc).
REFRESH-INTERVAL;VALUE=DURATION:PT1H
X-Robots-Tag:noindex
X-PUBLISHED-TTL:PT1H
BEGIN:VTIMEZONE
TZID:America/Halifax
BEGIN:DAYLIGHT
TZOFFSETFROM:-0400
TZOFFSETTO:-0300
TZNAME:ADT
DTSTART:20150308T060000
END:DAYLIGHT
BEGIN:STANDARD
TZOFFSETFROM:-0300
TZOFFSETTO:-0400
TZNAME:AST
DTSTART:20151101T050000
END:STANDARD
BEGIN:DAYLIGHT
TZOFFSETFROM:-0400
TZOFFSETTO:-0300
TZNAME:ADT
DTSTART:20160313T060000
END:DAYLIGHT
BEGIN:STANDARD
TZOFFSETFROM:-0300
TZOFFSETTO:-0400
TZNAME:AST
DTSTART:20161106T050000
END:STANDARD
BEGIN:DAYLIGHT
TZOFFSETFROM:-0400
TZOFFSETTO:-0300
TZNAME:ADT
DTSTART:20170312T060000
END:DAYLIGHT
BEGIN:STANDARD
TZOFFSETFROM:-0300
TZOFFSETTO:-0400
TZNAME:AST
DTSTART:20171105T050000
END:STANDARD
END:VTIMEZONE
BEGIN:VTIMEZONE
TZID:America/New_York
BEGIN:DAYLIGHT
TZOFFSETFROM:-0500
TZOFFSETTO:-0400
TZNAME:EDT
DTSTART:20210314T070000
END:DAYLIGHT
BEGIN:STANDARD
TZOFFSETFROM:-0400
TZOFFSETTO:-0500
TZNAME:EST
DTSTART:20211107T060000
END:STANDARD
BEGIN:DAYLIGHT
TZOFFSETFROM:-0500
TZOFFSETTO:-0400
TZNAME:EDT
DTSTART:20220313T070000
END:DAYLIGHT
BEGIN:STANDARD
TZOFFSETFROM:-0400
TZOFFSETTO:-0500
TZNAME:EST
DTSTART:20221106T060000
END:STANDARD
BEGIN:DAYLIGHT
TZOFFSETFROM:-0500
TZOFFSETTO:-0400
TZNAME:EDT
DTSTART:20230312T070000
END:DAYLIGHT
BEGIN:STANDARD
TZOFFSETFROM:-0400
TZOFFSETTO:-0500
TZNAME:EST
DTSTART:20231105T060000
END:STANDARD
END:VTIMEZONE
BEGIN:VEVENT
DTSTART;VALUE=DATE:20160812
DTEND;VALUE=DATE:20160815
DTSTAMP:20260421T061320
CREATED:20160407T031048Z
LAST-MODIFIED:20160805T002126Z
UID:10000670-1470960000-1471219199@www.montrealgaming.com
SUMMARY:DreamHack Montreal 2016
DESCRIPTION:Français\n\n \nDreamHack Montreal 2016\nPour la première année \, l’événement aura lieu à la Place Bonaventure\, et DreamHack aura pour objectif de poursuivre une tradition annuelle avec DreamHack Montréal 2016. En explorant différents endroits pour poursuivre l’expansion en Amérique du Nord\, Montréal est devenu un choix évident. En raison de la grande communauté de jeux vidéo et la grande culture des Lan party à Montréal\, et dans l’ensemble du Canada\, qui est un marché d’esports chroniquement sous-desservis. \nDreamHack Montréal mettra en vedette au moins deux grands tournois d’esports internationaux\, ainsi que des activités pour les visiteurs à travers tous les titres\, dans les jeux de combat\, jeux PC et jeux sur console. Parallèlement à cela\, il y aura bien évidemment la partie BYOC\, Cosplay et encore plus. Tous les participants sont encouragés à aider et se joindre à l’équipe de bénévoles pour aider à façonner DreamHack Montréal! \nBillets BYOC\n\nBillets BYOC – 100$ CAD + Taxes + Frais\nVIP BYOC LAN / Billets Fondateurs – 450$ CAD + Taxes + Frais\n\nBILLETS VISITEURS\n\nBillet Visiteurs 3 jours – 50$ CAD + Taxes + Frais\nBillets Visiteurs VIP 3 jours – 250$ CAD + Taxes + Frais\nBillet visiteur 1 jour: vendredi – 25$ CAD + Taxes + Frais\nBillet visiteur 1 jour: Samedi – 30$ CAD + Taxes + Frais\nBillet visiteur 1 jour: Dimanche – 30$ CAD + Taxes + Frais\n\nTOURNOI BYOC\n\nCounter-Strike: Global Offensive – $15\,000\nLeague of Legends – $15\,000\nHearthstone – $6\,000\nStarcraft 2 – $3\,000\nRocket League – $4\,000\nOverwatch – $6\,000\nSuper Smash Bros. Melee – $4\,000\nStreet Fighter 5 – $2\,000\n\n \nBILLETS EN VENTE ICI !!!\n\n\n  \nZONE ESPORT\n\nLa zone esports de DreamHack Montréal vous offre la chance de compétitionner dans les meilleurs jeux du moment.\nLes fans seront en mesure de regarder les tournois en direct\, en ligne\, et rencontrer leurs gamers préférés sur place\, assurez-vous donc de vous diriger vers la zone esport! \n \n\n\nStarcraft 2 – $150\,000\nLe Championnat WCS d’été\n\nPlus de détails seront dévoilés pour les tournois esports dont les bourses\, les formats\, et plus encore à l’approche de DreamHack Montréal! \n\nEnglish\n\n \nDreamHack Montreal 2016\nThe event will be hosted at Place Bonaventure for the first year\, and DreamHack will aim to continue with an annual tradition starting with DreamHack Montreal 2016. When exploring different locations to continue expansion in North America\, Montreal became a very obvious choice\, due to both the proven gaming and LAN party culture in the city\, but also the entire country of Canada\, which is a chronically under-served esports market. \nDreamHack Montreal will feature at least two major international esports tournaments\, as well as activities for visitors across all titles in fighting games\, PC games and console games. Alongside this there will the obvious BYOC LAN party for visitors to take in\, Cosplay contents and more. All attendees are encouraged to help get involved and join the volunteer crew to help shape DreamHack Montreal to be what the visitors want it to be! \nBYOC LAN SEAT TICKETS\n\nBYOC LAN Pass – 100$ CAD + Taxes + Fees\nBYOC LAN VIP/Founders Pass- 450$ CAD + Taxes + Fees\n\nVISITOR PASSES\n\n3-day Visitor Pass – 50$ CAD + Taxes + Fees\n3-day DreamHack VIP/Founder Visitor Pass – 250$ CAD + Taxes + Fees\n1-day Visitor Pass: Friday – 25$ CAD + Taxes + Fees\n1-day Visitor Pass: Saturday – 30$ CAD + Taxes + Fees\n1-day Visitor Pass: Sunday – 30$ CAD + Taxes + Fees\n\nBYOC TOURNAMENTS\n\nCounter-Strike: Global Offensive – $15\,000\nLeague of Legends – $15\,000\nHearthstone – $6\,000\nStarcraft 2 – $3\,000\nRocket League – $4\,000\nOverwatch – $6\,000\nSuper Smash Bros. Melee – $4\,000\nStreet Fighter 5 – $2\,000\n\n \nTICKETS AVAILABLE HERE!\n\n  \nESPORTS AREA\n\nThe esports area of DreamHack Montreal will offer you the chance to compete in the best game of the moment.\nFans will be able to watch the tournaments live\, online\, meet their favourite progamers and esports personalities onsite\, so be sure to head to the esport area! \n \n\n\nStarcraft 2 – $150\,000\nWCS Circuit Summer Championship\n\n\n\n\nMore details will be revealed for all esports tournaments including the prize pools\, formats\, and more as DreamHack Montreal draws closer! \n\n\n\n\n 
URL:https://www.montrealgaming.com/lan-quebec/dreamhack-montreal-2016/
LOCATION:Place Bonaventure\, 800\, De La Gauchetière Ouest\, Montreal\, QC\, H5A 1K6\, Canada
CATEGORIES:Counter-Strike Event,Hearthstone Event,League of Legends Event,Multi-eSports-Event,Overwatch Event,Rocket League Event,Smash Bros Event,Starcraft Event,Street Fighter Event
ATTACH;FMTTYPE=image/jpeg:https://www.montrealgaming.com/wp-content/uploads/2016/04/facebook_event_790900851043720.jpg
GEO:45.4999204;-73.5654861
X-APPLE-STRUCTURED-LOCATION;VALUE=URI;X-ADDRESS=Place Bonaventure 800 De La Gauchetière Ouest Montreal QC H5A 1K6 Canada;X-APPLE-RADIUS=500;X-TITLE=800\, De La Gauchetière Ouest:geo:-73.5654861,45.4999204
END:VEVENT
BEGIN:VEVENT
DTSTART;TZID=America/New_York:20220220T180000
DTEND;TZID=America/New_York:20220220T230000
DTSTAMP:20260421T061320
CREATED:20220131T161611Z
LAST-MODIFIED:20220218T153716Z
UID:10000748-1645380000-1645398000@www.montrealgaming.com
SUMMARY:Montreal Gaming: Winter Forge
DESCRIPTION:  \n\n﻿﻿ \n \n\n \nPlacement and Prize Payout:\n\n\n\n1st | 50% + First place medal\n2nd | 25% + Second place medal\n3rd | 15% + Third place medal\n4th | 10%\n\n$ Prize pool distribution is subject to change based on participation. \n\n\n  \n\n \n\nClick here to see the tournament Rules and Regulations: \n\n\n\n\n\nPlus / More: ”Rules”\nSelectShow\n\n\n \nPlacement and Prize Payout: \n\n1st | 50% + First place medal\n2nd | 25% + Second place medal\n3rd | 15% + Third place medal\n4th | 10%\n\n$ Prize pool distribution is subject to change based on participation. \nThis Tournament will be taking place Online!\nRegistration will be open to anyone in Canada and the United States of America.\nAny dispute over connection issues will be resolved with a lag test at the discretion of the Tournament Organisers.\nLag testing MUST be either requested before a set or in-between matches\, but never midgame. \n**Set up your battle arena with the following rules:** \n**Arena Rules** \nRequired: Enable a password \nType: Any \nVisibility: Public \nFormat: 1-on-1 \nArena Rules: More Settings \nMax players: 3 (just in case we need a streamer to join the lobby) \nStage: Choice \nAmiibo: OFF \nSpirits: OFF \nRuleset Settings \nStyle: Stock \nStock: 3 \nTime Limit: 7:00 \nFS Meter: Off \nDamage Handicap: Off \nItems: Off \n(Advanced) Stage Hazards: Off \n(Advanced) Launch Rate: 1.0x \n(Advanced) Score Display: Off \n(Advanced) Show Damage: Yes \nBracket Rules:\n– All sets before Top 8 are “Best of 3”\n– All Top 8 sets are “Best of 5”\n– Double Elimination\n– Winner bans two stages\, loser picks from the remaining five; NO DSR\n– 7-minute DQ timer for all matches\n– There should not be more than two (2) players in the battle arena unless you are on stream or if a T.O. is present. Only pre-approved T.O.’s and streamers may join the spectator stands.\n– Rude or offensive speech/behavior will not be tolerated and will result in immediate disqualification \n\n\n\n\n\n \n\n\n \n  \n\n 
URL:https://www.montrealgaming.com/lan-quebec/winter-forge-2022/
LOCATION:ONLINE\, 1 Côte de la Citadelle\, Québec City\, Quebec\, G1R 3R2\, Canada
CATEGORIES:Smash Bros Event
ATTACH;FMTTYPE=image/png:https://www.montrealgaming.com/wp-content/uploads/2022/01/LOGO_PNG.png
ORGANIZER;CN="Montreal Gaming":MAILTO:Info@MontrealGaming.com
GEO:46.8071979;-71.2081029
X-APPLE-STRUCTURED-LOCATION;VALUE=URI;X-ADDRESS=ONLINE 1 Côte de la Citadelle Québec City Quebec G1R 3R2 Canada;X-APPLE-RADIUS=500;X-TITLE=1 Côte de la Citadelle:geo:-71.2081029,46.8071979
END:VEVENT
END:VCALENDAR