BEGIN:VCALENDAR
VERSION:2.0
PRODID:-//Montreal Gaming - Les esports au Qu&eacute;bec (Qc). - ECPv6.15.16//NONSGML v1.0//EN
CALSCALE:GREGORIAN
METHOD:PUBLISH
X-ORIGINAL-URL:https://www.montrealgaming.com
X-WR-CALDESC:Events for Montreal Gaming - Les esports au Qu&eacute;bec (Qc).
REFRESH-INTERVAL;VALUE=DURATION:PT1H
X-Robots-Tag:noindex
X-PUBLISHED-TTL:PT1H
BEGIN:VTIMEZONE
TZID:America/New_York
BEGIN:DAYLIGHT
TZOFFSETFROM:-0500
TZOFFSETTO:-0400
TZNAME:EDT
DTSTART:20140309T070000
END:DAYLIGHT
BEGIN:STANDARD
TZOFFSETFROM:-0400
TZOFFSETTO:-0500
TZNAME:EST
DTSTART:20141102T060000
END:STANDARD
BEGIN:DAYLIGHT
TZOFFSETFROM:-0500
TZOFFSETTO:-0400
TZNAME:EDT
DTSTART:20150308T070000
END:DAYLIGHT
BEGIN:STANDARD
TZOFFSETFROM:-0400
TZOFFSETTO:-0500
TZNAME:EST
DTSTART:20151101T060000
END:STANDARD
BEGIN:DAYLIGHT
TZOFFSETFROM:-0500
TZOFFSETTO:-0400
TZNAME:EDT
DTSTART:20160313T070000
END:DAYLIGHT
BEGIN:STANDARD
TZOFFSETFROM:-0400
TZOFFSETTO:-0500
TZNAME:EST
DTSTART:20161106T060000
END:STANDARD
END:VTIMEZONE
BEGIN:VTIMEZONE
TZID:America/New_York
BEGIN:DAYLIGHT
TZOFFSETFROM:-0500
TZOFFSETTO:-0400
TZNAME:EDT
DTSTART:20140309T070000
END:DAYLIGHT
BEGIN:STANDARD
TZOFFSETFROM:-0400
TZOFFSETTO:-0500
TZNAME:EST
DTSTART:20141102T060000
END:STANDARD
BEGIN:DAYLIGHT
TZOFFSETFROM:-0500
TZOFFSETTO:-0400
TZNAME:EDT
DTSTART:20150308T070000
END:DAYLIGHT
BEGIN:STANDARD
TZOFFSETFROM:-0400
TZOFFSETTO:-0500
TZNAME:EST
DTSTART:20151101T060000
END:STANDARD
BEGIN:DAYLIGHT
TZOFFSETFROM:-0500
TZOFFSETTO:-0400
TZNAME:EDT
DTSTART:20160313T070000
END:DAYLIGHT
BEGIN:STANDARD
TZOFFSETFROM:-0400
TZOFFSETTO:-0500
TZNAME:EST
DTSTART:20161106T060000
END:STANDARD
BEGIN:DAYLIGHT
TZOFFSETFROM:-0500
TZOFFSETTO:-0400
TZNAME:EDT
DTSTART:20170312T070000
END:DAYLIGHT
BEGIN:STANDARD
TZOFFSETFROM:-0400
TZOFFSETTO:-0500
TZNAME:EST
DTSTART:20171105T060000
END:STANDARD
END:VTIMEZONE
BEGIN:VEVENT
DTSTART;TZID=America/New_York:20150221T090000
DTEND;TZID=America/New_York:20150221T220000
DTSTAMP:20260421T170804
CREATED:20150213T223055Z
LAST-MODIFIED:20150213T215236Z
UID:10000591-1424509200-1424556000@www.montrealgaming.com
SUMMARY:Concordia City Heroes 2015
DESCRIPTION:Français\n\nCesa Concordia hostons leur premier LAN League of Legends de l’année le SAMEDI 21 FEVRIER 2015.\nLe tournoi est ouvert a tous. \nSalle H763\, H765\, H767 du Batiment HALL\, 7141 Sherbrooke St W\, Montreal\, QC H4B 1R6 a 10:00 AM \nVous devez fournir votre propre materiel. Si vous souhaitez apporter votre ordi de bureau vous devez apporter un moniteur aussi. \n  Regles et Structure du Tournoi\n Le tournoi sera DOUBLE ELIMINATION avec 16 equipes participant. \nLe format sera clarifie dans les jours prochains concernant le format…veilliez suivre svp. \nPour toute autre question referer a: http://cdn.leagueoflegends.com/prized-events/Tournament+Rules+Beta.pdf \nEnregistrer\n Montant: Ca sera 10$ par joueur donc 50$. Si vous anticipez utiliser un substitut\, vous devez fournir le montant requis aussi. \nPour enregistrer:\nEnregistration ouvre: VENDREDI 23 JANVIER 2015\nEnregistration ferme: JEUDI 19 FEVRIER 2015 \nEnregistrement d’equipe:\nhttp://goo.gl/forms/LaQ0eeqvqf \nSi le tournoi est complet et vous souhaitez enrigstrer\, veuillez contacter “esports@concordia.ca” et ecreivez votre NOM d’EQUIPE et NOMS DES JOUEURS. Si un place s’ouvre nous ayons contactez la premiere equipe sur la liste d’attente et ainsi de suite. \n1. Veuillez SVP payer et enregistrer avant la fin de l’enregistrement afin que nous pouvons guarantir votre place.\n2. Payment va etre pour le moment en personne. Nous allons poster dans les jours suivant s’il y a un changement. Pour le moment si vous desirer payez en ligne contectez “esports@concordia.ca” et nous fournirons plus de details.\nPour payer en personne\, les jours de rencontrement vont etre: \n\nJEUDI 5 FEVRIER de 1:00 a 2:45 PM.\nJEUDI 12 FEVRIER de 1:00 a 2:45 PM.\nJEUDI 19 FEVRIER(limite) de 1:00 a 2:45 PM.\n\n\nNous allons poster quand nous serons presents. Encore\, si aucun de ces dates vous convient veuiller nous contactez par email a “esports@concordia.ca” et une autre date pourra etre creee. \n Numeros de contact (au cas ou):\n514-318-0205 (Yilong Sun – President)\n514-823-1730 (Alessandro Chiari – VP Evenements)\n514-701-0264 (Dimitri Kontogiannos – VP Finance & Media Sociale) \n3. SVP enregistrer par equipe seulement\, pas de joueurs libres. Si vous cherchez une equipe veuiller regarder le mur de la page\, il ya toujours des equipe qui recrutent des bons joueurs! \n PRIX:\n 1er: $300 (a etre divise entre l’equipe)\n2eme: $200 (a etre divise entre l’equipe)\n3eme: $100 (a etre divise entre l’equipe)\n4eme: $50 (a etre divise entre l’equipe)\n \nNous allons aussi avoir des petits objets a distribuer (lanieres\, wristbands…) \nVeuillez noter que le prix d’enrigistrement sera mis vers vers les prix des gangnants. \n=============================\nS’il y a un changement\, le mot final appartient a CESA. \n\nEnglish\n\nCesa Concordia is hosting their first League of Legends LAN of the new year on SATURDAY FEBRUARY 21 2015\nThe tournament is open to all \nRoom H763\, H765\, H767 HALL BUILDING 7141 Sherbrooke St W\, Montreal\, QC H4B 1R6 at 9 AM \nBRING YOUR OWN COMPUTER: If you bring your desktop you must also supply your own monitor. Laptops work equally as well. \nTournament rules and structure\nRiot tournament structure: http://cdn.leagueoflegends.com/prized-events/Tournament+Rules+Beta.pdf \nTournament will be DOUBLE ELIMINATION with 16 TEAMS PARTICIPATING. \n Registration\nFee: 10$ per player or 50$ per team. (If you have substitute player you must pay for extra\, but only 5 players can play at the same time) \nSteps to register:\nRegistration opens: FRIDAY\, JANUARY 23\, 2015\nRegistration closes: WEDNESDAY\, FEBRUARY 18\, 2015 \nIf slots are filled before you can register\, please contact “esports@concordia.ca” and leave your TEAM NAME and PLAYER NAMES. If any slots open up prior to the event\, teams will be contacted in order of PRIORITY. \n1. You must pay & register before the deadline so we can guarantee your spot in the tournament.\n2. Payment will be in person. If you can not meet us in person\, please contact “esports@concordia.ca” and we will arrange an alternative for you.\nMeet us at Hall mezzanine tables (Second floor\, Hall Building of Concordia\, 7141 Sherbrooke St W\, Montreal\, QC H4B 1R6) \n\nTHURSDAY JANUARY 29 from: 1:00 to 2:45 PM.\nTHURSDAY FEBRUARY 5 from: 1:00 to 2:45 PM.\nTHURSDAY FEBRUARY 12 from: 1:00 to 2:45 PM.\nTHURSDAY FEBRUARY 19 from: 1:00 to 2:45 PM.\n\nWe will update when we will be present there on the CESA Facebook page. \nIf unable to be there any of those days\, once again please contact “esports@concordia.ca” and alternative arrangements will be made. \nContact Number:\n514-318-0205 (Yilong Sun – President)\n514-823-1730 (Alessandro Chiari – VP Events)\n514-701-0264 (Dimitri Kontogiannos – VP Finance & Social Media – if neither of the latter are available) \n3. You can register as a TEAM only\, no single players. \nTeam registration link:\nhttp://goo.gl/forms/LaQ0eeqvqf \n PRIZE POOL:\n1st: $300 (to be split among the team)\n2nd: $200 (to be split among the team)\n3rd: $100 (to be split among the team)\n4th: $50 (to be split among the team) \nThere will also be small giveaways during the event (lanyards\, wristbands…more stuff tbd…) \nIf there is any change of the event\, the final explanation belongs to CESA
URL:https://www.montrealgaming.com/lan-quebec/concordia-city-heroes-2015/
LOCATION:Concordia Loyola Campus\, 7141 Sherbrooke Street West\, Montreal\, Quebec\, H4B 1R6\, Canada
CATEGORIES:League of Legends Event
ATTACH;FMTTYPE=image/png:https://www.montrealgaming.com/wp-content/uploads/2015/01/10414880_581348355332754_2950670792902514200_n1.png
ORGANIZER;CN="CESA Concordia":MAILTO:esports@concordia.ca
GEO:45.4581513;-73.6401159
X-APPLE-STRUCTURED-LOCATION;VALUE=URI;X-ADDRESS=Concordia Loyola Campus 7141 Sherbrooke Street West Montreal Quebec H4B 1R6 Canada;X-APPLE-RADIUS=500;X-TITLE=7141 Sherbrooke Street West:geo:-73.6401159,45.4581513
END:VEVENT
BEGIN:VEVENT
DTSTART;TZID=America/New_York:20151128T093000
DTEND;TZID=America/New_York:20151129T210000
DTSTAMP:20260421T170804
CREATED:20151028T204119Z
LAST-MODIFIED:20151028T205035Z
UID:10000666-1448703000-1448830800@www.montrealgaming.com
SUMMARY:Smash INTENSIFIES 2
DESCRIPTION:Smash INTENSIFIES 2\n[64\, PM\, MELEE AND SMASH 4]\nREGISTRATION OPEN AT\n smash.gg/si2 \nWith support from CESA (Concordia E-Sport Association)\, SSBMontreal presents a competitive tournament scene and social experience that will allow players to meet head to head. Join us and play with a wide range of players and skill levels in an offline environment. \nThis time\, the event will be a 2 day tournament happening at Concordia University. Featuring all 4 Smash games played in Montreal’s competitive Smash community\, come join our fiercest competitors once again. \nThis year\, we will be featuring 64\, PM\, Melee and Smash 4 and Doubles tournament for Smash 4 and Melee. \nGrab your controller and game pads and let the Smashing Intensify! \n——————————————————————————- \nDate:\nNovember 28th and 29th\, 2015: 9:30 am – 9 pm \nLocation:\nConcordia University H Building\, 7th Floor – CSU Lounge\n1455 Boulevard de Maisonneuve O\, Montréal\, Québec\nH3G 1M8 \nDRUGS AND ALCOHOL ARE ENTIRELY FORBIDDEN \nStreams:\nhttp://www.twitch.tv/ssbmontreal\nhttp://www.twitch.tv/mtlfgc \nStream Schedule:\nTo be Announced \n——————————————————————————- \nREGISTRATION \nPre-Registration Available at SmashLoft and at smash.gg/si2\nRegistration on site will NOT be available.\nEvery player is limited to enter max 2 different games and 3 different events. \nVenue Fee – 20$\nSmash 64 Singles – 10$\nMelee Singles – 10$\nMelee Doubles – 10$ ea\nProject M 3.6 Singles – 10$\nSmash 4 Singles – 10$\nSmash 4 Doubles – 10$ ea \nCURRENT STRETCH GOALS \nFor every 128 unique entrants : 350$ added for Smash 4\, 350$ for Melee\, 150$ for PM and 75$ for Smash 64\n392+ entrants : We break the biggest Canadian tournament ever\, pot bonuses for all games increased (amount TBA) and SSBMTL Kyle will compete and TO the tournament dressed as Peach. \nBRING YOUR OWN CONTROLLER \nThere will be no spare controllers available for rent or borrowing. As per usual\, bringing your own is the tournament standard. \nBRING SETUPS (TV AND CONSOLES) \n  \nPAYOUTS \n\n\n\n\nPlus / More\nSelectShow\n\n\n64 Formula\n1st : 40%\n2nd : 25%\n3rd : 15%\n4th : 10%\n5th tie : 5% ea \nProject M\, Melee and Smash 4 formula\nTop 8 Payout\n1st : 40%\n2nd : 20%\n3rd : 15%\n4th : 10%\n5th tie : 5% ea\n7th tie : 2.5% ea\n\n\n\n\n  \nAttempted Schedule:\nVenue and check-in opens @ 9:30am \n\n\n\n\nPlus / More\nSelectShow\n\n\n*Players that register for at least 2 events will be scheduled for different waves*\n*Cross Registration between Melee and Smash 4 will NOT be allowed.*\n*Max 3 events and 2 different games per attendee* \nSaturday\, November 28th \nMELEE & SMASH 4\n9:30 – Doors are open and check in is available\n11:00 – Wave 1 of Melee and Smash 4 Pools + Doubles Bracket Pool for Melee and Smash 4\n12:30 – Wave 2 of Melee and Smash 4 Pools + Doubles Bracket Pool for Melee and Smash 4\n14:00 – Wave 3 of Melee and Smash 4 Pools – TOP 8 DOUBLES\n15:30 – Wave 4 of Melee and Smash 4 Pools – TOP 8 DOUBLES\n17:00 – Intermission\n18:00~20:00 – Round 2 of Pools for Melee and Smash 4 \nSunday\, November 29th \nOn Day 2\, recording setups and warm up stations will be available for Melee and Smash 4.\nPlayers that are playing Top32 in any game and joining 64 or PM should expect play both brackets without any pause or problem. Any minor delay will result in a double DQ from both Brackets. \nPROJECT M TOURNAMENT SCHEDULE\n11:00 – Wave 1 PM Pools\n12:30 – Wave 2 PM Pools\n14:00 – TOP 32 PM\n16:00 – TOP 8 PM \nSMASH 64 SCHEDULE\n11:00 – 64 Round Robin Pools\n13:00 – TOP 16/24 SMASH 64 \nSMASH 4 SCHEDULE\n12:00 – SMASH 4 TOP 32\n14:00 – SMASH 4 TOP 8 \nMELEE SCHEDULE\n16:00 – MELEE TOP 32\n18:00 – MELEE TOP 8\n\n\n\n\n  \nTournament rules and format \n\n\n\n\nPlus / More\nSelectShow\n\n\nAll singles events will be hosted in a Pools format.\nDepending on the attendance of each event\, players will be spread out in 6 to 8 person pools and the players with the highest score will move on to the next round of pools.\nAfter both rounds of pools are done\, qualified players join the final bracket to fight for first place. \nThe ruleset that will be used for Melee is TBH5 Ruleset with regular DSR.\nThe ruleset for Smash 4 is still in discussion and will be disclosed soon.\nThe ruleset for 64 is APEX 2015 Ruleset (5 stocks\, DL only\, 8 minute timed matches\, winner is character locked)\nThe ruleset that will be used for PM is the Montreal local ruleset\, https://drive.google.com/file/d/0B8aoTGCsLmJONDFPRFdjSmhrUzg/view\n\n\n\n\n  \nMontreal Smash Hubs: \nSmash Bros Montreal – https://www.facebook.com/groups/ssbmtl/\nSSB64 – https://www.facebook.com/groups/ssb64mtl/\nSSBM – https://www.facebook.com/groups/ssbmtl\nSSBB – https://www.facebook.com/groups/144552745610487/\nProject M – https://www.facebook.com/groups/pmmtl/\nSmash 4 (3ds/WiiU) – https://www.facebook.com/groups/ssb4mtl/ \nSmashLoft https://www.facebook.com/SmashLoft
URL:https://www.montrealgaming.com/lan-quebec/smash-intensifies-2/
LOCATION:Concordia University – Hall Building\, 1455 De Maisonneuve W.\, Montreal\, QC\, H3G 1M8\, Canada
CATEGORIES:Smash Bros Event
ATTACH;FMTTYPE=image/jpeg:https://www.montrealgaming.com/wp-content/uploads/2015/10/facebook_event_940618502652156.jpg
ORGANIZER;CN="Smashloft":MAILTO:(514) 564-6274
GEO:45.4973223;-73.5790288
X-APPLE-STRUCTURED-LOCATION;VALUE=URI;X-ADDRESS=Concordia University – Hall Building 1455 De Maisonneuve W. Montreal QC H3G 1M8 Canada;X-APPLE-RADIUS=500;X-TITLE=1455 De Maisonneuve W.:geo:-73.5790288,45.4973223
END:VEVENT
BEGIN:VEVENT
DTSTART;TZID=America/New_York:20160220T090000
DTEND;TZID=America/New_York:20160220T090000
DTSTAMP:20260421T170804
CREATED:20160116T005533Z
LAST-MODIFIED:20160122T210718Z
UID:10000517-1455958800-1455958800@www.montrealgaming.com
SUMMARY:City Heroes 2016
DESCRIPTION:Français\n\n \nCity Heroes 2016\nGamers Ecoutez! \nOn organise notre premier LAN de l’année 2016 le SAMEDI 20 FEVRIER \nCity Heroes 2016 aura deux tournois: Un de League of Legends et un de Hearthstone \n→BYOC\, Amenez votre ordinateur. Si vous amenez un desktop vous devez aussi amener votre propre moniteur.\nSinon assurez vous d’amener un laptop avec un port ethernet.\nJoueurs d’Hearthstone amenez vos laptops/tablettes/smartphones/etc… \n  \nRègles & Structure du Tournoi \nLeague of Legends: \n→Pré-Enregistrez vous maintenant et soyez contactés quand l’enregistrement officiel ouvre: http://goo.gl/forms/aAl0w4Tlfw\n→REGLEMENT: http://esportsconcordia.tumblr.com/ruleslol\n→FORMAT: Phase de groupes suivi d’un format d’elimination directe \nHearthstone: \n→Pré-Enregistrez vous maintenant et soyez contactés quand l’enregistrement officiel ouvre: http://goo.gl/forms/FFyDTIqWvq\n→REGLEMENT: http://esportsconcordia.tumblr.com/rulesHSCityHeroes\n→FORMAT: Phase de groupe suivi d’un format d’elimination directe \n  \nENREGISTREMENT \nL’enregistrement sera fait a partir du site PentaOutrage (Lancement le 20 Janvier) \n→LoL: $15 par joueur\n→HS: $10 par joueur\n→LoL + HS: $20 par joueur\nSpectateurs: Accès Gratuit \nDATE LIMITE D’ENREGISTREMENT: VENDREDI 19 FEVRIER 2016 \nSi les places sont toutes prises avant vôtre enregistrement envoyez nous un email à esports@concordia.ca\net laissez nous vôtre nom/nom d’équipe. Si des places se libèrent vous serez contacté par ordre d’arrivée \n  \nPRIX \n1er => 50% du pool\n2ème => 25% du pool\n3ème => 12.5% du pool\n4ème => 12.5% du pool \n\nEnglish\n\n \nCity Heroes 2016\nListen up Gamers! \nWe’re hosting our first LAN of the new year on SATURDAY FEBRUARY 20th 2016. \nCity Heroes 2016 will feature both League of Legends and Hearthstone tournaments with over an 800$ prizepool to be split between the games. \nBRING YOUR OWN COMPUTER: If you bring your desktop you must also supply your own monitor. Laptops work equally as well. Please bring laptops with ethernet ports to ensure the best connection possible. HS players must bring their own device. \n  \nTournament rules and structure \nLeague of Legends:\n→Pre Register now and be contacted when official registration goes live: http://goo.gl/forms/aAl0w4Tlfw\n→RULES: http://esportsconcordia.tumblr.com/ruleslol\n→GROUP STAGE FORMAT followed by single elimination bracket. \nHearthstone:\n→Pre Register now and be contacted when official registration goes live: http://goo.gl/forms/FFyDTIqWvq\n→Rules: http://esportsconcordia.tumblr.com/rulesHSCityHeroes\n→GROUP STAGE FORMAT followed by single elimination bracket. \n  \nRegistration \n→Use the PentaOutrage site to register (Registration opens Jan 20th)\n→LoL: 15$ a player\n→HS: 10$ a player\n→LoL + HS: 20$ a player\n(Spectators are free) \nLoL Registration closes: FRIDAY\, FEBRUARY 19\, 2016 \nIf slots are filled before you can register\, please contact “esports@concordia.ca” and leave your TEAM NAME and PLAYER NAMES. If any slots open up prior to the event\, teams will be contacted in order of PRIORITY. \n  \nPrizing \n1st => 50% of the pool\n2nd => 25% of the pool\n3rd => 12.5% of the pool\n4th => 12.5% of the pool \n\n 
URL:https://www.montrealgaming.com/lan-quebec/city-heroes-2016/
LOCATION:Concordia University – Hall Building\, 1455 De Maisonneuve W.\, Montreal\, QC\, H3G 1M8\, Canada
CATEGORIES:Hearthstone Event,League of Legends Event
ATTACH;FMTTYPE=image/jpeg:https://www.montrealgaming.com/wp-content/uploads/2016/01/facebook_event_471239843059962.jpg
GEO:45.4973223;-73.5790288
X-APPLE-STRUCTURED-LOCATION;VALUE=URI;X-ADDRESS=Concordia University – Hall Building 1455 De Maisonneuve W. Montreal QC H3G 1M8 Canada;X-APPLE-RADIUS=500;X-TITLE=1455 De Maisonneuve W.:geo:-73.5790288,45.4973223
END:VEVENT
END:VCALENDAR