BEGIN:VCALENDAR
VERSION:2.0
PRODID:-//Montreal Gaming - Les esports au Qu&eacute;bec (Qc). - ECPv6.15.16//NONSGML v1.0//EN
CALSCALE:GREGORIAN
METHOD:PUBLISH
X-ORIGINAL-URL:https://www.montrealgaming.com
X-WR-CALDESC:Events for Montreal Gaming - Les esports au Qu&eacute;bec (Qc).
REFRESH-INTERVAL;VALUE=DURATION:PT1H
X-Robots-Tag:noindex
X-PUBLISHED-TTL:PT1H
BEGIN:VTIMEZONE
TZID:America/New_York
BEGIN:DAYLIGHT
TZOFFSETFROM:-0500
TZOFFSETTO:-0400
TZNAME:EDT
DTSTART:20230312T070000
END:DAYLIGHT
BEGIN:STANDARD
TZOFFSETFROM:-0400
TZOFFSETTO:-0500
TZNAME:EST
DTSTART:20231105T060000
END:STANDARD
BEGIN:DAYLIGHT
TZOFFSETFROM:-0500
TZOFFSETTO:-0400
TZNAME:EDT
DTSTART:20240310T070000
END:DAYLIGHT
BEGIN:STANDARD
TZOFFSETFROM:-0400
TZOFFSETTO:-0500
TZNAME:EST
DTSTART:20241103T060000
END:STANDARD
BEGIN:DAYLIGHT
TZOFFSETFROM:-0500
TZOFFSETTO:-0400
TZNAME:EDT
DTSTART:20250309T070000
END:DAYLIGHT
BEGIN:STANDARD
TZOFFSETFROM:-0400
TZOFFSETTO:-0500
TZNAME:EST
DTSTART:20251102T060000
END:STANDARD
BEGIN:DAYLIGHT
TZOFFSETFROM:-0500
TZOFFSETTO:-0400
TZNAME:EDT
DTSTART:20260308T070000
END:DAYLIGHT
BEGIN:STANDARD
TZOFFSETFROM:-0400
TZOFFSETTO:-0500
TZNAME:EST
DTSTART:20261101T060000
END:STANDARD
END:VTIMEZONE
BEGIN:VEVENT
DTSTART;VALUE=DATE:20240628
DTEND;VALUE=DATE:20240701
DTSTAMP:20260421T072202
CREATED:20231113T202810Z
LAST-MODIFIED:20240628T162924Z
UID:10000757-1719532800-1719791999@www.montrealgaming.com
SUMMARY:LAN ETS 2024
DESCRIPTION:LAN ETS 2024\n\nLe Lan ETS est de retour!\nLe plus grand Lan Party au Canada\n\n\n\n\nQu'est-ce que le Lan ETS?\n\nLe Lan ETS est le plus gros «Lan party» de la côte Est de l'Amérique du Nord. Chaque année\, plus de 1000 joueurs participent à différents tournois pour une chance de gagner plus de 30'000$ en prix en argent. Nous sommes un organisme à but non lucratif qui s'engage à offrir la meilleure expérience de LAN Party à nos participants. Nos membres exécutifs sont des futurs ingénieurs passionnés par les jeux vidéo et l'organisation d'évènements.\n\n\n\nVoici les tournois de l’édition 2024:\n\n\n\n\n\n\n\n\n\n\n\n\n\n\n\n   \n\n\n    \n\n\n            \n\n                \n\n				\n				\n              \n				Super Smash Bros Melee\n              \n           \n   \n\n\n\n    \n\n\n            \n\n                \n\n				\n				\n              \n				Street Fighter 6\n              \n           \n   \n\n\n\n    \n\n\n            \n\n                \n\n				\n				\n              \n				Granblue Fantasy: Versus Rising\n              \n           \n   \n\n\n\n    \n\n\n            \n\n                \n\n				\n				\n              \n				Rocket League\n              \n           \n   \n\n\n\n    \n\n\n            \n\n                \n\n				\n				\n              \n				Counter-Strike 2\n              \n           \n   \n\n\n\n    \n\n\n            \n\n                \n\n				\n				\n              \n				League of Legends\n              \n           \n   \n\n\n\n    \n\n\n            \n\n                \n\n				\n				\n              \n				Rocket League\n              \n           \n   \n\n\n\n    \n\n\n            \n\n                \n\n				\n				\n              \n				Starcraft 2\n              \n           \n   \n\n\n\n    \n\n\n            \n\n                \n\n				\n				\n              \n				Teamfight Tactics\n              \n           \n   \n\n\n\n    \n\n\n            \n\n                \n\n				\n				\n              \n				Valorant\n              \n           \n   \n\n\n\n    \n\n\n            \n\n                \n\n				\n				\n              \n				Taken 8\n              \n           \n   \n\n\n\n    \n\n\n            \n\n                \n\n				\n				\n              \n				Super Smash Bros Ultimate\n              \n           \n   \n\n\n\n    \n\n\n\n\n\n\n\n\n\n\n\n\n\n\nBELL CANADA\n”\nwidth=”<100%>”\nallowfullscreen>\n \n\nLAN ETS \n”\nwidth=”<100%>”\nallowfullscreen>
URL:https://www.montrealgaming.com/lan-quebec/lan-ets-2024/
LOCATION:Palais des Congrès de Montréal\, 1001 Place Jean-Paul-Riopelle\, Montreal\, Quebec\, H2Z 1H5\, Canada
CATEGORIES:Call of Duty Event,League of Legends Event,Multi-eSports-Event,Overwatch Event,Rocket League Event,Smash Bros Event,Street Fighter Event,Valorant Event
ATTACH;FMTTYPE=image/png:https://www.montrealgaming.com/wp-content/uploads/2023/11/401686723_760875759412143_779239097287721265_n.png
ORGANIZER;CN="LAN ETS":MAILTO:contact@lanets.ca
GEO:45.50386;-73.5609688
X-APPLE-STRUCTURED-LOCATION;VALUE=URI;X-ADDRESS=Palais des Congrès de Montréal 1001 Place Jean-Paul-Riopelle Montreal Quebec H2Z 1H5 Canada;X-APPLE-RADIUS=500;X-TITLE=1001 Place Jean-Paul-Riopelle:geo:-73.5609688,45.50386
END:VEVENT
BEGIN:VEVENT
DTSTART;TZID=America/New_York:20250307T180000
DTEND;TZID=America/New_York:20250309T180000
DTSTAMP:20260421T072203
CREATED:20250120T195408Z
LAST-MODIFIED:20250308T151459Z
UID:10000762-1741370400-1741543200@www.montrealgaming.com
SUMMARY:LAN ETS 2025
DESCRIPTION:Le plus gros LAN Party au Canada est de retour du 7-9 mars 2025 à l’École de technologie supérieure!\nTournois PC :\n\nSuivez-nous sur les réseaux sociaux pour être au courant de toutes les nouvelles!——————————————\nThe biggest LAN Party in Canada is back March 7-9 2025 at ETS!\nBYOC Tournaments:\n\nFollow us on social media to be up to date with all the news!
URL:https://www.montrealgaming.com/lan-quebec/lan-ets-2025/
LOCATION:Lan ETS\, 800 Rue de la Gauchetière Ouest\, Montreal\, QC\, H5A 1K6\, Canada
CATEGORIES:Counter-Strike Event,League of Legends Event,Multi-eSports-Event,Rocket League Event,Valorant Event
ATTACH;FMTTYPE=image/jpeg:https://www.montrealgaming.com/wp-content/uploads/2025/01/LAN_ETS_BANNER_2025.jpg
GEO:45.5001769;-73.5652741
X-APPLE-STRUCTURED-LOCATION;VALUE=URI;X-ADDRESS=Lan ETS 800 Rue de la Gauchetière Ouest Montreal QC H5A 1K6 Canada;X-APPLE-RADIUS=500;X-TITLE=800 Rue de la Gauchetière Ouest:geo:-73.5652741,45.5001769
END:VEVENT
END:VCALENDAR