BEGIN:VCALENDAR
VERSION:2.0
PRODID:-//Montreal Gaming - Les esports au Qu&eacute;bec (Qc). - ECPv6.15.16//NONSGML v1.0//EN
CALSCALE:GREGORIAN
METHOD:PUBLISH
X-ORIGINAL-URL:https://www.montrealgaming.com
X-WR-CALDESC:Events for Montreal Gaming - Les esports au Qu&eacute;bec (Qc).
REFRESH-INTERVAL;VALUE=DURATION:PT1H
X-Robots-Tag:noindex
X-PUBLISHED-TTL:PT1H
BEGIN:VTIMEZONE
TZID:America/New_York
BEGIN:DAYLIGHT
TZOFFSETFROM:-0500
TZOFFSETTO:-0400
TZNAME:EDT
DTSTART:20140309T070000
END:DAYLIGHT
BEGIN:STANDARD
TZOFFSETFROM:-0400
TZOFFSETTO:-0500
TZNAME:EST
DTSTART:20141102T060000
END:STANDARD
BEGIN:DAYLIGHT
TZOFFSETFROM:-0500
TZOFFSETTO:-0400
TZNAME:EDT
DTSTART:20150308T070000
END:DAYLIGHT
BEGIN:STANDARD
TZOFFSETFROM:-0400
TZOFFSETTO:-0500
TZNAME:EST
DTSTART:20151101T060000
END:STANDARD
BEGIN:DAYLIGHT
TZOFFSETFROM:-0500
TZOFFSETTO:-0400
TZNAME:EDT
DTSTART:20160313T070000
END:DAYLIGHT
BEGIN:STANDARD
TZOFFSETFROM:-0400
TZOFFSETTO:-0500
TZNAME:EST
DTSTART:20161106T060000
END:STANDARD
BEGIN:DAYLIGHT
TZOFFSETFROM:-0500
TZOFFSETTO:-0400
TZNAME:EDT
DTSTART:20170312T070000
END:DAYLIGHT
BEGIN:STANDARD
TZOFFSETFROM:-0400
TZOFFSETTO:-0500
TZNAME:EST
DTSTART:20171105T060000
END:STANDARD
BEGIN:DAYLIGHT
TZOFFSETFROM:-0500
TZOFFSETTO:-0400
TZNAME:EDT
DTSTART:20180311T070000
END:DAYLIGHT
BEGIN:STANDARD
TZOFFSETFROM:-0400
TZOFFSETTO:-0500
TZNAME:EST
DTSTART:20181104T060000
END:STANDARD
BEGIN:DAYLIGHT
TZOFFSETFROM:-0500
TZOFFSETTO:-0400
TZNAME:EDT
DTSTART:20190310T070000
END:DAYLIGHT
BEGIN:STANDARD
TZOFFSETFROM:-0400
TZOFFSETTO:-0500
TZNAME:EST
DTSTART:20191103T060000
END:STANDARD
BEGIN:DAYLIGHT
TZOFFSETFROM:-0500
TZOFFSETTO:-0400
TZNAME:EDT
DTSTART:20200308T070000
END:DAYLIGHT
BEGIN:STANDARD
TZOFFSETFROM:-0400
TZOFFSETTO:-0500
TZNAME:EST
DTSTART:20201101T060000
END:STANDARD
BEGIN:DAYLIGHT
TZOFFSETFROM:-0500
TZOFFSETTO:-0400
TZNAME:EDT
DTSTART:20210314T070000
END:DAYLIGHT
BEGIN:STANDARD
TZOFFSETFROM:-0400
TZOFFSETTO:-0500
TZNAME:EST
DTSTART:20211107T060000
END:STANDARD
BEGIN:DAYLIGHT
TZOFFSETFROM:-0500
TZOFFSETTO:-0400
TZNAME:EDT
DTSTART:20220313T070000
END:DAYLIGHT
BEGIN:STANDARD
TZOFFSETFROM:-0400
TZOFFSETTO:-0500
TZNAME:EST
DTSTART:20221106T060000
END:STANDARD
BEGIN:DAYLIGHT
TZOFFSETFROM:-0500
TZOFFSETTO:-0400
TZNAME:EDT
DTSTART:20230312T070000
END:DAYLIGHT
BEGIN:STANDARD
TZOFFSETFROM:-0400
TZOFFSETTO:-0500
TZNAME:EST
DTSTART:20231105T060000
END:STANDARD
BEGIN:DAYLIGHT
TZOFFSETFROM:-0500
TZOFFSETTO:-0400
TZNAME:EDT
DTSTART:20240310T070000
END:DAYLIGHT
BEGIN:STANDARD
TZOFFSETFROM:-0400
TZOFFSETTO:-0500
TZNAME:EST
DTSTART:20241103T060000
END:STANDARD
BEGIN:DAYLIGHT
TZOFFSETFROM:-0500
TZOFFSETTO:-0400
TZNAME:EDT
DTSTART:20250309T070000
END:DAYLIGHT
BEGIN:STANDARD
TZOFFSETFROM:-0400
TZOFFSETTO:-0500
TZNAME:EST
DTSTART:20251102T060000
END:STANDARD
BEGIN:DAYLIGHT
TZOFFSETFROM:-0500
TZOFFSETTO:-0400
TZNAME:EDT
DTSTART:20260308T070000
END:DAYLIGHT
BEGIN:STANDARD
TZOFFSETFROM:-0400
TZOFFSETTO:-0500
TZNAME:EST
DTSTART:20261101T060000
END:STANDARD
BEGIN:DAYLIGHT
TZOFFSETFROM:-0500
TZOFFSETTO:-0400
TZNAME:EDT
DTSTART:20270314T070000
END:DAYLIGHT
BEGIN:STANDARD
TZOFFSETFROM:-0400
TZOFFSETTO:-0500
TZNAME:EST
DTSTART:20271107T060000
END:STANDARD
END:VTIMEZONE
BEGIN:VTIMEZONE
TZID:America/New_York
BEGIN:DAYLIGHT
TZOFFSETFROM:-0500
TZOFFSETTO:-0400
TZNAME:EDT
DTSTART:20140309T070000
END:DAYLIGHT
BEGIN:STANDARD
TZOFFSETFROM:-0400
TZOFFSETTO:-0500
TZNAME:EST
DTSTART:20141102T060000
END:STANDARD
BEGIN:DAYLIGHT
TZOFFSETFROM:-0500
TZOFFSETTO:-0400
TZNAME:EDT
DTSTART:20150308T070000
END:DAYLIGHT
BEGIN:STANDARD
TZOFFSETFROM:-0400
TZOFFSETTO:-0500
TZNAME:EST
DTSTART:20151101T060000
END:STANDARD
BEGIN:DAYLIGHT
TZOFFSETFROM:-0500
TZOFFSETTO:-0400
TZNAME:EDT
DTSTART:20160313T070000
END:DAYLIGHT
BEGIN:STANDARD
TZOFFSETFROM:-0400
TZOFFSETTO:-0500
TZNAME:EST
DTSTART:20161106T060000
END:STANDARD
END:VTIMEZONE
BEGIN:VEVENT
DTSTART;TZID=America/New_York:20150221T100000
DTEND;TZID=America/New_York:20150221T230000
DTSTAMP:20260421T141311
CREATED:20141107T195948Z
LAST-MODIFIED:20150215T190800Z
UID:10000582-1424512800-1424559600@www.montrealgaming.com
SUMMARY:ONE MAN LAN 2015
DESCRIPTION:Français\n\n \nLe ONE MAN LAN est de retour en 2015\nLe tout se déroule a l’association recreative de Gatineau Nous avons la salle pour 10h le matin jusqu’a dans la soirée.\nPour manger nous aurons un Chili\, une salade de patate et des sandwich salade de poulet 🙂 \nVous devez réserver votre place au ONE MAN LAN\, svp vous enregistrer via le site suivant\, vous payez seulement quand vous arrivez a la salle le jour de l’evenement: https://www.eventbrite.com/e/one-man-lan-2015-tickets-14152451363 \n Liste des Jeux PC confirmé à date:\nTF2 (F2P)\nCounter Strike Global Offensive (chacun doit avoir sa copie sur steam)\nQuake 3 arena\nUT 2k4 \nListe de Jeux 360 que nous allons jouer:\nGuitar Hero 2-3\nUltimate Marvel VS Capcom 3 \nQ3 et UT2k4 seront fournis sur place \nHoraire du LAN\n( Télécharger PDF) \nCout du LAN: 20$ pour la journée de jeux avec le repas fournis si reservé avant 15 Janvier 2015\, sinon 30$ \nSi vous voulez boire des boissons alcoolisé\, vous devrez les acheter au bar qui est connecté avec notre salle! \nUPDATE – les serveurs dedie CS:GO et TF2 fonctionnent à merveille\, meme offline! \n Update 2- Tout les achats de matériel est completé pour le LAN\, on s’approche du but! \nD’autre détails suivront bientot! \nFacebook: https://www.facebook.com/events/985047421509308/?fref=ts \n\nEnglish\n\n \nOne man lan is back in 2015\n\nThis event will be held at Association Récréative de Gatineau. We have the room for 10 in the morning until 11 in the evening. We will have a Diner included with the admission.For diner we will have Chili\,potato salad and chicken salad sandwich! \nYou have to reserve your spot to the ONE MAN LAN. Please register using the link below. You will pay for the admission at the door of the LAN. https://www.eventbrite.com/e/one-man-lan-2015-tickets-14152451363 \nPC Games confirmed for the LAN:\nTF2 (F2P)\nCounter Strike Global Offensive (everyone must have his copy of the game on steam)\nQuake 3 arena\nUT 2k4 \nXbox 360 Games we will play:\nGuitar hero 2-3\nUltimate marvel VS Capcom 3 \nQ3 et UT2k4 are available on site. \nLAN Scheduled\n( Download PDF) \nCost: 20$ if your spot is reserved before january 15th 2015\, otherwise its 30$. \nYou cant bring alcohol in the room. If you want to drink\, you can go to the bar that will be connected to the room we have. \nFacebook: https://www.facebook.com/events/985047421509308/?fref=ts
URL:https://www.montrealgaming.com/lan-quebec/one-man-lan-2015/
LOCATION:Association Recreative de Gatineau\, 195 Bd Maloney O\, Gatineau\, Quebec\, J8P 3V8\, Canada
CATEGORIES:Counter-Strike Event,Multi-eSports-Event
ATTACH;FMTTYPE=image/jpeg:https://www.montrealgaming.com/wp-content/uploads/2014/11/10751547_10152834644841941_1275028358_n.jpg
GEO:45.4839026;-75.653309
X-APPLE-STRUCTURED-LOCATION;VALUE=URI;X-ADDRESS=Association Recreative de Gatineau 195 Bd Maloney O Gatineau Quebec J8P 3V8 Canada;X-APPLE-RADIUS=500;X-TITLE=195 Bd Maloney O:geo:-75.653309,45.4839026
END:VEVENT
BEGIN:VEVENT
DTSTART;TZID=America/New_York:20150327T180000
DTEND;TZID=America/New_York:20150328T070000
DTSTAMP:20260421T141311
CREATED:20150218T014014Z
LAST-MODIFIED:20150218T035829Z
UID:10000592-1427479200-1427526000@www.montrealgaming.com
SUMMARY:Lan CFPR 2015
DESCRIPTION:Lan Party du Centre de Formation Professionnel Des Riverains pour la FPES (Fondation pour l’encouragement scolaire)\n\nFrançais\n\n\n4e édition du LAN CFPR qui est organisé et supervisé par des enseignants de l’école. NOUVEAUTÉ cette année\, il y aura 100 places de disponibles pour “BYOC” (apporter votre PC) en tournoi de LOL et CS. Aussi\, 500 places disponibles avec PC\, souris et clavier de fourni (apporter vos écouteurs). Il y aura une zone consoles pour jouer à des jeux variés. Sur place\, vente de rafraîchissements et grignotines tout au long de l’événement. Aire de repos. \nTickets:\n100 BYOC… + 500 participant ses a dire (500 PC disponible au Centre pour jouer) \n– Joueur Compétition (BYOC) 30$ (achat / équipe de 5 – 150$)\n– Joueur Participant 20$ (25$ à la porte) \nInfo:\nHoraire du vendredi 27 mars 18 h jusqu’au samedi 28 mars 7 h (et oui…toute la nuit).\nAucun alcool ou drogue ne sera toléré (sécurité sur place) et aucun aliment dans les zones de jeux. \nBillet 20$ en pré-vente via Paypal ou 25$ à la porte. \nSondage:\nAfin de satisfaire le plus de joueurs possible\, nous vous proposons un petit sondage afin de connaitre vos goûts et vos attentes vis-à-vis cet événement. \nhttp://goo.gl/forms/huRgb0KHsj\n*À la question «Quelle école fréquentez-vous» si l’école n’est pas présente ou que vous ne fréquentez pas une école sélectionner « autre » \n\nEnglish\n\n \nVoir Français.\nSee French. \n\nFacebook: https://www.facebook.com/events/1534045866876073
URL:https://www.montrealgaming.com/lan-quebec/lan-cfpr-2015/
LOCATION:CFP des Riverains\, 120 rue Valmont\, Repentigny\, Quebec\, J5Y 1N9\, Canada
CATEGORIES:Counter-Strike Event,League of Legends Event,Multi-eSports-Event
ATTACH;FMTTYPE=image/jpeg:https://www.montrealgaming.com/wp-content/uploads/2015/02/10887642_1525597231040166_8441890102993638985_o.jpg
ORGANIZER;CN="CFPR":MAILTO:info@lancfpr.com
GEO:45.7640408;-73.4330326
X-APPLE-STRUCTURED-LOCATION;VALUE=URI;X-ADDRESS=CFP des Riverains 120 rue Valmont Repentigny Quebec J5Y 1N9 Canada;X-APPLE-RADIUS=500;X-TITLE=120 rue Valmont:geo:-73.4330326,45.7640408
END:VEVENT
BEGIN:VEVENT
DTSTART;TZID=America/New_York:20150913T090000
DTEND;TZID=America/New_York:20150913T183000
DTSTAMP:20260421T141311
CREATED:20150728T184026Z
LAST-MODIFIED:20150817T215059Z
UID:10000596-1442134800-1442169000@www.montrealgaming.com
SUMMARY:GAT'LAN'D - LAN a Gatineau
DESCRIPTION:Français\n\n \nGAT’LAN’D\nLe tout se déroule à l’association recreative de gatineau. La salle sera ouverte a 9h. Le début des jeux ce fera à 10h \nLe tout est un BYOC ( bring your own computer) nous fournissons le réseau et fils réseau \nPrix:\nNous allons avoir des prix de participation au courant de la journée! \nClés USB\nFan d’ordinateur\nTapis de souris\nCertificat cadeau \nJeux:\nListe des Jeux PC confirmé à date\nTF2 (F2P)\nCounter Strike Global Offensive (chacun doit avoir sa copie sur steam)\nQuake 3 arena\nUT 99 \nQ3 et UT99 seront fournis sur place \nBillets:\n\nCout du LAN : 25$ pour la journée de jeux avec le repas fournis et collations\nSi vous voulez boire des boissons alcoolisé\, vous devrez les acheter au bar qui est connecté avec notre salle! \nVous devez réserver pour le GAT’LAN’D \, svp vous enregistrer via le site suivant :\nhttp://www.eventbrite.com/e/gatland-lan-party-in-gatineau-tickets-17138823683 \n\nEnglish\n\n \nGAT’LAN’D\nGAT’LAN’D in 2015. This event will be held at Association Récréative de Gatineau.\nWe have the room for 9am in the morning until 7pm in the evening. \nThis is a bring your own computer (BYOC) \, we supply the networking. \nPrizes:\nUSB Keys\nPC Fans\nMouse pads\nGift certificates \nGames:\n\nPC Games confirmed for the LAN\nTF2 (F2P)\nCounter Strike Global Offensive (everyone must have his copy of the game on steam)\nQuake 3 arena\nUT 99\n \nTickets:\nCost : 25$ with snacks and drinks / lunch\nYou cant bring alcohol in the room. If you want to drink\, you can go to the bar that will be connected to the room we have. \nYou have to reserve and your spot to the GAT’LAN’D. Please register using the link below :\nhttp://www.eventbrite.com/e/gatland-lan-party-in-gatineau-tickets-17138823683
URL:https://www.montrealgaming.com/lan-quebec/gatland-lan-a-gatineau/
LOCATION:Association Recreative de Gatineau\, 195 Bd Maloney O\, Gatineau\, Quebec\, J8P 3V8\, Canada
CATEGORIES:Counter-Strike Event,Multi-eSports-Event
ATTACH;FMTTYPE=image/jpeg:https://www.montrealgaming.com/wp-content/uploads/2015/07/Gat-Lan.jpg
GEO:45.4839026;-75.653309
X-APPLE-STRUCTURED-LOCATION;VALUE=URI;X-ADDRESS=Association Recreative de Gatineau 195 Bd Maloney O Gatineau Quebec J8P 3V8 Canada;X-APPLE-RADIUS=500;X-TITLE=195 Bd Maloney O:geo:-75.653309,45.4839026
END:VEVENT
BEGIN:VEVENT
DTSTART;TZID=America/New_York:20151107T162500
DTEND;TZID=America/New_York:20151108T192500
DTSTAMP:20260421T141311
CREATED:20150910T015435Z
LAST-MODIFIED:20150910T015435Z
UID:10000598-1446913500-1447010700@www.montrealgaming.com
SUMMARY:WonderLAN UQAC 2015
DESCRIPTION:WONDERLAN UQAC 2015\nwww.wonderlan.aemi.ca \nOFFERT PAR: L’AEMI (Association des Étudiantes et Étudiants en Mathématique et Informatique de l’UQAC)\nET EARTHROOT GAMING \n_______________ \nVenez faire partie du plus gros rassemblement de gamers du Saguenay-Lac-St-Jean! \nVenez vous mesurer aux meilleurs joueurs de la région dans 6 tournois\, pour plus de 3000$ en prix! \n\nLEAGUE OF LEGENDS\nCOUNTER-STRIKE: GLOBAL OFFENSIVE\nHEARTHSTONE\nSUPER SMASH BROS. FOR WII U\nHEROES OF THE STORM\nMAGIC: THE GATHERING\n\nLe WonderLAN UQAC est fier de s’affilier à Extra Life afin de ramasser des fonds pour Opération Enfant Soleil. Des dons seront récoltés sur place ainsi que via Twitch.TV. Une partie des recettes des billets sera aussi remise à la cause. \nEarthroot Gaming sera disponible sur place avec un kiosque de recrutement. Cela pourrait être votre chance de voir votre talent remarqué par une organisation professionnelle! \n_______________ \nPOUR PLUS D’INFOS \nQUESTIONS GÉNÉRALES: Page Facebook de WonderLAN UQAC\nEARTHROOT GAMING: Contacter Cédrick Tremblay ou Jean-Sébastien Ruest\, co-présidents d’Earthroot Gaming. \nhttp://wonderlan.aemi.ca
URL:https://www.montrealgaming.com/lan-quebec/wonderlan-uqac-2015/
LOCATION:UQAC – Université du Québec à Chicoutimi\, 555 boul. De l'Université\, Chicoutimi\, QC\, G7H 2B1\, Canada
CATEGORIES:Counter-Strike Event,Hearthstone Event,Heroes of the Storm Event,League of Legends Event,Multi-eSports-Event,Smash Bros Event
ATTACH;FMTTYPE=image/png:https://www.montrealgaming.com/wp-content/uploads/2015/09/facebook_event_420216544830248.png
GEO:48.4199;-71.0521877
X-APPLE-STRUCTURED-LOCATION;VALUE=URI;X-ADDRESS=UQAC – Université du Québec à Chicoutimi 555 boul. De l'Université Chicoutimi QC G7H 2B1 Canada;X-APPLE-RADIUS=500;X-TITLE=555 boul. De l'Université:geo:-71.0521877,48.4199
END:VEVENT
BEGIN:VEVENT
DTSTART;TZID=America/New_York:20151114T100000
DTEND;TZID=America/New_York:20151115T150000
DTSTAMP:20260421T141311
CREATED:20150922T204229Z
LAST-MODIFIED:20151022T003232Z
UID:10000611-1447495200-1447599600@www.montrealgaming.com
SUMMARY:LAN Montmorency Automne 2015
DESCRIPTION:LAN Montmorency Automne 2015\nNous somme fier de vous annoncer le prochain LAN qui se tiendra le 14 et le 15 novembre 2015 au Collège Montmorency ! 96 places BYOC et 32 places consoles seront disponibles. \nLes billets sont en vente au prix de 20$ pour BYOC et 10$ pour consoles. Les étudiants du Collège Montmorency auront droit à un rabais de 5$. Vous pouvez vous procurez votre billet à l’adresse suivante: https://lanmomo.org/tickets \nNous recherchons présentement des bénévoles ! Veuillez nous contacter à l’adresse info@lanmomo.org si vous êtes intéressé.
URL:https://www.montrealgaming.com/lan-quebec/lan-montmorency-2015/
LOCATION:Collège Montmorency\, 475\, boulevard de l'Avenir\, Laval\, QC\, H7N5H9\, Canada
CATEGORIES:Counter-Strike Event,DOTA Event,Hearthstone Event,Heroes of the Storm Event,League of Legends Event,Multi-eSports-Event,Smash Bros Event,Smite Event,Starcraft Event
ATTACH;FMTTYPE=image/jpeg:https://www.montrealgaming.com/wp-content/uploads/2015/09/LAN-Montmorency-Automne-2015.jpg
GEO:45.5599925;-73.7188475
X-APPLE-STRUCTURED-LOCATION;VALUE=URI;X-ADDRESS=Collège Montmorency 475 boulevard de l'Avenir Laval QC H7N5H9 Canada;X-APPLE-RADIUS=500;X-TITLE=475\, boulevard de l'Avenir:geo:-73.7188475,45.5599925
END:VEVENT
BEGIN:VEVENT
DTSTART;VALUE=DATE:20190906
DTEND;VALUE=DATE:20190909
DTSTAMP:20260421T141311
CREATED:20181210T044929Z
LAST-MODIFIED:20190830T172145Z
UID:10000715-1567728000-1567987199@www.montrealgaming.com
SUMMARY:DreamHack Montreal 2019
DESCRIPTION:DREAMHACK MONTREAL 2019\nONE WORLD. 100% GAMER \nSep 6-8\nOlympic Stadium\, Montreal\, Canada\n  \n \n$25\,000+\nFighting Games return to DreamHack! Montreal will feature multiple fighting games. \n$75\,000\nComing back for the second year in a row\, Rainbow Six will be at Montreal.\n$100\,000\nDreamHack has launched a new Rocket League tournament series—the DreamHack Pro Circuit—featuring four stops for 2019. And\, yes\, one of those stops will be in Montreal.\n$100\,000\nThe WCS Circuit continues on and we’re ready to travel to Montreal for the final stop of the year. $100\,000 in prize pool and 12\,600 WCS Points are out there for the taking\, with the winner earning their way to the end-of- year WCS Global Finals and the right to claim themselves the king of Montreal.\n \n  \n \n \nFULL SCHEDULE\nhttps://dreamhack.com/app/event/dhmtl19/schedule \nFOR iOS  |  FOR ANDROID \n 
URL:https://www.montrealgaming.com/lan-quebec/dreamhack-montreal-2019/
LOCATION:Olympic Stadium (Montreal)\, 4545\, avenue Pierre-de-Coubertin\, Montréal\, QC H1V 3N7\, Montreal\, QC\, H1V 3N7\, Canada
CATEGORIES:Brawlhalla Event,Counter-Strike Event,Hearthstone Event,League of Legends Event,Mortal Kombat Event,Multi-eSports-Event,Overwatch Event,Rainbow Six Event,Rocket League Event,Smash Bros Event,Starcraft Event
ATTACH;FMTTYPE=image/png:https://www.montrealgaming.com/wp-content/uploads/2018/12/250px-DreamHack_logo.png
GEO:45.5571548;-73.549524
X-APPLE-STRUCTURED-LOCATION;VALUE=URI;X-ADDRESS=Olympic Stadium (Montreal) 4545 avenue Pierre-de-Coubertin Montréal QC H1V 3N7 Montreal QC H1V 3N7 Canada;X-APPLE-RADIUS=500;X-TITLE=4545\, avenue Pierre-de-Coubertin\, Montréal\, QC H1V 3N7:geo:-73.549524,45.5571548
END:VEVENT
BEGIN:VEVENT
DTSTART;TZID=America/New_York:20200214T180000
DTEND;TZID=America/New_York:20200216T180000
DTSTAMP:20260421T141311
CREATED:20190926T162957Z
LAST-MODIFIED:20200209T231734Z
UID:10000718-1581703200-1581876000@www.montrealgaming.com
SUMMARY:LAN ETS 2020
DESCRIPTION:LAN ETS 2020\nLe Lan ETS est le plus grand LAN Party au Canada! Chaque année\, plus de 2000 joueurs se rassemblent afin de participer à divers tournois et courent la chance de remporter plus de 45 000$ en prix! \nLe Lan ETS c’est quoi? \n48h de jeux et d’intensité!?\nPlus de 45 000$ en bourses?\nDes activités toute la fin de semaine! ?\nDu Cosplay ⭐️\nPlus de 1500 BYOC ?\nPlus de 300 joueurs Console ?\nDes tournois BYOC et Console?\nUne zone exposants ?\nUne Allée des artistes ?\nLa communauté esports au même endroit!? \nJoignez-vous à nous du 14 au 16 février 2020 afin de vivre une expérience de jeux vidéo hors du commun au Palais des Congrès de Montréal! \n  \n\n\n\n\nLeague of Legends @ Lan ETS 2020\nPC \n\n\n\n\n\nCS:GO @ Lan ETS 2020\nPC \n\n\n\n\n\nOverwatch @ Lan ETS 2020\nPC \n\n\n\n\n\nRocket League @ Lan ETS 2020\nPC \n\n\n\n\n\nSuper Smash Bros Ultimate @ Lan ETS 2020\nSwitch \n\n\n\n\nSuper Smash Bros Melee @ Lan ETS 2020\nGamecube \n\n\n\n\n\nHearthstone @ Lan ETS 2020\nPC \n\n\n\n\n\nPlayerUnknown’s Battlegrounds @ Lan ETS 2020\nPC \n\n\n\n\n\nFortnite @ Lan ETS 2020\nPC \n\n\n\n\n\nNHL 20 @ Lan ETS 2020\nPS4 | Xbox One \n\n\n\n\n\nRainbow Six Siege @ Lan ETS 2020\nPC \n\n\n\n  \n \n  \n \n 
URL:https://www.montrealgaming.com/lan-quebec/lan-ets-2020/
LOCATION:Palais des Congrès de Montréal\, 1001 Place Jean-Paul-Riopelle\, Montreal\, Quebec\, H2Z 1H5\, Canada
CATEGORIES:Counter-Strike Event,Fortnite Event,Hearthstone Event,League of Legends Event,Multi-eSports-Event,NHL Event,Overwatch Event,Rainbow Six Event,Rocket League Event,Smash Bros Event
ATTACH;FMTTYPE=image/png:https://www.montrealgaming.com/wp-content/uploads/2019/09/Lan-ETS-2020.png
ORGANIZER;CN="LAN ETS":MAILTO:contact@lanets.ca
GEO:45.50386;-73.5609688
X-APPLE-STRUCTURED-LOCATION;VALUE=URI;X-ADDRESS=Palais des Congrès de Montréal 1001 Place Jean-Paul-Riopelle Montreal Quebec H2Z 1H5 Canada;X-APPLE-RADIUS=500;X-TITLE=1001 Place Jean-Paul-Riopelle:geo:-73.5609688,45.50386
END:VEVENT
BEGIN:VEVENT
DTSTART;VALUE=DATE:20260418
DTEND;VALUE=DATE:20260420
DTSTAMP:20260421T141311
CREATED:20260224T190752Z
LAST-MODIFIED:20260224T191526Z
UID:10000764-1776470400-1776643199@www.montrealgaming.com
SUMMARY:Lan Parro Des Galerie Joliette
DESCRIPTION:  \nRules:\ntournoi amical \nEvent Main Admin\njean-francois moreau \nLes JEUX:\n– ROCKET LEAGUE\n– LEAGUE OF LEGENDS\n– VALORANT\n– FALL GUYS\n– CALL OF DUTY: WAREZONE\n– SMITE\n– FORNITE\n– COUNTER-STRIKE 2\n– APEX LEGENDS \n\n\n\n\n\n\n\nQuoi apporter ?\n\nPC et périphériques\nPower bar\, une seule prise électrique par participant\nÉcouteurs\, haut-parleurs interdits\n1 écran (max 32 pouces)\, veuillez noter que l’espace joueurs est de 40 pouces et 2 personnes par table.\nArgent et il y a des chaises mais si vous voulez vous pouvez apporter la votre pour un meilleur confort.
URL:https://www.montrealgaming.com/lan-quebec/lan-parro-des-galerie-joliette/
LOCATION:Galeries Joliette\, 1075\, boulevard Firestone\, Joliette\, 1075 boulevard Firestone\, Joliette\, Quebec\, J6E 9G2\, Canada
CATEGORIES:Apex Legends Event,Call of Duty Event,Counter-Strike Event,Fortnite Event,League of Legends Event,Multi-eSports-Event,Rocket League Event,Smite Event,Valorant Event
ATTACH;FMTTYPE=image/png:https://www.montrealgaming.com/wp-content/uploads/2026/02/logo-lan-2026.png
ORGANIZER;CN="LAN Parro":MAILTO:j-f.moreau@parroinfo.com
GEO:46.0329868;-73.4260789
X-APPLE-STRUCTURED-LOCATION;VALUE=URI;X-ADDRESS=Galeries Joliette 1075 boulevard Firestone Joliette 1075 boulevard Firestone Joliette Quebec J6E 9G2 Canada;X-APPLE-RADIUS=500;X-TITLE=1075 boulevard Firestone:geo:-73.4260789,46.0329868
END:VEVENT
END:VCALENDAR