BEGIN:VCALENDAR
VERSION:2.0
PRODID:-//Montreal Gaming - Les esports au Qu&eacute;bec (Qc). - ECPv6.15.16//NONSGML v1.0//EN
CALSCALE:GREGORIAN
METHOD:PUBLISH
X-ORIGINAL-URL:https://www.montrealgaming.com
X-WR-CALDESC:Events for Montreal Gaming - Les esports au Qu&eacute;bec (Qc).
REFRESH-INTERVAL;VALUE=DURATION:PT1H
X-Robots-Tag:noindex
X-PUBLISHED-TTL:PT1H
BEGIN:VTIMEZONE
TZID:America/New_York
BEGIN:DAYLIGHT
TZOFFSETFROM:-0500
TZOFFSETTO:-0400
TZNAME:EDT
DTSTART:20160313T070000
END:DAYLIGHT
BEGIN:STANDARD
TZOFFSETFROM:-0400
TZOFFSETTO:-0500
TZNAME:EST
DTSTART:20161106T060000
END:STANDARD
BEGIN:DAYLIGHT
TZOFFSETFROM:-0500
TZOFFSETTO:-0400
TZNAME:EDT
DTSTART:20170312T070000
END:DAYLIGHT
BEGIN:STANDARD
TZOFFSETFROM:-0400
TZOFFSETTO:-0500
TZNAME:EST
DTSTART:20171105T060000
END:STANDARD
BEGIN:DAYLIGHT
TZOFFSETFROM:-0500
TZOFFSETTO:-0400
TZNAME:EDT
DTSTART:20180311T070000
END:DAYLIGHT
BEGIN:STANDARD
TZOFFSETFROM:-0400
TZOFFSETTO:-0500
TZNAME:EST
DTSTART:20181104T060000
END:STANDARD
END:VTIMEZONE
BEGIN:VEVENT
DTSTART;VALUE=DATE:20170203
DTEND;VALUE=DATE:20170206
DTSTAMP:20260421T160341
CREATED:20170101T223453Z
LAST-MODIFIED:20170114T050311Z
UID:10000687-1486080000-1486339199@www.montrealgaming.com
SUMMARY:Rainbow Six Siege : Montreal INVITATIONAL
DESCRIPTION:Rainbow Six Siege : Montreal INVITATIONAL\nFebruary 3-5\, 2017\nUsine C – Montreal\, Québec\nThe biggest Rainbow Six Siege event yet\nDuring 3 full days fans\, professional players\, content creators and developers will gather at the Usine C venue in order to watch new content live showcases\, developer & community panels\, 3 days of pro competition! \n\n\nWe hope to see you there! \n\nInvited teams\n\n\n\n\n\n\nThroughout the past year of the Rainbow Six Pro League\, four teams stood out to earn a spot in the Six Invitational\, where they will compete against qualified winners\, for a total prizepool of $200\,000. The full list of qualified teams will be revealed mid-january. \n\n\n\n\n\n\n\n\n\nContinuum\nGifu\neLevate\nTeam Vitality\n\nLearn more about these teams\n\n\n\n\n\n\nBook tickets now\n\nUnite with hundreds of fans from all around the world and witness the celebration for yourself at the Usine C. in Montreal\, Quebec to be a part of THE Rainbow Six Siege event of the year. \n\n\n1-DAY Pass: 30$ CAD\n\nIncludes : \n\nAccess to one day of the Six Invitational\n600 R6 Credits of in-game currency\, to be claimed on-site for each attendance day\n\n\n\n\n3-DAY Pass: 75$ CAD\n\nIncludes : \n\nAccess to all 3 days of the Six Invitational\n600 R6 Credits of in-game currency\, to be claimed on-site for each attendance day\n\n\n\n\n\n\nVIP Pass: 150$ CAD\n\nIncludes : \n\nAccess to all 3 days of the Six Invitational\n600 R6 Credits of in-game currency\, to be claimed on-site for each attendance day\n30 min. venue tour\, on Feb. 3rd\, prior to the show\n30 min. meet & greet with devs and special guests\, on Feb. 4th.\nVIP seating\nR6 merchandise\n\n\n\n\n\nBook now
URL:https://www.montrealgaming.com/lan-quebec/rainbow-six-siege-montreal-invitational/
LOCATION:Usine C\, 1345 Avenue Lalonde\, Montreal\, Quebec\, H2L 5A9\, Canada
CATEGORIES:Rainbow Six Event
ATTACH;FMTTYPE=image/png:https://www.montrealgaming.com/wp-content/uploads/2017/01/R6-sixinvitational-logo_279496.png
GEO:45.5222535;-73.5605228
X-APPLE-STRUCTURED-LOCATION;VALUE=URI;X-ADDRESS=Usine C 1345 Avenue Lalonde Montreal Quebec H2L 5A9 Canada;X-APPLE-RADIUS=500;X-TITLE=1345 Avenue Lalonde:geo:-73.5605228,45.5222535
END:VEVENT
END:VCALENDAR