BEGIN:VCALENDAR
VERSION:2.0
PRODID:-//Montreal Gaming - Les esports au Qu&eacute;bec (Qc). - ECPv6.15.16//NONSGML v1.0//EN
CALSCALE:GREGORIAN
METHOD:PUBLISH
X-ORIGINAL-URL:https://www.montrealgaming.com
X-WR-CALDESC:Events for Montreal Gaming - Les esports au Qu&eacute;bec (Qc).
REFRESH-INTERVAL;VALUE=DURATION:PT1H
X-Robots-Tag:noindex
X-PUBLISHED-TTL:PT1H
BEGIN:VTIMEZONE
TZID:America/Halifax
BEGIN:DAYLIGHT
TZOFFSETFROM:-0400
TZOFFSETTO:-0300
TZNAME:ADT
DTSTART:20160313T060000
END:DAYLIGHT
BEGIN:STANDARD
TZOFFSETFROM:-0300
TZOFFSETTO:-0400
TZNAME:AST
DTSTART:20161106T050000
END:STANDARD
BEGIN:DAYLIGHT
TZOFFSETFROM:-0400
TZOFFSETTO:-0300
TZNAME:ADT
DTSTART:20170312T060000
END:DAYLIGHT
BEGIN:STANDARD
TZOFFSETFROM:-0300
TZOFFSETTO:-0400
TZNAME:AST
DTSTART:20171105T050000
END:STANDARD
BEGIN:DAYLIGHT
TZOFFSETFROM:-0400
TZOFFSETTO:-0300
TZNAME:ADT
DTSTART:20180311T060000
END:DAYLIGHT
BEGIN:STANDARD
TZOFFSETFROM:-0300
TZOFFSETTO:-0400
TZNAME:AST
DTSTART:20181104T050000
END:STANDARD
END:VTIMEZONE
BEGIN:VTIMEZONE
TZID:America/New_York
BEGIN:DAYLIGHT
TZOFFSETFROM:-0500
TZOFFSETTO:-0400
TZNAME:EDT
DTSTART:20170312T070000
END:DAYLIGHT
BEGIN:STANDARD
TZOFFSETFROM:-0400
TZOFFSETTO:-0500
TZNAME:EST
DTSTART:20171105T060000
END:STANDARD
BEGIN:DAYLIGHT
TZOFFSETFROM:-0500
TZOFFSETTO:-0400
TZNAME:EDT
DTSTART:20180311T070000
END:DAYLIGHT
BEGIN:STANDARD
TZOFFSETFROM:-0400
TZOFFSETTO:-0500
TZNAME:EST
DTSTART:20181104T060000
END:STANDARD
BEGIN:DAYLIGHT
TZOFFSETFROM:-0500
TZOFFSETTO:-0400
TZNAME:EDT
DTSTART:20190310T070000
END:DAYLIGHT
BEGIN:STANDARD
TZOFFSETFROM:-0400
TZOFFSETTO:-0500
TZNAME:EST
DTSTART:20191103T060000
END:STANDARD
END:VTIMEZONE
BEGIN:VEVENT
DTSTART;TZID=America/Halifax:20170315T120000
DTEND;TZID=America/Halifax:20170316T120000
DTSTAMP:20260421T133002
CREATED:20170204T190732Z
LAST-MODIFIED:20170204T190732Z
UID:10000688-1489579200-1489665600@www.montrealgaming.com
SUMMARY:LAN de l'ADEPT - Hiver 2017
DESCRIPTION:LAN de l’ADEPT – Hiver 2017\nLe LAN de l’ADEPT est l’activité organisée par l’ADEPT Informatique\, c’est à dire\, les étudiants et étudiantes de la technique informatique du Cégep Édouard-Montpetit. Cette activité est organisée à chaque session d’automne et d’hiver lors de la semaine de lecture. \nBon LAN ! \n  \nRules:\n Le LAN de l'ADEPT se déroulera au local F-026 (cafétéria orange) du 12 octobre à midi au 13 octobre à midi\, soit une durée de 24 h.\n Vous devez réserver votre place sur le site web de l'évènement pour vous en assurer la disponibilité (ainsi que la localisation de votre installation).\n Lors de votre arrivée sur les lieux\, vous devrez vous présenter à l'accueil pour confirmer votre présence.\n Chaque place réservée est d'une dimension de 30" par 30". Vous ne pourrez pas placer plus d'un écran à votre place réservée et l'écran ne pourra pas dépasser plus de 29" (tant que l'écran ne dépasse pas votre espace).\n Chaque place réservée se verra attribuer une seule prise de courant. Donc si vous voulez utiliser plus d'une prise vous devez apporter votre barre d'alimentation multiprise (aussi connues sous le nom de Powerbars).\n Aucun mini four\, four à micro-ondes ou tous autres électroménagers seront acceptés à l'intérieur de la cafétéria orange (F-026). Vous pouvez déjà utiliser les micro-ondes de l'établissement dans la cafétéria.\n L'ADEPT Informatique ne fournit aucun matériel pour la durée du LAN à l'exception d'un câble réseau. Le matériel à apporter est votre ordinateur (tour ou portable)\, votre écran\, une barre multiprises ainsi que clavier et souris.\n Un kiosque de rafraîchissement sera mis à votre disposition où vous pourrez acheter des consommations à prix réduit. L'ADEPT Informatique vous conseille fortement d'apporter votre nourriture\, mais de la pizza sera disponible en soirée.\n Le F-041 (le quartier général de l'ADEPT Informatique) sera fermé pendant la durée du LAN.\n Le Cégep sera fermé à partir de 23 h alors la circulation dans le Cégep se limitera à la cafétéria de l'établissement.\n Les jeux vidéo et logiciels doivent déjà être téléchargés et mis à jour avant d'arriver au LAN.\n AUCUN TÉLÉCHARGEMENT DE TORRENT ne sera permis. Un premier avertissement sera émis sans pénalité. Au deuxième avertissement\, l'invité se verra perdre sa place et sa connexion automatiquement.\n Votre solution de sécurité doit être à jour et activée (Antivirus\, coupe-feu…).\n L'ADEPT Informatique vous demande un minimum de civilité\, donc de ramasser vos déchets et de laisser votre place propre à votre départ.
URL:https://www.montrealgaming.com/lan-quebec/lan-de-ladept-hiver-2017/
LOCATION:Cégep Édouard-Montpetit\, 945\, chemin Chambly\, Longueuil\, QC\, J4H 3M6\, Canada
CATEGORIES:Counter-Strike Event,DOTA Event,Halo Event,Hearthstone Event,League of Legends Event,Multi-eSports-Event,NHL Event,Overwatch Event,Smash Bros Event,Smite Event,Starcraft Event,Street Fighter Event
ATTACH;FMTTYPE=image/jpeg:https://www.montrealgaming.com/wp-content/uploads/2017/02/facebook_event_1243371012423416.jpg
ORGANIZER;CN="ADEPT Informatique":MAILTO:adept.informatique.cem@gmail.com
GEO:45.5352471;-73.4940854
X-APPLE-STRUCTURED-LOCATION;VALUE=URI;X-ADDRESS=Cégep Édouard-Montpetit 945 chemin Chambly Longueuil QC J4H 3M6 Canada;X-APPLE-RADIUS=500;X-TITLE=945\, chemin Chambly:geo:-73.4940854,45.5352471
END:VEVENT
BEGIN:VEVENT
DTSTART;TZID=America/New_York:20180316T120000
DTEND;TZID=America/New_York:20180317T120000
DTSTAMP:20260421T133002
CREATED:20180224T000621Z
LAST-MODIFIED:20221027T145124Z
UID:10000559-1521201600-1521288000@www.montrealgaming.com
SUMMARY:LAN de l'ADEPT - Hiver 2018
DESCRIPTION:LAN de l’ADEPT – Hiver 2018\nBonjour ! Il nous fait plaisir de vous annoncer officiellement la tenue du LAN de l’ADEPT Hiver 2018 qui aura lieu du 16 au 17 mars\, de midi à midi à la cafétéria du Cégep Édouard-Montpetit! La participation au LAN est gratuite\, mais si vous souhaitez vous inscrire à un tournoi\, le prix d’inscription est de 5$ Les inscriptions commenceront officiellement le 1er mars à 12:00 sur notre site http://lanadept.com/\, qui sera bientôt en ligne\, et où vous pourrez bien sûr obtenir toutes les informations nécessaires sur l’événement! \nHello ! We are pleased to officially announce the holding of ADEPT’s Winter 2018 LAN\, which will take place from March 16 to March 17\, from 12:00 to 12:00 in the Cégep Édouard-Montpetit’s cafeteria! Participation to the LAN is free\, but if you wish to register for a tournament\, the registration fee is $5 Registrations will officially begin on March 1 at 12:00 on our website http://lanadept.com/\, which will be online soon\, and where you can of course get all the necessary information about the event!
URL:https://www.montrealgaming.com/lan-quebec/lan-de-ladept-hiver-2018/
LOCATION:Cégep Édouard-Montpetit\, 945\, chemin Chambly\, Longueuil\, QC\, J4H 3M6\, Canada
CATEGORIES:Multi-eSports-Event
ATTACH;FMTTYPE=image/jpeg:https://www.montrealgaming.com/wp-content/uploads/2018/02/facebook_event_576772499343804.jpg
ORGANIZER;CN="ADEPT Informatique":MAILTO:adept.informatique.cem@gmail.com
GEO:45.5352471;-73.4940854
X-APPLE-STRUCTURED-LOCATION;VALUE=URI;X-ADDRESS=Cégep Édouard-Montpetit 945 chemin Chambly Longueuil QC J4H 3M6 Canada;X-APPLE-RADIUS=500;X-TITLE=945\, chemin Chambly:geo:-73.4940854,45.5352471
END:VEVENT
END:VCALENDAR