BEGIN:VCALENDAR
VERSION:2.0
PRODID:-//Montreal Gaming - Les esports au Qu&eacute;bec (Qc). - ECPv6.15.16//NONSGML v1.0//EN
CALSCALE:GREGORIAN
METHOD:PUBLISH
X-ORIGINAL-URL:https://www.montrealgaming.com
X-WR-CALDESC:Events for Montreal Gaming - Les esports au Qu&eacute;bec (Qc).
REFRESH-INTERVAL;VALUE=DURATION:PT1H
X-Robots-Tag:noindex
X-PUBLISHED-TTL:PT1H
BEGIN:VTIMEZONE
TZID:America/New_York
BEGIN:DAYLIGHT
TZOFFSETFROM:-0500
TZOFFSETTO:-0400
TZNAME:EDT
DTSTART:20130310T070000
END:DAYLIGHT
BEGIN:STANDARD
TZOFFSETFROM:-0400
TZOFFSETTO:-0500
TZNAME:EST
DTSTART:20131103T060000
END:STANDARD
BEGIN:DAYLIGHT
TZOFFSETFROM:-0500
TZOFFSETTO:-0400
TZNAME:EDT
DTSTART:20140309T070000
END:DAYLIGHT
BEGIN:STANDARD
TZOFFSETFROM:-0400
TZOFFSETTO:-0500
TZNAME:EST
DTSTART:20141102T060000
END:STANDARD
BEGIN:DAYLIGHT
TZOFFSETFROM:-0500
TZOFFSETTO:-0400
TZNAME:EDT
DTSTART:20150308T070000
END:DAYLIGHT
BEGIN:STANDARD
TZOFFSETFROM:-0400
TZOFFSETTO:-0500
TZNAME:EST
DTSTART:20151101T060000
END:STANDARD
BEGIN:DAYLIGHT
TZOFFSETFROM:-0500
TZOFFSETTO:-0400
TZNAME:EDT
DTSTART:20160313T070000
END:DAYLIGHT
BEGIN:STANDARD
TZOFFSETFROM:-0400
TZOFFSETTO:-0500
TZNAME:EST
DTSTART:20161106T060000
END:STANDARD
BEGIN:DAYLIGHT
TZOFFSETFROM:-0500
TZOFFSETTO:-0400
TZNAME:EDT
DTSTART:20170312T070000
END:DAYLIGHT
BEGIN:STANDARD
TZOFFSETFROM:-0400
TZOFFSETTO:-0500
TZNAME:EST
DTSTART:20171105T060000
END:STANDARD
BEGIN:DAYLIGHT
TZOFFSETFROM:-0500
TZOFFSETTO:-0400
TZNAME:EDT
DTSTART:20180311T070000
END:DAYLIGHT
BEGIN:STANDARD
TZOFFSETFROM:-0400
TZOFFSETTO:-0500
TZNAME:EST
DTSTART:20181104T060000
END:STANDARD
BEGIN:DAYLIGHT
TZOFFSETFROM:-0500
TZOFFSETTO:-0400
TZNAME:EDT
DTSTART:20190310T070000
END:DAYLIGHT
BEGIN:STANDARD
TZOFFSETFROM:-0400
TZOFFSETTO:-0500
TZNAME:EST
DTSTART:20191103T060000
END:STANDARD
BEGIN:DAYLIGHT
TZOFFSETFROM:-0500
TZOFFSETTO:-0400
TZNAME:EDT
DTSTART:20200308T070000
END:DAYLIGHT
BEGIN:STANDARD
TZOFFSETFROM:-0400
TZOFFSETTO:-0500
TZNAME:EST
DTSTART:20201101T060000
END:STANDARD
END:VTIMEZONE
BEGIN:VEVENT
DTSTART;VALUE=DATE:20141122
DTEND;VALUE=DATE:20141123
DTSTAMP:20260421T133000
CREATED:20141122T050424Z
LAST-MODIFIED:20141122T050728Z
UID:10000584-1416614400-1416700799@www.montrealgaming.com
SUMMARY:WonderLAN UQAC 2014
DESCRIPTION:  \nWonderLAN 2014- LANpire contre-attaque \nAdmin du tournoi: Frédéric Bolduc \nTournoi de League of Legends\nPremière place: 50 $ + 3200 RP + Skin promo Triumphant Ryze (par joueur) \nDeuxième place: 25 $ + 2400 RP (par joueur) \nTroisième place: 1600 RP (par joueur) \nQuatrième place: 800 RP (par joueur) \nRèglements officiels\n\n\n\n\n\nPlus / More\nSelectShow\n\n\n\nLeague of Legends\nFormat\nGroupes \nNombre de places disponibles: 20 équipes \nDivision des équipes: Quatre groupes. Distribution des équipes selon leur classement de saison 3\, aléatoire pour les équipes non-classées. En cas de groupes déséquilibrés (nombre d’équipes impair)\, l’équipe supplémentaire est placée dans le groupe ayant le moins de joueurs dont la meilleure équipe a le moins bon classement. Par exemple\, la 17e équipe sera placée dans le groupe contenant l’équipe ayant le quatrième classement (puisque les trois autres groupes contiennent les classement 1\, 2 et 3). \nDéroulement de la phase \nChaque équipe joue un match contre chaque autre équipe de son groupe. Les victoires et défaites sont comptabilisés et établissent le classement des équipes. \nPlacement des équipes:\nLes deux meilleures équipes de chaque groupe passent au tournoi principal\, le reste des équipes sont éliminés. \nS’il y a égalité entre des équipes\, on départage en regardant le résultat du match qui les a opposés. \nÉlimination \nNombre de groupes disponibles: 8 \nDivision des équipes: Selon les résultats de la phase groupes \nDéroulement de la phase \nLa phase élimination applique les règles standard du format double élimination. Tous les matchs disputés sont best of 1\, à l’exception de la finale du tournoi principal\, qui est best of 3. À la grande finale\, l’équipe provenant du tournoi des gagnants a le choix du côté et du first pick pour le premier match. Ensuite\, elle délègue l’un de ces deux privilèges à l’autre équipe pour le deuxième match\, qui sont ensuite inversés pour le troisième match s’il y a lieu. \nRèglements \n\nTous les matchs sont disputés en 5v5 sur Summoner’s Rift\, en mode Draft Pick sur le serveur nord-américain. Les matchs seront hébergés par les joueurs en mode Custom Game.\nLe choix entre le coté mauve et le coté bleu est attribué par la génération du bracket\,\nà l’exception de la grande finale (voir Déroulement de la phase Élimination)\nAprès l’appel au micro\, chaque équipe aura maximum 10 minutes pour se préparer. Si l’équipe n’est toujours pas prête\, elle déclare automatiquement forfait du match.\nAfin d’éviter les complications au niveau de l’horaire\, il est impossible aux joueurs de participer simultanément aux tournois de LoL et de Dota 2.\nChaque équipe a le droit de se désigner un joueur de réserve. Il est impossible pour les joueurs d’appartenir à plus d’une équipe.\nChaque équipe doit se désigner un capitaine qui doit assister à tous les matchs de son équipe. Seul le capitaine donne le signal à l’organisation que son équipe est prête au match et seul le capitaine sera contacté par l’organisation pour l’explication et la clarification des règles en cas de litiges.\nTous les participants au tournoi de League of Legends acceptent que leurs matchs de tournoi soient projetés sur grand écran pendant l’événement.\nToute tentative de triche pourra entraîner la disqualification d’une équipe du match en cours. L’expulsion de l’équipe entière du tournoi sera appliquée en cas de récidive.\nSi un membre d’une équipe est expulsé du LAN pour quelconque raison\, l’équipe sera disqualifiée du tournoi si celle-ci se retrouve en position de ne plus pouvoir disputer ses matchs. Si le capitaine est expulsé\, l’équipe peut en désigner un nouveau.\nTous les membres d’une équipe doivent être présents à l’événement afin de pouvoir disputer les matchs de tournoi.\n\n\n\n\n\n\n  \nTournoi de Hearthstone\nPremière place: 75 $ \nDeuxième place:  45 $ \nTroisième place: 30 $ \nRèglements officiels\n\n\n\n\n\nPlus / More\nSelectShow\n\n\n \nHearthstone: Heroes of Warcraft\n\nPhase de qualification\n\nLa phase de qualification se fait avec le système suisse sur 8 manches de une parties.\nIl n’y a aucune règle sur le choix de deck et aucune carte n’est interdite. Un joueur peut donc jouer n’importe lequel de ses decks pour n’importe quelle partie.\nLes 8 meilleurs passeront en ronde final.\nDécompte des points:\n\n2 points seront accordés pour une victoire.\n1 point sera accordé en cas d’égalité.\nAucun point ne sera accordé pour une défaite.\n\n\nTiebreaker:\n\nEn cas de nombre pair d’égalités (2-4-6… joueurs) chaque personnes sera jumelée avec une autre personne faisant partie du Tiebreaker de façon aléatoire. Une seule partie sera jouée et celui qui l’emporte gagnera le Tiebreaker.\nEn cas d’un nombre impair (3-5-7… joueurs)\, le déroulement se fera comme avec un nombre pair\, mais à la différence que chaque personnes sera jumelé avec 2 autres personnes aléatoirement.\nSi après le Tiebreaker il y a encore plus de 8 joueurs en égalité pour passer à la ronde d’élimination\, un autre Tiebreaker sera fait. avec les joueurs toujours en situation d’égalité.\n\n\n\n  \nPhase éliminatoire\n\nPour les éliminatoires\, au moins 3 decks de classes différentes sont requis.\n\nLors d’une victoire\, le joueur gagnant est obligé de conserver le même deck pour la partie suivante.\nLors d’une défaite\, le joueur ayant perdu doit changer de deck.\nLors d’une égalité\, les 2 joueurs rejouent les mêmes decks et aucun point n’est alloué (on recommence le match).\n\n\nLes quarts de finales et les demi-finales  se joueront en 2 de 3.\nLa finale se jouera en 3 de 5.\n\n  \n  \nRègles anti-trichage\n\nIl est évidemment interdit de regarder les cartes de son adversaire.\nIl est interdit d’agir en complicité avec une autre personne afin d’influencer le résultat de la partie.\nIl est interdit de faire acte de sabotage envers un autre joueur participant au tournoi.\nIl est interdit de laisser une autre personne jouer à sa place dans une partie de compétition.\n\nLe non-respect d’une de ces règles peut entraîner une disqualification directe et sans avertissement préable du tournoi de Hearthstone. \n**Les matchs seront joués sur les serveurs Battle.net Nord Américains. \n\n\n\n\n\n\n  \nTournoi de CS:GO\nPremière place: 40 $ (par joueur) \nRèglements officiels\n\n\n\n\n\nPlus / More\nSelectShow\n\n\n \n  \n\nCounter Strike: Global Offensive\n\nFormat\nGroupes\nNombre de places disponibles : 10 équipes\nÉquipes de 5 joueurs. \nDivision des équipes :  \n2 groupes\, distribution aléatoire. \nDéroulement de la phase \nChaque équipe joue un match de 30 rounds contre chaque autre équipe de son groupe. Les victoires et défaites sont comptabilisées et établissent le classement des équipes. Manches de 2 minutes. \nPlacement des équipes:\nLes deux meilleures équipes de chaque groupe passent au tournoi principal. Les équipes restantes sont éliminées. S’il y a égalité entre des équipes\, on départage en regardant le résultat du match qui les a opposé. \nÉlimination\nNombre de places disponibles: 4\nDivision des équipes: Selon les résultats de la phase groupes \nDéroulement de la phase \nLa phase élimination applique les règles standard du format double élimination. Tous les matchs disputés sont en 30 rounds. La map est tirée au sort dans le map pool officiel : Dust2\, Mirage\, Inferno\, Cache\, Cbble\, Overpass\, Nuke. \nLa grande finale se joue sur 3 maps avec 30 rounds par map. L’équipe provenant du tournoi des gagnants choisit la map et le côté où elle commence pour le premier match. C’est ensuite à son adversaire de choisir pour le deuxième et on inverse à nouveau s’il y a lieu pour le troisième match. \nRèglements\n\n5 contre 5\n4 grenades au total\, 2 flash possibles\nAu début du match\, les capitaines tirent à pile ou face. Le gagnant choisit s’il débute en tant que Terroriste ou Contre-Terroriste.\nAprès l’appel au micro\, chaque équipe aura maximum 10 minutes pour se préparer. Si l’équipe n’est toujours pas prête\, elle déclare automatiquement forfait du match.\nAfin d’éviter les complications au niveau de l’horaire\, il est impossible aux joueurs de participer simultanément aux tournois de CS:GO et de Super Smash Bros. Project M.\nChaque équipe doit se désigner un capitaine qui doit assister à tous les matchs de son équipe. Seul le capitaine donne le signal à l’organisation que son équipe est prête au match et seul le capitaine sera contacté par l’organisation pour l’explication et la clarification des règles en cas de litiges.\nToute tentative de triche pourra entraîner la disqualification d’une équipe du match en cours. L’expulsion de l’équipe entière du tournoi sera appliquée en cas de récidive.\nSi un membre d’une équipe est expulsé du LAN pour quelconque raison\, l’équipe sera disqualifiée du tournoi si celle-ci se retrouve en position de ne plus pouvoir disputer ses matchs.Tous les membres d’une équipe doivent être présents à l’événement afin de pouvoir disputer les matchs de tournoi.\nTous les membres d’une équipe doivent être présents à l’événement afin de pouvoir disputer les matchs de tournoi.\n\n\n\n\n\n\n\n\n  \nTournoi de Dota 2\nPremière place: 35$ (par joueur) \nRèglements officiels\n\n\n\n\n\nPlus / More\nSelectShow\n\n\n \n\nDota 2\n\nFormat\nGroupes\nNombre de places disponibles: 10 équipes \nDivision des équipes: \nDeux groupes. Distribution des équipes aléatoire. \n  \nDéroulement de la phase: \nChaque équipe joue un match contre chaque autre équipe de son groupe. Les victoires et défaites sont comptabilisés et établissent le classement des équipes. \n  \nPlacement des équipes:\nLes deux meilleures équipes de chaque groupe passent au tournoi principal. Les équipes restantes sont éliminées. S’il y a égalité entre des équipes\, on départage en regardant le résultat du match qui les a opposé. \n  \nÉlimination\nNombre de places disponibles: 3 \nDivision des équipes: Selon les résultats de la phase groupes \n  \nDéroulement de la phase \nLa phase élimination applique les règles standard du format double élimination. Tous les matchs disputés sont best of 1\, à l’exception de la grande finale qui est best of 3. À la grande finale\, l’équipe provenant du tournoi des gagnants a le choix entre Dire et Radiant et avoir le first ban. Ensuite\, elle délègue l’un de ces deux privilèges à l’autre équipe pour le deuxième match\, qui sont ensuite inversés pour le troisième match s’il y a lieu. \n  \n  \nRèglements\n\nTous les matchs sont disputés en 5v5 en mode Captains Mode sur le serveur nord-américain. Les matchs seront hébergés par les joueurs.\nAvant le match\, les deux capitaines procèdent à un lancer de pile ou face. Le gagnant à le choix entre pouvoir choisir entre Dire et Radiant ou avoir le first pick. Cette règle ne s’applique pas en grand finale (voir Déroulement de la phase Élimination).\nAprès l’appel au micro\, chaque équipe aura maximum 10 minutes pour se préparer. Si l’équipe n’est toujours pas prête\, elle déclare automatiquement forfait du match.\nAfin d’éviter les complications au niveau de l’horaire\, il est impossible aux joueurs de participer simultanément aux tournois de LoL et de Dota 2.\nChaque équipe a le droit de se désigner un joueur de réserve. Il est impossible pour les joueurs d’appartenir à plus d’une équipe. Si les deux équipes d’un match ont un sixième joueur\, ils peuvent participer en tant que coach seulement si les deux équipes acceptent.\nChaque équipe doit se désigner un capitaine qui doit assister à tous les matchs de son équipe. Seul le capitaine donne le signal à l’organisation que son équipe est prête au match et seul le capitaine sera contacté par l’organisation pour l’explication et la clarification des règles en cas de litiges. Le capitaine est aussi celui qui mènera le choix des héros de son équipe.\nTous les participants au tournoi de Dota 2 acceptent que leurs matchs de tournoi soient projetés sur grand écran pendant l’événement.\nToute tentative de triche pourra entraîner la disqualification d’une équipe du match en cours. L’expulsion de l’équipe entière du tournoi sera appliquée en cas de récidive.\nSi un membre d’une équipe est expulsé du LAN pour quelconque raison\, l’équipe sera disqualifiée du tournoi si celle-ci se retrouve en position de ne plus pouvoir disputer ses matchs.\nTous les membres d’une équipe doivent être présents à l’événement afin de pouvoir disputer les matchs de tournoi.\n\n\n\n\n\n\n\n\n  \nTournoi de Smash\nPremière place (1v1): 50 $ \nPremière place (2v2): 50 $ (par joueur) \nRèglements officiels\n\n\n\n\n\nPlus / More\nSelectShow\n\n\n \n\nSuper Smash Bros. Project M\n\nFormat\nGroupes\nDivision des participants: 1 contre 1\, puis 2 contre 2. Deux tournois en double élimination. \nDéroulement d’un match\nDans le cas du tournoi 2 contre 2\, il suffit de remplacer joueur par équipe ou membre d’un équipe. \n\nLes joueurs choisissent chacun leur personnage. S’il y a une dispute\, un joueur peut exiger le choix du personnage à l’aveuglette. Il est permit de choisir Random.\nLes joueurs s’entendent sur le premier stage à jouer dans la liste Starter (les listes Starter et Counterpick sont affichées plus bas dans les règlements). S’il y a une entente\, le match débutera. Sinon\, il faudra procéder ainsi…\n\nLes joueurs jouent à Roche-Papier-Ciseaux.\nLe perdant retire un stage dans la liste Starter.\nLe gagnant retire ensuite deux stages dans la liste Starter.\nLe perdant retire un dernier stage dans la liste Starter.\nLe stage du premier match est choisi dans les stages restants de la liste Starter. Le premier match est ensuite démarré. Les stages retirés durant cette phase ne seront pas bannis durant le reste du match. Ils pourront être sélectionnés en counterpick\, ou être bannis à l’étape suivante.\n\n\nLe gagnant du match bannit trois stages des listes Starter et Counterpick. Cette étape ne s’applique pas à la grande finale.\nLe perdant choisit le prochain stage dans la liste Starter ou dans la liste Counterpick. Ce joueur ne peut prendre ni un stage sur lequel il a déjà gagné\, ni un stage qui a été banni auparavant.\nLe gagnant du dernier match est le premier à choisir son personnage pour le prochain match. Le perdant choisira son personnage par la suite.\nAprès que le prochain match se soit produit\, on revient à l’étape 3 (ou 4 si c’est la grande finale). On procédera ainsi jusqu’à ce que trois (ou cinq\, dans le cas d’une finale) matchs soient gagnés par un joueur.\n\nListe de stages\nStarter \n\nBattlefield\nFinal Destination\nSmashville\nPokémon Stadium 2\nDreamland\nFountain of Dreams\nYoshi’s Story (Tournoi 1 contre 1 seulement)\nDistant Planet (Tournoi 2 contre 2 seulement)\n\nCounterpick \n\nYoshi’s Island\nPokémon Stadium 1\nLylat Cruise\nWarioWare\, Inc.\nGreen Hill Zone\nSkyloft\nSkyworld\n\nRèglements\n\nLa version utilisée sera 3.02. La version 3.5 ne sera pas utilisée dans ce tournoi.\nApportez vos manettes. Toutes les manettes sont permises (même celles qui ne sont pas faites pour la Gamecube)\, en autant qu’elles n’aient pas de fonctions turbo\, macro\, ou n’importe quelle autre fonction visant à améliorer artificiellement les performances. Les mods de manettes visant à augmenter le confort\, tels qu’un analog stick différent\, sont permis. Vous aurez aussi l’occasion de personnaliser vos contrôles avant un match.\nIl est interdit d’utiliser Giga Bowser.\nChaque joueur aura 4 vies.\nLe temps sera limité à 8 minutes.\nLes items seront désactivés.\nLa pause sera désactivée.\nPour les matchs en équipe…\n\nTeam Attack sera activé.\nLe Share Stock est permis.\n\n\nSi\, après 8 minutes\, la partie n’est pas terminée\, le joueur ayant le plus de vies l’emporte. S’il y a égalité au nombre de vies\, c’est le joueur ayant le % de dégâts le moins élevé qui l’emporte. S’il y a encore égalité\, les deux joueurs doivent s’affronter en duel avec une seule vie chacun sous une période de 3 minutes dans le même stage.\nTous les matchs seront disputés en 2 de 3\, à l’exception de la grande finale qui sera disputée en 3 de 5.\nIl est interdit de faire une action dans le but d’éviter tout contact avec un autre joueur ou de faire écouler le temps (stalling). Bien sûr\, s’échapper d’un adversaire dans le but d’avoir une position efficace pour se défendre est autorisé.\nToute action qui profite d’un bug ou d’un glitch du jeu est interdite.\nLe Chain Grab et les autres combos infinis sont autorisés\, sauf s’ils viennent en contradiction avec la règle précédente.\n\n\n\n\n\n\n\n\n  \nTournoi de Magic: The Gathering\nPremière place: 35$\, un From the Vault: Annihilation et bien d’autres prix offert par la Base Geek. \n  \n* Les prix sont sujets à changement selon le nombre d’inscriptions reçues. \n  \n \n 
URL:https://www.montrealgaming.com/lan-quebec/wonderlan-uqac-2014/
LOCATION:Université du Québec à Chicoutimi\, 555 Boulevard Université\, Chicoutimi\, Québec\, G7H 2B1\, Canada
CATEGORIES:Counter-Strike Event,DOTA Event,Hearthstone Event,Multi-eSports-Event,Smash Bros Event
ATTACH;FMTTYPE=image/jpeg:https://www.montrealgaming.com/wp-content/uploads/2014/03/WonderLAN.jpg
ORGANIZER;CN="WonderLAN":MAILTO:lan@aemi.ca
GEO:48.4199;-71.0521877
X-APPLE-STRUCTURED-LOCATION;VALUE=URI;X-ADDRESS=Université du Québec à Chicoutimi 555 Boulevard Université Chicoutimi Québec G7H 2B1 Canada;X-APPLE-RADIUS=500;X-TITLE=555 Boulevard Université:geo:-71.0521877,48.4199
END:VEVENT
BEGIN:VEVENT
DTSTART;VALUE=DATE:20190308
DTEND;VALUE=DATE:20190311
DTSTAMP:20260421T133000
CREATED:20190221T020030Z
LAST-MODIFIED:20221027T144504Z
UID:10000563-1552003200-1552262399@www.montrealgaming.com
SUMMARY:LAN-ST-JEAN 2019
DESCRIPTION:LAN-ST-JEAN 2019\nBonjour ! \nAccès visiteur gratuit ! \nLes étudiants du Club Entrepreneur et du Comité Informatique du Cégep de St-Félicien\, en accord avec ce dernier\, organisent la LAN ST-JEAN 2019 qui se déroulera sur trois jours : vendredi soir\, samedi et dimanche (8 – 9 – 10 mars)! \nLa LAN ST-JEAN 2019 est un évènement humain et rassembleur qui connecte les membres de la communauté des jeux vidéo. Des tournois\, jeux-libres\, conférences\, kiosques ainsi qu’un atelier présenté par des professionnels\, y sont proposés. Le Président d’honneur de cette première édition sera Louis-Félix Cauchon\, Président et co-fondateur de Coop La Guilde\, la plus grande coopérative de jeux vidéo dans le monde ! De nombreux prix de performance et de participation seront disponibles\, fournis par nos partenaires : \n– Ubisoft Saguenay et Ubisoft Montréal \n– CGI Chicoutimi \n– Totema Studio \n– Boréalys Games \n– Coop la Guilde \n– Cégep de St-Félicien \n– Association Étudiante du Cégep de St-Félicien (AECSF) \n– Ville de Saint-Félicien \nTOURNOIS PROPOSÉS : \n– Super Smash Bros Ultimate \n– Rocket League \n– League of Legends \n– Rainbow Six Siege \n– Draft Magic The Gathering \nDes espaces de jeux libres (hors compétition) seront disponibles. \nCordialement\, \n  \nConditions générale de la LAN-ST-JEAN 2019\n\nCONDITIONS GÉNÉRALES DE PARTICIPATION LAN-ST-JEAN 2019.\n\nLa LAN-ST-JEAN 2019 est une activité organisée par des étudiants du Club Entrepreneur et du Comité Informatique du Cégep de St-Félicien. Tout participant à l’évènement accepte les Conditions générales de participation énoncées ci-dessous.\n\nPolitique de modification des Conditions\n\nLa LAN-ST-JEAN à le droit de changer les Conditions et s’engage à les mettre à jour sur le site Internet (http://lan-st-jean.cegepstfe.ca/). Le participant sera avisé sur Facebook ou le site de l’évènement\, si des modifications auront lieu. Les modifications entreront en vigueur lors de leur publication.\n\nRemboursements et échanges des billets\nAucun échange ni remboursement ne sera effectuer une fois l'achat compléter. Le participant devra bien vérifier son panier avant de passer toute commande sur le site Internet de l’évènement.\nMineurs\nToute personne de moins de 14 ans voulant participer à l’évènement doit obtenir une autorisation parentale qui est mise à la fin de ce document. Il devra être présenté à la LAN-ST-JEAN lors de l’accueil du participant afin qu’il est accès à l’évènement. Une pièce d’identité valide sera demandée pour identification. Le participant s’acquitte à ne pas fournir de faux renseignements ou des signatures falsifiées sous peine de se voir refuser l’accès à l’évènement. Toutes les inscriptions seront soumises à une vérification par la LAN-ST-JEAN.\nMédia\nLe participant est d’accord à être photographié et/ou filmé durant l’évènement et autorise la LAN-ST-JEAN\, ses bénévoles\, ses partenaires de l’évènement à monter\, adapter\, modifier\, utiliser\, publier\, diffuser et afficher les photos ou vidéos à des fins de communications.\n\nActivités illégales et actes prohibés\n\nLe participant accepte de respecter les règles décrites dans ce document et aux règlements des tournois disponibles sur XXXXXX. Tout délit de la part du participant peut lui causer une disqualification des tournois et d’être expulsé immédiatement.\n\n1) La consommation de drogue (y compris le cannabis) ou d’alcool est interdite. Toute personne vu avec des signes de consommation sera expulsée\, et sans remboursement. La LAN ST JEAN à le droit de refuser l'entrée de n'importe quel participant étant sous l'emprise de drogue ou d’alcool.\n\n2) Aucune violence\, discrimination\, intimidation\, harcèlement\, menace de toute sorte envers les organisateurs de la LAN-ST-JEAN ou les autres participants. Les vols ou bris volontaire d’équipement appartenant à la LAN ou à un autre participant ne sera admis.\n\n3) Il est strictement interdit de fumer ou de vapoter à l’intérieur des locaux de l’évènement.\n\n4) Le participant s’engage à commettre aucuns actes nuisibles qui pourrait causer un désagrément et gêner les autres participants.\n\n5) Le participant s’engage à participer à aucuns échanges de matériel ou logiciel avec d’autres participants.\n\n6) Aucun animal ne peut être introduit à l’évènement sauf pour une personne à mobilité réduite.\n\nTout non-respect de ces règles et actes illégaux entraînera l’expulsion du participant ou de son équipe sans aucun remboursement.\n\nLimitation de responsabilité et décharge\n\nLe participant s’engage à rembourser un autre participant victime de dégradation de son matériel.\n\nLa LAN-ST-JEAN ne se tient responsable de vol ou de perte d’habits\, matériels ou de bijoux.\n\nLe participant est d’accord qu’il assistera à l'évènement à ses propres risques. La LAN ne garantit pas la présence de personnel médical lors de l’évènement.\n\nPlan de salle\n\nLa LAN à le droit de déplacer un joueur dans le plan de salle et d’ajouter de nouvelles sections de siège dans le plan de salle.\n\nDroit d’entrée et de sortie\n\nAucun participant\, après enter dans l’évènement\, ne pourra y sortir avec aucun équipement informatique\, sans être préalablement contrôlé. Tous les participants devront porter leurs badges avec leurs noms lors de l’évènement. Aucun accompagnateur ne sera admis.\n\nTricherie et comportements indésirables\n\nAucune tricherie lors des tournois ne sera acceptée. Le joueur s’engage à utiliser que les options contenues dans un jeu et à ne pas modifier ce dernier pour obtenir un avantage. La LAN ST-JEAN fera des vérifications sur les ordinateurs des joueurs pour s’assurer que le joueur est correct par rapport aux règles des tournois disponibles sur XXXXXXX. Un joueur qui refuse qu’un organisateur vérifie sa configuration sera exclu. En cas de compétition en équipe\, l’équipe entière sera exclue. C’est donc à l’équipe revient la responsabilité de s’assurer de la configuration des ordinateurs. Tout participant reconnu coupable de tricherie pourra subir des conséquences :\n\n1) Interdiction de participation aux tournois de l’évènement\n\n2) Expulsion de la LAN-ST-JEAN et aucun remboursement possible.\n\nCollecte des données\n\nEn fournissant des renseignements personnels\, le joueur accepte son consentement à ce que ces renseignements soient utilisés.\n\nLes Organisateurs de la LAN-ST-JEAN s'engage à ne pas diffuser ces renseignements. La LAN se retire de toute responsabilité advenant la publication non autorisée des renseignements personnels des participants de l’évènement.\n\nFin de l’Événement\n\nTous les participants sont obligés à quitter le lieu de l’évènement une fois terminer.\n\nAnnulation de l’Événement\n\nEn cas d’annulation de l’évènement en cas de force majeure ou une autre situation que la LAN ne peut pas maîtriser\, le joueur ne pourra se voir rembourser les billets. A voir si on rembourse ou pas.\n\nAUTORISATION PARENTALE\n\nJe soussigné(e) Monsieur (ou Madame) .................................................................... demeurant …............................................................................. agissant en qualité de père - mère\, autorise mon fils - ma fille …............................................................... à participer à la LAN-ST-JEAN\n\nJe certifie avoir l’autorité parentale sur cet enfant.\n\nFait le …..................................... à …................................................\n\nSignature :
URL:https://www.montrealgaming.com/lan-quebec/lan-st-jean-2019/
LOCATION:Cégep de Saint-Félicien\, 1105 Boulevard Hamel\, Saint-Félicien\, Quebec\, G8K 2V6\, Canada
CATEGORIES:League of Legends Event,Magic: The Gathering Event,Multi-eSports-Event,Rainbow Six Event,Rocket League Event,Smash Bros Event
ATTACH;FMTTYPE=image/jpeg:https://www.montrealgaming.com/wp-content/uploads/2019/02/52864599_1099917616855043_4556803620649041920_n.jpg
ORGANIZER;CN="LAN ST-JEAN":MAILTO:dimtri.bourdon@orange.fr
GEO:48.6499233;-72.4563111
X-APPLE-STRUCTURED-LOCATION;VALUE=URI;X-ADDRESS=Cégep de Saint-Félicien 1105 Boulevard Hamel Saint-Félicien Quebec G8K 2V6 Canada;X-APPLE-RADIUS=500;X-TITLE=1105 Boulevard Hamel:geo:-72.4563111,48.6499233
END:VEVENT
END:VCALENDAR