BEGIN:VCALENDAR
VERSION:2.0
PRODID:-//Montreal Gaming - Les esports au Qu&eacute;bec (Qc). - ECPv6.15.16//NONSGML v1.0//EN
CALSCALE:GREGORIAN
METHOD:PUBLISH
X-ORIGINAL-URL:https://www.montrealgaming.com
X-WR-CALDESC:Events for Montreal Gaming - Les esports au Qu&eacute;bec (Qc).
REFRESH-INTERVAL;VALUE=DURATION:PT1H
X-Robots-Tag:noindex
X-PUBLISHED-TTL:PT1H
BEGIN:VTIMEZONE
TZID:America/New_York
BEGIN:DAYLIGHT
TZOFFSETFROM:-0500
TZOFFSETTO:-0400
TZNAME:EDT
DTSTART:20140309T070000
END:DAYLIGHT
BEGIN:STANDARD
TZOFFSETFROM:-0400
TZOFFSETTO:-0500
TZNAME:EST
DTSTART:20141102T060000
END:STANDARD
BEGIN:DAYLIGHT
TZOFFSETFROM:-0500
TZOFFSETTO:-0400
TZNAME:EDT
DTSTART:20150308T070000
END:DAYLIGHT
BEGIN:STANDARD
TZOFFSETFROM:-0400
TZOFFSETTO:-0500
TZNAME:EST
DTSTART:20151101T060000
END:STANDARD
BEGIN:DAYLIGHT
TZOFFSETFROM:-0500
TZOFFSETTO:-0400
TZNAME:EDT
DTSTART:20160313T070000
END:DAYLIGHT
BEGIN:STANDARD
TZOFFSETFROM:-0400
TZOFFSETTO:-0500
TZNAME:EST
DTSTART:20161106T060000
END:STANDARD
END:VTIMEZONE
BEGIN:VTIMEZONE
TZID:America/Halifax
BEGIN:DAYLIGHT
TZOFFSETFROM:-0400
TZOFFSETTO:-0300
TZNAME:ADT
DTSTART:20140309T060000
END:DAYLIGHT
BEGIN:STANDARD
TZOFFSETFROM:-0300
TZOFFSETTO:-0400
TZNAME:AST
DTSTART:20141102T050000
END:STANDARD
BEGIN:DAYLIGHT
TZOFFSETFROM:-0400
TZOFFSETTO:-0300
TZNAME:ADT
DTSTART:20150308T060000
END:DAYLIGHT
BEGIN:STANDARD
TZOFFSETFROM:-0300
TZOFFSETTO:-0400
TZNAME:AST
DTSTART:20151101T050000
END:STANDARD
BEGIN:DAYLIGHT
TZOFFSETFROM:-0400
TZOFFSETTO:-0300
TZNAME:ADT
DTSTART:20160313T060000
END:DAYLIGHT
BEGIN:STANDARD
TZOFFSETFROM:-0300
TZOFFSETTO:-0400
TZNAME:AST
DTSTART:20161106T050000
END:STANDARD
END:VTIMEZONE
BEGIN:VTIMEZONE
TZID:America/New_York
BEGIN:DAYLIGHT
TZOFFSETFROM:-0500
TZOFFSETTO:-0400
TZNAME:EDT
DTSTART:20140309T070000
END:DAYLIGHT
BEGIN:STANDARD
TZOFFSETFROM:-0400
TZOFFSETTO:-0500
TZNAME:EST
DTSTART:20141102T060000
END:STANDARD
BEGIN:DAYLIGHT
TZOFFSETFROM:-0500
TZOFFSETTO:-0400
TZNAME:EDT
DTSTART:20150308T070000
END:DAYLIGHT
BEGIN:STANDARD
TZOFFSETFROM:-0400
TZOFFSETTO:-0500
TZNAME:EST
DTSTART:20151101T060000
END:STANDARD
BEGIN:DAYLIGHT
TZOFFSETFROM:-0500
TZOFFSETTO:-0400
TZNAME:EDT
DTSTART:20160313T070000
END:DAYLIGHT
BEGIN:STANDARD
TZOFFSETFROM:-0400
TZOFFSETTO:-0500
TZNAME:EST
DTSTART:20161106T060000
END:STANDARD
END:VTIMEZONE
BEGIN:VEVENT
DTSTART;TZID=America/New_York:20150125T110000
DTEND;TZID=America/New_York:20150125T190000
DTSTAMP:20260421T153932
CREATED:20150107T170148Z
LAST-MODIFIED:20150106T225555Z
UID:10000586-1422183600-1422212400@www.montrealgaming.com
SUMMARY:Queen City Melee V
DESCRIPTION:A Super Smash Bros Melee tournament for all ages at Quarterstaff Games‘s in Burlington\, VT!!  \nFeaturing world class smashers such as the mighty Roustane “Kage” Benzeguir (Canada) and New England’s fearless leader MIOM|MattDotZeb (USA)\, who have had a fierce rivalry grow over the last few years. Don’t miss out on the action and get SMASHING at the Queen City Melee V.\n \nMore information about the SSBM scene in Vermont can be found on Vermont Melee facebook page\, and also on the New England Melee facebook page. \n  \n \nTournament Directors \nLeonard Sokol\nMichael Reit \n  \nPricing: \n\nVenue Fee – 8$ (Only 3$ if you bring a full setup)\nSingles – 10$ a person\nDoubles – 5$ a person \nSchedule: \n\n11:00AM – Registration begins\nNOON – Teams bracket begins (may start at 12:30)*\n3:00PM – Singles bracket begins (could start at 3:30)**\n\n* It depends if enough people are running late. We understand\, it happens.\n ** We try to give everyone time to grab food and/or play friendlies between doubles and singles.\n \n\nRules:  \n1-on-1\n\n\n\n\nPlus / More\nSelectShow\n\n\n \n\nUsually\, sets between players are played best 2 out of 3 matches (using 3 out of 5 or 4 out of 7 for final rounds).\nDouble Elimination.\nEach match is played with timed stock\, with 4 lives and 8 minutes.\n\n\n\n\nIn the case that time runs out and both characters have an equal amount of lives\, the character with less damage wins the match. If both characters have equal lives and damage\, the match must be replayed; Sudden Death is strictly not to be played.\n\n\n\n\nItems are turned off.\nThe first match is played with a Random Stage.\n\n\n\n\nThe random select is comprised of neutral stages:\n\n\n\n\nYoshi’s Story\nFountain of Dreams\nBattlefield\nFinal Destination\nDream Land (N64)\n\n\n\n\nPlayers are given the option to “strike” stages from the random select.\n\n\n\n\nFor the first match\, characters are chosen double-blind – at the same time\, so that neither player knows his opponent’s character beforehand. In practice\, this rule is often ignored\, but players always reserve the option to force a double-blind pick.\nThe loser of the first match (and of successive matches) chooses the next stage\, and then the winner chooses his character\, and then the loser chooses his character. This series of choices is called slob picks.\n\n\n\n\nThe loser can pick either a neutral stage or a counterpick stage\, this list is based on MBR recommended ruleset:\n\n\n\n\nPokémon Stadium\n\n\n\n\nThe loser cannot pick any banned stages:\n\n\n\n\nBig Blue\nBrinstar\nBrinstar Depths\nCorneria\nFlat Zone\nFourside\nGreat Bay\nGreen Greens\nIcicle Mountain\nJungle Japes\nKongo Jungle\nKongo Jungle (N64)\nMushroom Kingdom\nMushroom Kingdom II\nMute City\nOnett\nPoké Floats\nPrincess Peach’s Castle\nRainbow Cruise\nTemple\nVenom\nYoshi’s Island (pipes)\nYoshi’s Island (N64)\n\n\n\n\nThe loser can also not choose any stage that has already been played earlier that round. This rule is known as “Dave’s Stupid Rule\,” named after Scamp.\nThe winner can ban stages from the opponent’s selection\, except in best-of-5 sets.\n\n\n\n\n\n\n\n\n2-on-2\n\n\n\n\nPlus / More\nSelectShow\n\n\n \n\nRules that apply to singles apply to team tournaments as well.\n\n\n\n\nNeutral stages (different from singles):\n\n\n\n\nYoshi’s Story\nPokémon Stadium\nBattlefield\nFinal Destination\nDream Land (N64)\n\n\n\n\nCounterpick:\n\n\n\n\nKongo Jungle 64\n\n\n\n\nBanned stages (different from singles):\n\n\n\n\nBig Blue\nBrinstar\nBrinstar Depths\nCorneria\nFlat Zone\nFountain of Dreams\nFourside\nGreat Bay\nGreen Greens\nIcicle Mountain\nJungle Japes\nKongo Jungle\nMushroom Kingdom\nMushroom Kingdom II\nMute City\nOnett\nPoké Floats\nPrincess Peach’s Castle\nRainbow Cruise\nTemple\nVenom\nYoshi’s Island (pipes)\nYoshi’s Island (N64)\n\n\n\n\n\n\nFriendly Fire (also called “team attack”) is on.\nPlayers are allowed to steal lives from their teammates by pressing start after they die.\n\n\n\n\n\n\nTechniques/Glitches\n\n\n\n\nPlus / More\nSelectShow\n\n\n \nIn order to prevent degenerate gameplay techniques\, many tournaments ban certain exploitations of the game that give one character an unintended and unfair advantage over others. \n\nBanned glitches\n\n\n\n\nFreeze Glitch\nYo-yo glitch (sometimes)\nName Entry glitch and its derivatives\n\n\n\n\nBanned Stalling Techniques\n\n\n\n\nRepeated rising pound\nRepeated Peach Bomber on a wall\nLuigi Ladder\n\n\n\n\nN.B. The rising pound and Peach Bomber on the wall are only banned if they are being use to stall. Using them to recover is acceptable.\n\n\n\n\n\n\n\n\n\n\nhttp://www.ssbwiki.com/Tournament_legal_(SSBM) \n  \nSmashboards: http://smashboards.com/threads/jan-25-2015-queen-city-melee-v-burlington-vermont.385529 \n 
URL:https://www.montrealgaming.com/lan-quebec/queen-city-melee-v/
LOCATION:Quarterstaff Games\, 152 Church St \, Burlington\, VT\, 05401\, United States
CATEGORIES:Smash Bros Event
ATTACH;FMTTYPE=image/jpeg:https://www.montrealgaming.com/wp-content/uploads/2015/01/QuarterStaff-Square.jpg
ORGANIZER;CN="Quarterstaff Games":MAILTO:qstaffvt@gmail.com
GEO:44.4765714;-73.2125125
X-APPLE-STRUCTURED-LOCATION;VALUE=URI;X-ADDRESS=Quarterstaff Games 152 Church St  Burlington VT 05401 United States;X-APPLE-RADIUS=500;X-TITLE=152 Church St:geo:-73.2125125,44.4765714
END:VEVENT
BEGIN:VEVENT
DTSTART;TZID=America/Halifax:20150918T180000
DTEND;TZID=America/Halifax:20150918T230000
DTSTAMP:20260421T153932
CREATED:20150914T190238Z
LAST-MODIFIED:20150914T190238Z
UID:10000606-1442599200-1442617200@www.montrealgaming.com
SUMMARY:Smash Tournament 2k15
DESCRIPTION:Smash Tournament 2k15\nHey everyone! Space Concordia‘s 2nd annual Smash tournament (with Project M) is on its way! \nTickets will be sold at $5.00 for ENCS\, and everyone else for $8.00.\nSo pass by the Space Lab to buy your tickets starting on Tuesday\, September 8th! \n———————————————————————————————————————————————————————- \n\n*BRING YOUR OWN CONTROLLER AND 3DS* \n*BRING SETUPS (TV AND CONSOLES)* \n\n———————————————————————————————————————————————————————- \nContact info@Spaceconcordia.ca for more information.
URL:https://www.montrealgaming.com/lan-quebec/smash-tournament-2k15/
LOCATION:Concordia University in Room EV 1.605\, 1515 St Catherine\, Montreal\, Quebec\, H3G 2W1\, Canada
ATTACH;FMTTYPE=image/jpeg:https://www.montrealgaming.com/wp-content/uploads/2015/09/facebook_event_996551213709465.jpg
ORGANIZER;CN="Space Concordia":MAILTO:info@Spaceconcordia.ca
GEO:45.4954114;-73.5777019
X-APPLE-STRUCTURED-LOCATION;VALUE=URI;X-ADDRESS=Concordia University in Room EV 1.605 1515 St Catherine Montreal Quebec H3G 2W1 Canada;X-APPLE-RADIUS=500;X-TITLE=1515 St Catherine:geo:-73.5777019,45.4954114
END:VEVENT
BEGIN:VEVENT
DTSTART;TZID=America/Halifax:20151025T110000
DTEND;TZID=America/Halifax:20151025T230000
DTSTAMP:20260421T153932
CREATED:20150920T163416Z
LAST-MODIFIED:20150920T163825Z
UID:10000609-1445770800-1445814000@www.montrealgaming.com
SUMMARY:QCM14
DESCRIPTION:A Super Smash Bros Melee tournament for all ages at Quarterstaff Games‘s in Burlington\, VT!!  \nMore information about the SSBM scene in Vermont can be found on Vermont Melee facebook page\, and also on the New England Melee facebook page. \n  \nTournament Directors \nLeonard Sokol\nMichael Reit \n  \nPricing: \n\nVenue Fee – 8$ (Only 3$ if you bring a full setup)\nSingles – 10$ a person\nDoubles – 5$ a person \nSchedule: \n\n11:00AM – Registration begins\nNOON – Teams bracket begins (may start at 12:30)*\n3:00PM – Singles bracket begins (could start at 3:30)**\n\n* It depends if enough people are running late. We understand\, it happens.\n ** We try to give everyone time to grab food and/or play friendlies between doubles and singles.
URL:https://www.montrealgaming.com/lan-quebec/qcm14/
LOCATION:Quarterstaff Games\, 152 Church St\, Burlington\, VT\, 05401-8412\, United States
CATEGORIES:Smash Bros Event
ATTACH;FMTTYPE=image/jpeg:https://www.montrealgaming.com/wp-content/uploads/2015/09/facebook_event_1039564716084588.jpg
GEO:44.4765714;-73.2125125
X-APPLE-STRUCTURED-LOCATION;VALUE=URI;X-ADDRESS=Quarterstaff Games 152 Church St Burlington VT 05401-8412 United States;X-APPLE-RADIUS=500;X-TITLE=152 Church St:geo:-73.2125125,44.4765714
END:VEVENT
BEGIN:VEVENT
DTSTART;TZID=America/New_York:20151212T100000
DTEND;TZID=America/New_York:20151212T220000
DTSTAMP:20260421T153932
CREATED:20151208T194929Z
LAST-MODIFIED:20151208T200055Z
UID:10000516-1449914400-1449957600@www.montrealgaming.com
SUMMARY:[SSBM] Melee on Mainstreet 5
DESCRIPTION:Melee on Mainstreet 5\nSIGN UP ONLINE. Use this to preregister. (It’s MANDATORY but FREE!)\nhttp://goo.gl/forms/1fpqIZBrZ1\nRegistration will close Friday\, December 11th at 6pm. \nMelee on Mainstreet is back! Featuring SSBM Singles & Doubles. Host to the MML Finale with a $700 prize pool (For MML Top 8 only!). \nEvent Details:\nLocation: McMaster University – Burke Science Building (BSB) – Room B115\, Hamilton\, Ontario\nHere is a map of the area\, as well as places to park for free (green).\nhttp://i.imgur.com/6vm2yPE.png\nThere is also paid parking on campus. \nFeatured Events:\nSSBM Singles: 10$ entry\nSSBM Doubles: 20$ entry per team\nVenue Fee: 5$ \nPayouts:\nIf less than 50:\n1st – 50%\n2nd – 25%\n3rd – 15%\n4th -10% \nIf 50+:\n1st – 50%\n2nd – 25%\n3rd – 15%\n4th – 5%\n5th (x2) – 2.5% \nDoubles:\nIf less than 16 teams:\n1st – 50%\n2nd – 30%\n3rd – 20% \nIf 16+ teams:\n1st – 50%\n2nd – 25%\n3rd – 15%\n4th -10% \nAll MML Finale participants will be granted free venue.\n(A Side Top 4\, B Side Top 4) \nRuleset:\nTBH5 Ruleset – http://www.umsmash.com/rules/#meleeruleset \nTentative Schedule: \n10:00am-12:00pm: Registration | Check-In | Friendlies\n10:30am-11:30am: MML B Side Finale\n11:30am-12:30pm: MML A Side Finale\n12:30pm-2:00pm: Wave 1 Singles Pools | Wave 2 Lunch Break\n2:00pm-3:30pm: Wave 2 Singles Pools | Wave 1 Lunch Break\n3:30pm-5:00pm: Doubles Pools\n4:00pm-7:00pm: Singles Top 32-Top 8\n5:00pm-7:00pm: Doubles Top 16\n7:00pm-9:00pm: Singles Top 8\n9:00pm-10:00pm: Friendlies | Clean-Up \nLivestream/VODs: \nMoM5 is proud to be streamed by Affinity Play. Links below. \nYouTube: https://www.youtube.com/channel/UCzmdhvk5rIKYYrBi_mmHPsg\nTwitch: twitch.tv/AffinityPlay \nWatch live video from AffinityPlay on www.twitch.tv
URL:https://www.montrealgaming.com/lan-quebec/ssbm-melee-on-mainstreet-5/
LOCATION:McMaster University – Burke Science Building (BSB) – Room B115\, 1280 Main St W\, Hamilton\, Ontario\, L8S 4L8\, Canada
CATEGORIES:Smash Bros Event
ATTACH;FMTTYPE=image/jpeg:https://www.montrealgaming.com/wp-content/uploads/2015/12/facebook_event_929883903754131.jpg
GEO:43.2633674;-79.9174744
X-APPLE-STRUCTURED-LOCATION;VALUE=URI;X-ADDRESS=McMaster University – Burke Science Building (BSB) – Room B115 1280 Main St W Hamilton Ontario L8S 4L8 Canada;X-APPLE-RADIUS=500;X-TITLE=1280 Main St W:geo:-79.9174744,43.2633674
END:VEVENT
BEGIN:VEVENT
DTSTART;TZID=America/New_York:20151230T050000
DTEND;TZID=America/New_York:20151230T230000
DTSTAMP:20260421T153932
CREATED:20150922T215811Z
LAST-MODIFIED:20150923T012741Z
UID:10000641-1451451600-1451516400@www.montrealgaming.com
SUMMARY:SMASHLOFT - Melee Weekly
DESCRIPTION:Français\n\n \nSMASHLOFT – Melee Weekly\n\nC’est quoi le Smashloft?  \nC’est un appartement dédié à l’hébergement pour les tournois Super Smash Bros. 64\, PM\, mêlée et Smash 4 hebdomadaire. \nRèglements:\n***********\n Horaire:\nHeure d’arrivée prévue: 17:00\nDébut du bracket Doubles: 21:00\nDébut du bracket Singles: 19:00\nFermeture: 23:00 \n\nAMENEZ VOTRE PROPRE MANETTE (aussi disponibles sur place a 2$)\nTous les consoles et teles sont fournis\nPrix d’entrée: 5$ DOLLAR (payé à l’entrée\, pas necessaire si vous avez un membership) + 2$ chaque pour doubles.\nNous vendons des pogos et boissons gaseuses a 1$ 😀\n\n\nEnglish\n\n \nSMASHLOFT – Melee Weekly\n\nWhat is the Smashloft? \nIt’s a loft apartment dedicated to host video game stuff for the community. We are currently hosting 64\, PM\, Melee and Smash 4 Regularly and Airdashers (BBCPEX and GGXrd mostly) and MKX biweekly. \nRules:\n***********\n Schedule:\nExpected arrival time: 17:00\nDoubles Bracket start: 21:00\nSingles Bracket start: 19:00\nClosing Time: 23:00 \n\nBRING YOUR OWN CONTROLLER. (some controllers are available for 2$)\nWe have all consoles and TVs we need here\, so no need to bring more setups\n5$ DOLLAR entry fee (paid upon entry\, waived if you have a membership) + 2$ each for doubles bracket\nWe got Pogos and soft drinks for 1$ 😀\n\n\nFB Group : www.facebook.com/groups/MeleeMTL
URL:https://www.montrealgaming.com/lan-quebec/smashloft-melee-weekly/2015-12-30/
LOCATION:SmashLoft\, 2000 Avenue Northcliffe\, Suite #106\, Montreal\, H4A 3K5\, Canada
CATEGORIES:Smash Bros Event
ATTACH;FMTTYPE=image/jpeg:https://www.montrealgaming.com/wp-content/uploads/2015/09/SSB-MONTREAL-MELEE.jpg
ORGANIZER;CN="Smashloft":MAILTO:(514) 564-6274
GEO:45.4734086;-73.6054134
X-APPLE-STRUCTURED-LOCATION;VALUE=URI;X-ADDRESS=SmashLoft 2000 Avenue Northcliffe Suite #106 Montreal H4A 3K5 Canada;X-APPLE-RADIUS=500;X-TITLE=2000 Avenue Northcliffe\, Suite #106:geo:-73.6054134,45.4734086
END:VEVENT
END:VCALENDAR