BEGIN:VCALENDAR
VERSION:2.0
PRODID:-//Montreal Gaming - Les esports au Qu&eacute;bec (Qc). - ECPv6.15.16//NONSGML v1.0//EN
CALSCALE:GREGORIAN
METHOD:PUBLISH
X-ORIGINAL-URL:https://www.montrealgaming.com
X-WR-CALDESC:Events for Montreal Gaming - Les esports au Qu&eacute;bec (Qc).
REFRESH-INTERVAL;VALUE=DURATION:PT1H
X-Robots-Tag:noindex
X-PUBLISHED-TTL:PT1H
BEGIN:VTIMEZONE
TZID:America/Halifax
BEGIN:DAYLIGHT
TZOFFSETFROM:-0400
TZOFFSETTO:-0300
TZNAME:ADT
DTSTART:20150308T060000
END:DAYLIGHT
BEGIN:STANDARD
TZOFFSETFROM:-0300
TZOFFSETTO:-0400
TZNAME:AST
DTSTART:20151101T050000
END:STANDARD
BEGIN:DAYLIGHT
TZOFFSETFROM:-0400
TZOFFSETTO:-0300
TZNAME:ADT
DTSTART:20160313T060000
END:DAYLIGHT
BEGIN:STANDARD
TZOFFSETFROM:-0300
TZOFFSETTO:-0400
TZNAME:AST
DTSTART:20161106T050000
END:STANDARD
BEGIN:DAYLIGHT
TZOFFSETFROM:-0400
TZOFFSETTO:-0300
TZNAME:ADT
DTSTART:20170312T060000
END:DAYLIGHT
BEGIN:STANDARD
TZOFFSETFROM:-0300
TZOFFSETTO:-0400
TZNAME:AST
DTSTART:20171105T050000
END:STANDARD
END:VTIMEZONE
BEGIN:VEVENT
DTSTART;TZID=America/Halifax:20160618T150000
DTEND;TZID=America/Halifax:20160619T003000
DTSTAMP:20260421T154651
CREATED:20160611T044434Z
LAST-MODIFIED:20160611T044847Z
UID:10000525-1466262000-1466296200@www.montrealgaming.com
SUMMARY:Montreal Mash-Up - Episode XVlll: Shadows Over The Realm (Part 2:) Out to the Light
DESCRIPTION:Montreal Mash-Up – Episode XVlll: Shadows Over The Realm (Part 2:) Out to the Light\nThe season has all led up to this moment.\nHigh speed kart clashes to street mashers brought us to this.\nThe shadows have finally taken over the MMU and have let out one of the biggest Mash-Up’s ever. \nCome out for new and retro video games like Power Stone 2 \, Rival Schools\, Golden Axe and many others or have some fun from our board game collection like Cards against humanity\, exploding kittens\, Catan and alot more. \nJoin us as we plunge head first into the shadows that have covered over the MMU realm\nMore tournaments in one night.\nCard games tournaments.\nLarger pot tournaments.\nTwo nights. Don’t Blink! \nIt’s an event … or events not to be missed. \nVenue Fee: $10\nTournament Fee: $3\nCard Tournament Fee: $5 \nNo outside food or drinks. Food and drinks will be sold on premises. \nContact info@montrealmashup.com for any other questions. \nFight Card \n_________________________________________________\nGuilty Gear Xrd Revelator \nPrize Pot $100.00\n1st 55%\n2nd 30%\n3rd 15% \nStart Time 4:00 pm \nRules \nDouble Elimination\nBest 2 out of 3\nSemi Best 3 out of 5\nFinals Best 3 out of 5\n_________________________________________________ \nMTG Shadows over Innistrad Draft \nPrize Pot: Shadows over Innistrad Booster Box \nStart Time 6:30 pm \nRules \nDouble Elimination\nDuels 2 out of 3 \n————————————————————————————- \nSmash Bros 4 Wii U \nPrize Pot: $250.00 \n1st 55%\n2nd 30%\n3rd 15% \nStart Time 7:00 pm \nRules \nDouble Elimination\nMatches Best 2 out of 3\nSemi-Finals: Best 3 out of 5\nFinals: Best 3 out of 5 \n_________________________________________________ \n(Community Vote)\nPrize Pot: $100.00 \n1st 55%\n2nd 30%\n3rd 15% \nStart Time: 9:00 pm \nRules \nDouble Elimination\nMatches: Best 2 out of 3 \n 
URL:https://www.montrealgaming.com/lan-quebec/montreal-mash-up-episode-xvlll-shadows-over-the-realm-part-2-out-to-the-light/
LOCATION:2407 Sainte Catherine East H2K 2J7\, 2407 Rue Sainte-Catherine E\, Montréal\, Quebec\, H2K 2J7\, Canada
CATEGORIES:Multi-eSports-Event
ATTACH;FMTTYPE=image/jpeg:https://www.montrealgaming.com/wp-content/uploads/2016/05/Montreal-Mash-Up.jpg
ORGANIZER;CN="Montreal Mash-Up":MAILTO:info@montrealmashup.com
GEO:45.528555;-73.5470517
X-APPLE-STRUCTURED-LOCATION;VALUE=URI;X-ADDRESS=2407 Sainte Catherine East H2K 2J7 2407 Rue Sainte-Catherine E Montréal Quebec H2K 2J7 Canada;X-APPLE-RADIUS=500;X-TITLE=2407 Rue Sainte-Catherine E:geo:-73.5470517,45.528555
END:VEVENT
END:VCALENDAR