BEGIN:VCALENDAR
VERSION:2.0
PRODID:-//Montreal Gaming - Les esports au Qu&eacute;bec (Qc). - ECPv6.15.16//NONSGML v1.0//EN
CALSCALE:GREGORIAN
METHOD:PUBLISH
X-ORIGINAL-URL:https://www.montrealgaming.com
X-WR-CALDESC:Events for Montreal Gaming - Les esports au Qu&eacute;bec (Qc).
REFRESH-INTERVAL;VALUE=DURATION:PT1H
X-Robots-Tag:noindex
X-PUBLISHED-TTL:PT1H
BEGIN:VTIMEZONE
TZID:America/New_York
BEGIN:DAYLIGHT
TZOFFSETFROM:-0500
TZOFFSETTO:-0400
TZNAME:EDT
DTSTART:20140309T070000
END:DAYLIGHT
BEGIN:STANDARD
TZOFFSETFROM:-0400
TZOFFSETTO:-0500
TZNAME:EST
DTSTART:20141102T060000
END:STANDARD
BEGIN:DAYLIGHT
TZOFFSETFROM:-0500
TZOFFSETTO:-0400
TZNAME:EDT
DTSTART:20150308T070000
END:DAYLIGHT
BEGIN:STANDARD
TZOFFSETFROM:-0400
TZOFFSETTO:-0500
TZNAME:EST
DTSTART:20151101T060000
END:STANDARD
BEGIN:DAYLIGHT
TZOFFSETFROM:-0500
TZOFFSETTO:-0400
TZNAME:EDT
DTSTART:20160313T070000
END:DAYLIGHT
BEGIN:STANDARD
TZOFFSETFROM:-0400
TZOFFSETTO:-0500
TZNAME:EST
DTSTART:20161106T060000
END:STANDARD
END:VTIMEZONE
BEGIN:VEVENT
DTSTART;TZID=America/New_York:20151228T180000
DTEND;TZID=America/New_York:20151228T230000
DTSTAMP:20260421T185615
CREATED:20150922T213258Z
LAST-MODIFIED:20230301T133838Z
UID:10000626-1451325600-1451343600@www.montrealgaming.com
SUMMARY:SMASHLOFT - Smash 64
DESCRIPTION:Français\n\n \nSMASHLOFT – Smash 64\nC’est quoi le Smashloft?  \nC’est un appartement dédié à l’hébergement pour les tournois Super Smash Bros. 64\, PM\, mêlée et Smash 4 hebdomadaire. \nRèglements:\n***********\nHoraire:\nHeure d’arrivée prévue: 18:00\nDébut du bracket: 19:00\nFermeture prevue: 23:00 \n\nAMENEZ VOTRE PROPRE MANETTE (aussi disponibles sur place a 2$)\nAmenez un setup si vous pouvez (console + jeu)\nPrix d’entrée: 5$ DOLLAR (payé à l’entrée)\nNous vendons des pogos et boissons gaseuses a 1$ 😀\n\n\nEnglish\n\n \nSMASHLOFT – Smash 64\nWhat is the Smashloft? \nIt’s a loft apartment dedicated to host video game stuff for the community. We are currently hosting 64\, PM\, Melee and Smash 4 Regularly and Airdashers (BBCPEX and GGXrd mostly) and MKX biweekly. \nRules:\n***********\nSchedule:\nExpected arrival time: 18:00\nBracket start: 19:00\nExpected Closing Time: 23:00 \n\nBRING YOUR OWN CONTROLLER. (some controllers are available for 2$)\nIf you can\, bring a setup (console + game)\n$5 DOLLAR entry fee (paid upon entry)\nWe got Pogos and soft drinks for 1$ 😀\n\n\nFB Group : www.facebook.com/groups/ssb64mtl
URL:https://www.montrealgaming.com/lan-quebec/smash-loft-smash-64/2015-12-28/
LOCATION:SmashLoft\, 2000 Avenue Northcliffe\, Suite #106\, Montreal\, H4A 3K5\, Canada
CATEGORIES:Smash Bros Event
ATTACH;FMTTYPE=image/jpeg:https://www.montrealgaming.com/wp-content/uploads/2015/09/SSB-MONTREAL-64.jpg
ORGANIZER;CN="Smashloft":MAILTO:(514) 564-6274
GEO:45.4734086;-73.6054134
X-APPLE-STRUCTURED-LOCATION;VALUE=URI;X-ADDRESS=SmashLoft 2000 Avenue Northcliffe Suite #106 Montreal H4A 3K5 Canada;X-APPLE-RADIUS=500;X-TITLE=2000 Avenue Northcliffe\, Suite #106:geo:-73.6054134,45.4734086
END:VEVENT
END:VCALENDAR