BEGIN:VCALENDAR
VERSION:2.0
PRODID:-//Montreal Gaming - Les esports au Qu&eacute;bec (Qc). - ECPv6.15.16//NONSGML v1.0//EN
CALSCALE:GREGORIAN
METHOD:PUBLISH
X-ORIGINAL-URL:https://www.montrealgaming.com
X-WR-CALDESC:Events for Montreal Gaming - Les esports au Qu&eacute;bec (Qc).
REFRESH-INTERVAL;VALUE=DURATION:PT1H
X-Robots-Tag:noindex
X-PUBLISHED-TTL:PT1H
BEGIN:VTIMEZONE
TZID:America/New_York
BEGIN:DAYLIGHT
TZOFFSETFROM:-0500
TZOFFSETTO:-0400
TZNAME:EDT
DTSTART:20180311T070000
END:DAYLIGHT
BEGIN:STANDARD
TZOFFSETFROM:-0400
TZOFFSETTO:-0500
TZNAME:EST
DTSTART:20181104T060000
END:STANDARD
BEGIN:DAYLIGHT
TZOFFSETFROM:-0500
TZOFFSETTO:-0400
TZNAME:EDT
DTSTART:20190310T070000
END:DAYLIGHT
BEGIN:STANDARD
TZOFFSETFROM:-0400
TZOFFSETTO:-0500
TZNAME:EST
DTSTART:20191103T060000
END:STANDARD
BEGIN:DAYLIGHT
TZOFFSETFROM:-0500
TZOFFSETTO:-0400
TZNAME:EDT
DTSTART:20200308T070000
END:DAYLIGHT
BEGIN:STANDARD
TZOFFSETFROM:-0400
TZOFFSETTO:-0500
TZNAME:EST
DTSTART:20201101T060000
END:STANDARD
END:VTIMEZONE
BEGIN:VEVENT
DTSTART;VALUE=DATE:20190211
DTEND;VALUE=DATE:20190218
DTSTAMP:20260421T162734
CREATED:20190122T052926Z
LAST-MODIFIED:20190206T072745Z
UID:10000716-1549843200-1550447999@www.montrealgaming.com
SUMMARY:Six Invitational 2019
DESCRIPTION:Français\n\n \nSix Invitational 2019\n\n\n\nDu 11 au 17 février 2019\, les joueurs professionnels\, créateurs de contenu et développeurs sont invités à célébrer Rainbow Six Siege à la Place Bell à Montréal\, Canada. \nLes 16 meilleures équipes au monde feront la compétition pour le titre de Champion du monde et la plus grande cagnotte dans l’histoire de Rainbow Six Siege\, à travers trois jours de phases de groupes en lignes et trois jours d’éliminatoires en direct sur place. \nCela sera aussi le moment de l’année pour recevoir des aperçus exclusifs sur la vie de Rainbow Six Siege avec son équipe de développement et bien sûr\, découvrir ce qui est prévu pour sa quatrième année. \nQUI PARTICIPE ?\n\n\n\n\n\n\n\n\n\n\n\n\nQUEL EST LE PROGRAMME ?\n\n\n\n\nQUI PRÉSENTE L’ÉVÉNEMENT ?\n\n\n\n\n\nOÙ PUIS-JE REGARDER L’ÉVÉNEMENT ?\n\nAnglais (chaîne 1 – Têtes de série A et D)\nAnglais (chaîne 2 – Têtes de série B et C)\nFrançais (chaîne 1 – Têtes de série A et D)\nFrançais (chaîne 2 – Têtes de série B et C) \n\n  \n\n\n\n\n\nACHETER DES BILLETS\n\n\n\n\nTICKET DE RECRUEPHASE PRÉPARATOIRE (800 PREMIERS) : 80 $ – PUIS : 90 $\n\nCOMPREND : \n\nUne place gratuite dans l’arène\nPendentif de jeu exclusif au Six Invitational 2019\nTous les pendentifs Twitch\n1 t-shirt du Six Invitational 2019\n\n\n\n\n\n\nTICKET ÉLITE(QUANTITÉ LIMITÉE) 200 $\n\nCOMPREND : \n\nUne place d’élite dans l’arène\nAccès élite (Ticket rapide)\nPendentif de jeu exclusif au Six Invitational 2019\nUn habillage d’arme dans le jeu exclusif au Six Invitational 2019\nTous les pendentifs Twitch\n1 t-shirt du Six Invitational 2019\n1 veste à capuche du Six Invitational 2019\n\n\n\n\n\n\n\n\n\nEnglish\n\n \nSix Invitational 2019\n\n\n\nFrom February 11th to 17th 2019\, fans\, professional players\, content creators\, and developers are invited to celebrate everything Rainbow Six Siege in its hometown of Montreal\, Canada\, at the Place Bell. \nThe 16 best teams in the world will compete for the title of World Champion and the largest prize pool in Rainbow Six Siege’s history\, throughout three days of group stages online and three days of playoffs live at the venue. \nThis is also the time of the year to get exclusive insights on the life of Rainbow Six Siege with its development team\, and of course\, discover what is coming for the game’s fourth year. \n\n\n\n\n\n\n\nWho’s Competing?\n\n\n\n\n\n\nWhat’s the schedule?\n \nWho’s casting?\n \n\n  \nWhere can I watch?\nEnglish (channel 1 – Seeds A&D): https://www.twitch.tv/rainbow6\nEnglish (channel 2 – Seeds B&C): https://www.twitch.tv/rainbow6bravo\nFrench (channel 1 – Seeds A&D): https://www.twitch.tv/rainbow6fr\nFrench (channel 2 – Seeds B&C): https://www.youtube.com/rainbowsixfrance \n  \n\n\n\n\nBUY TICKETS\n\n\n\n\nRECRUIT PASS : $90\n\nIncludes : \n\nFree seating in the arena\nExclusive Six Invitational 2019 in-game charm\nAll Twitch drop charms\n1 Six Invitational 2019 T-Shirt\n\n\n\n\n\n\nELITE PASS (limited quantity) : $200\n\nIncludes : \n\nElite seating in the arena\nElite accesses (Fast Pass)\nExclusive Six Invitational 2019 in-game charm\nExclusive Six Invitational 2019 in-game weapon skin\nAll Twitch drop charms\n1 Six Invitational 2019 T-Shirt\n1 Six Invitational 2019 Hoodie\n\n\n\n\n\n\n\n\n 
URL:https://www.montrealgaming.com/lan-quebec/six-invitational-2019/
LOCATION:Place Bell\, 1950 Rue Claude-Gagné\, Laval\, Quebec\, H7N 5H9\, Canada
CATEGORIES:Multi-eSports-Event,Rainbow Six Event
ATTACH;FMTTYPE=image/jpeg:https://www.montrealgaming.com/wp-content/uploads/2018/10/blog-header_335882.jpg
GEO:45.5558671;-73.7214316
X-APPLE-STRUCTURED-LOCATION;VALUE=URI;X-ADDRESS=Place Bell 1950 Rue Claude-Gagné Laval Quebec H7N 5H9 Canada;X-APPLE-RADIUS=500;X-TITLE=1950 Rue Claude-Gagné:geo:-73.7214316,45.5558671
END:VEVENT
END:VCALENDAR