BEGIN:VCALENDAR
VERSION:2.0
PRODID:-//Montreal Gaming - Les esports au Qu&eacute;bec (Qc). - ECPv6.15.16//NONSGML v1.0//EN
CALSCALE:GREGORIAN
METHOD:PUBLISH
X-ORIGINAL-URL:https://www.montrealgaming.com
X-WR-CALDESC:Events for Montreal Gaming - Les esports au Qu&eacute;bec (Qc).
REFRESH-INTERVAL;VALUE=DURATION:PT1H
X-Robots-Tag:noindex
X-PUBLISHED-TTL:PT1H
BEGIN:VTIMEZONE
TZID:America/Halifax
BEGIN:DAYLIGHT
TZOFFSETFROM:-0400
TZOFFSETTO:-0300
TZNAME:ADT
DTSTART:20160313T060000
END:DAYLIGHT
BEGIN:STANDARD
TZOFFSETFROM:-0300
TZOFFSETTO:-0400
TZNAME:AST
DTSTART:20161106T050000
END:STANDARD
BEGIN:DAYLIGHT
TZOFFSETFROM:-0400
TZOFFSETTO:-0300
TZNAME:ADT
DTSTART:20170312T060000
END:DAYLIGHT
BEGIN:STANDARD
TZOFFSETFROM:-0300
TZOFFSETTO:-0400
TZNAME:AST
DTSTART:20171105T050000
END:STANDARD
BEGIN:DAYLIGHT
TZOFFSETFROM:-0400
TZOFFSETTO:-0300
TZNAME:ADT
DTSTART:20180311T060000
END:DAYLIGHT
BEGIN:STANDARD
TZOFFSETFROM:-0300
TZOFFSETTO:-0400
TZNAME:AST
DTSTART:20181104T050000
END:STANDARD
END:VTIMEZONE
BEGIN:VTIMEZONE
TZID:America/Toronto
BEGIN:DAYLIGHT
TZOFFSETFROM:-0500
TZOFFSETTO:-0400
TZNAME:EDT
DTSTART:20160313T070000
END:DAYLIGHT
BEGIN:STANDARD
TZOFFSETFROM:-0400
TZOFFSETTO:-0500
TZNAME:EST
DTSTART:20161106T060000
END:STANDARD
BEGIN:DAYLIGHT
TZOFFSETFROM:-0500
TZOFFSETTO:-0400
TZNAME:EDT
DTSTART:20170312T070000
END:DAYLIGHT
BEGIN:STANDARD
TZOFFSETFROM:-0400
TZOFFSETTO:-0500
TZNAME:EST
DTSTART:20171105T060000
END:STANDARD
BEGIN:DAYLIGHT
TZOFFSETFROM:-0500
TZOFFSETTO:-0400
TZNAME:EDT
DTSTART:20180311T070000
END:DAYLIGHT
BEGIN:STANDARD
TZOFFSETFROM:-0400
TZOFFSETTO:-0500
TZNAME:EST
DTSTART:20181104T060000
END:STANDARD
END:VTIMEZONE
BEGIN:VTIMEZONE
TZID:America/New_York
BEGIN:DAYLIGHT
TZOFFSETFROM:-0500
TZOFFSETTO:-0400
TZNAME:EDT
DTSTART:20180311T070000
END:DAYLIGHT
BEGIN:STANDARD
TZOFFSETFROM:-0400
TZOFFSETTO:-0500
TZNAME:EST
DTSTART:20181104T060000
END:STANDARD
BEGIN:DAYLIGHT
TZOFFSETFROM:-0500
TZOFFSETTO:-0400
TZNAME:EDT
DTSTART:20190310T070000
END:DAYLIGHT
BEGIN:STANDARD
TZOFFSETFROM:-0400
TZOFFSETTO:-0500
TZNAME:EST
DTSTART:20191103T060000
END:STANDARD
BEGIN:DAYLIGHT
TZOFFSETFROM:-0500
TZOFFSETTO:-0400
TZNAME:EDT
DTSTART:20200308T070000
END:DAYLIGHT
BEGIN:STANDARD
TZOFFSETFROM:-0400
TZOFFSETTO:-0500
TZNAME:EST
DTSTART:20201101T060000
END:STANDARD
BEGIN:DAYLIGHT
TZOFFSETFROM:-0500
TZOFFSETTO:-0400
TZNAME:EDT
DTSTART:20210314T070000
END:DAYLIGHT
BEGIN:STANDARD
TZOFFSETFROM:-0400
TZOFFSETTO:-0500
TZNAME:EST
DTSTART:20211107T060000
END:STANDARD
BEGIN:DAYLIGHT
TZOFFSETFROM:-0500
TZOFFSETTO:-0400
TZNAME:EDT
DTSTART:20220313T070000
END:DAYLIGHT
BEGIN:STANDARD
TZOFFSETFROM:-0400
TZOFFSETTO:-0500
TZNAME:EST
DTSTART:20221106T060000
END:STANDARD
BEGIN:DAYLIGHT
TZOFFSETFROM:-0500
TZOFFSETTO:-0400
TZNAME:EDT
DTSTART:20230312T070000
END:DAYLIGHT
BEGIN:STANDARD
TZOFFSETFROM:-0400
TZOFFSETTO:-0500
TZNAME:EST
DTSTART:20231105T060000
END:STANDARD
END:VTIMEZONE
BEGIN:VEVENT
DTSTART;TZID=America/Halifax:20170401T120000
DTEND;TZID=America/Halifax:20170401T235900
DTSTAMP:20260421T092504
CREATED:20170321T155439Z
LAST-MODIFIED:20170323T113505Z
UID:10000695-1491048000-1491091140@www.montrealgaming.com
SUMMARY:Red Bull Proving Grounds : MTLSF Underground Hype
DESCRIPTION:Red Bull Proving Grounds : MTLSF Underground Hype\nMTLSF UnderGround Hype\, the first in a three part Spring circuit of Ranking Battles in the expanded Red Bull Proving Grounds series for Street Fighter V \nThis will be a one day event run by the MTLSF Team. Currently there will also be a Side Tournament of GGXRD:Rev as well as BB:CF Run by the MTL Airdashers crew. MTLSF will also be running a side UMVC3 Tournament. \nDATE \nSaturday April 1st \nREGISTRATION \nIt is encouraged that you pre-register at https://smash.gg/tournament/mtlsf-underground-hype-april-1st before the actual tournament. It will make the bracket making process run far smoother for staff. ***All payments\, whether as a spectator or as a player are made in person at our Registration Desk on the day of the tournament.*** \nRegistration opens at 12:00pm \nRegistration closes at 1:30pm \nTournaments begin at 2:30pm \nADDRESS \n1212 Rue Panet\, Montréal\, QC H2L 2Y7 \nPRIZE DISTRIBUTION \nThe tournament will use a graduated prize pool with distribution (percentage) as follows: \n32 – 64 entrants: 70 / 20 / 10 \n64 – 96 entrants: 65 / 20 / 10 / 5 \n96 – 128 entrants: 55 / 20 / 10 / 5 / 2.5/2.5 \n128+ entrants: 45 / 20 / 15 / 7 / 5/5 / 1.5/1.5 \nFEES \nVenue: $10 (if pre-registered) $20 (if not pre-registered) \nSpectators: $10. Note that Spectators are not eligible to enter tournaments but are welcome to play in Casuals either before or after tournaments have concluded. \nGAMES & RULES \nSTREET FIGHTER V (PS4) Double elimination tournament 2 out of 3 games per match including Winners Finals & Losers Finals 3 out of 5 games Grand Finals \nGUILTY GEAR XRD REVELATOR (PS4) Double elimination tournament 2 out of 3 games per match including Winners Finals & Losers Finals 3 out of 5 games Grand Finals \nBLAZBLUE: CENTRAL FICTION (PS4) Double elimination tournament 2 out of 3 games per match including Winners Finals & Losers Finals 3 out of 5 games Grand Finals \nULTIMATE MARVEL VS CAPCOM 3 (PS4) Double elimination tournament 3 out of 5 games per match including Winners Finals & Losers Finals 3 out of 5 games Grand Finals \nThis is a Bring Your Own Controller event. Please be ready to play your matches with either a PS4 or PS3 Arcade Stick\, or controller with accepted Adapter. \nPlease note that Legacy Controllers are banned from this event. \nSide Tournaments will be changing regularly throughout the circuit based on active participants and new games coming into play. If demand is high for a specific game such as USF4\, it will be considered and added as a side tournament. \nNOTE: There is a minimum 16 player pre-registration floor for all Side Tournaments. If a Side Tournament does not reach its pre-registration minimum by the time it closes on Friday March 31st 11:59pm\, the game will be struck from the played list on tournament date. It’s up to you as players to encourage friends to come out and ensure your favourite Side Tournaments get played. \nPLEASE CLICK AND READ CAREFULLY \nhttp://bit.ly/2m88veL \nWHAT IS RED BULL PROVING GROUNDS \nRed Bull Proving Grounds is the name of the regional Qualifier tournaments being hosted by the best tournament organizers (TOs) across North America where amateur players can prove themselves to be best in the country to earn a seat in the Red Bull Battle Grounds bracket. The TOs own and operate their own events; Red Bull is supporting as a partner. \nMore info on Red Bull Proving Grounds can be found here: http://provinggrounds.redbull.com/ \nPHASE 1 – QUALIFIER TOURNAMENTS \nThis year\, the series has been greatly expanded. Last year\, 1 representative was sent from Canada. This year\, 3 participating cities (Toronto / Montreal / Vancouver) will send THREE representatives to show who the best Region is. The top 3 will form a team that represents their region in the Red Bull Proving Grounds finals. Qualifiers work just like last year. A series of Ranking Battles taking place once per month. \nPHASE 1 POINTS PLACEMENT POINTS \n1st 300 \n2nd 250 \n3rd 225 \n4th 200 \n5th tie (2) 175 \n7th tie (2) 150 \n9th tie (4) 125 \n13th tie (4) 100 \n17th tie (8) 75 \n25th tie (8) 50 \n33rd tie (16) 30 \n49th tie (16) 20 \n65th and up 10 \nPHASE 2 – RED BULL PROVING GROUNDS REGIONALS \nRed Bull Proving Grounds has doubled in size. There are now 12 Regions to last year’s 6 and they’ve been split into Divisions of East & West. The 6 teams from each Division will face off against each other in a Round Robin tournament in Santa Monica California. The top team to come out of that tournament will move onto the Championship Match. \nPHASE 3 – CHAMPIONSHIP MATCH \nThe 2 qualifying teams from each Division will face off in the FInals to determine the top team in Red Bull Proving Grounds. This will be a 3v3 Team Tournament but the winning team must win by 2 sets for a conclusive winner. \nGRAND PRIZE \n1st place: $6000USD ($2000USD per team member) Round trip to Evolution 2017 for the Team AND the top 8 of the winning Leader board. Entry into Evolution 2017 Hotel for 4 nights at Mandalay Bay \nEVENT DATES \n(Spring Season): \nSaturday April 1st \nSaturday May 6th \nSaturday June 3rd \n(Summer Season) \nSaturday July 1st \nSaturday August 5th \nSaturday September 2nd \nSaturday October 7th \nDISCLAIMER FOR US RESIDENTS: \nWe are always happy to have friends from the United States participate in tournaments. However; it must be noted that US residents are not eligible for Red Bull Proving Grounds points. They can however secure a monetary share from the collected prize pools. \n  \nTournament rules:\n STREET FIGHTER V (PS4) Double elimination tournament 2 out of 3 games per match including Winners Finals & Losers Finals 3 out of 5 games Grand Finals\n\nGUILTY GEAR XRD REVELATOR (PS4) Double elimination tournament 2 out of 3 games per match including Winners Finals & Losers Finals 3 out of 5 games Grand Finals\n\nBLAZBLUE: CENTRAL FICTION (PS4) Double elimination tournament 2 out of 3 games per match including Winners Finals & Losers Finals 3 out of 5 games Grand Finals\n\nULTIMATE MARVEL VS CAPCOM 3 (PS4) Double elimination tournament 3 out of 5 games per match including Winners Finals & Losers Finals 3 out of 5 games Grand Finals\n 
URL:https://www.montrealgaming.com/lan-quebec/red-bull-proving-grounds-mtlsf-underground-hype/
LOCATION:Centre St-Pierre\, 1212 Rue Panet\, Montreal\, Quebec\, H2L 2Y7\, Canada
CATEGORIES:Street Fighter Event
ATTACH;FMTTYPE=image/jpeg:https://www.montrealgaming.com/wp-content/uploads/2017/03/MTLSF-Logo-3.jpg
GEO:45.5191515;-73.5534247
X-APPLE-STRUCTURED-LOCATION;VALUE=URI;X-ADDRESS=Centre St-Pierre 1212 Rue Panet Montreal Quebec H2L 2Y7 Canada;X-APPLE-RADIUS=500;X-TITLE=1212 Rue Panet:geo:-73.5534247,45.5191515
END:VEVENT
BEGIN:VEVENT
DTSTART;TZID=America/Halifax:20170805T120000
DTEND;TZID=America/Halifax:20170806T010000
DTSTAMP:20260421T092504
CREATED:20170719T102333Z
LAST-MODIFIED:20170719T102735Z
UID:10000702-1501934400-1501981200@www.montrealgaming.com
SUMMARY:MTLSF Underground Hype - August 5th
DESCRIPTION:MTLSF Underground Hype – August 5th\nRedBull Proving Grounds (Fall Season) – MTLSF Underground Hype (August 5th)\nThe first in a three part Summer / Fall circuit of Ranking Battles in the expanded Red Bull Proving Grounds series. \nThis will be a one day event run by the MTLSF Team. Currently there will also be a Side Tournaments of Disc Jam (Teams 2v2)\, TEKKEN 7 & INJUSTICE 2. \nDATE\nSaturday August 5th \nREGISTRATION\nhttps://smash.gg/tournament/mtlsf-underground-hype-august-5th\nIt is encouraged that you pre-register before the actual tournament. It will make the bracket making process run far smoother for staff. All payments\, whether as a spectator or as a player are made in person at our Registration Desk on the day of the tournament. \n(TENTATIVE TIME FRAME)\nRegistration opens at 12:00pm\nRegistration closes at 4:00pm\nTournaments begin at 5:00pm \nADDRESS:\nGEEKITTUDE\n2107 Rue Sainte-Catherine E\,\nMontréal\, QC H2K 2H9 \nPRIZE DISTRIBUTION\nThe tournament will use a graduated prize pool with distribution (percentage) as follows:\n32 – 64 entrants: 70 / 20 / 10\n64 – 96 entrants: 65 / 20 / 10 / 5\n96 – 128 entrants: 55 / 20 / 10 / 5 / 2.5/2.5\n128+ entrants: 45 / 20 / 15 / 7 / 5/5 / 1.5/1.5 \nFEES\nVenue: $10 (if pre-registered) $20 (if not pre-registered) \nTournament: $10 per tournament entered. \nSpectator: $10. Note that Spectators are not eligible to enter tournaments but are welcome to play in Casuals before or after tournaments have concluded. \nGAMES & RULES\n\nSTREET FIGHTER V (PS4) Double elimination tournament 2 out of 3 games per match including Winners Finals & Losers Finals 3 out of 5 games Grand Finals\n\nTEKKEN 7 (PS4) Double elimination tournament 3 out of 5 games per match including Winners Finals & Losers Finals 3 out of 5 games Grand Finals\n\nINJUSTICE 2 (PS4) Double elimination tournament 3 out of 5 games per match including Winners Finals & Losers Finals 3 out of 5 games Grand Finals\n\nDisc Jam (Teams 2v2) (PC/PS4) Double elimination tournament 2 out of 3 games per match including Winners Finals & Losers Finals 3 out of 5 games Grand Finals\n\nThis is a Bring Your Own Controller event. Please be ready to play your matches with either a PS4 or PS3 Arcade Stick\, or controller with accepted Adapter.\n\nNOTE: There is a minimum 16 player pre-registration for all Side Tournaments. If a Side Tournament does not reach its pre-registration minimum by the time it closes\, the game will be struck from the played list on tournament date. Make sure to share and push invites to your friends and community.\nPLEASE CLICK AND READ CAREFULLY\nhttp://bit.ly/2m88veL \nWHAT IS RED BULL PROVING GROUNDS\nRed Bull Proving Grounds is the name of the regional Qualifier tournaments being hosted by the best tournament organizers (TOs) across North America where amateur players can prove themselves to be best in the country to earn a seat in the Red Bull Battle Grounds bracket. The TOs own and operate their own events; Red Bull is supporting as a partner. \nPHASE 1 – QUALIFIER TOURNAMENTS\nThis year\, the series has been greatly expanded. Last year\, 1 representative was sent from Canada. This year\, 3 participating cities (Toronto / Montreal / Vancouver) will send THREE representatives to show who the best Region is. The top 3 will form a team that represents their region in the Red Bull Proving Grounds finals. Qualifiers work just like last year. A series of Ranking Battles taking place once per month. \nPHASE 1 POINTS PLACEMENT POINTS \n1st 300\n2nd 250\n3rd 225\n4th 200\n5th tie (2) 175\n7th tie (2) 150\n9th tie (4) 125\n13th tie (4) 100\n17th tie (8) 75\n25th tie (8) 50\n33rd tie (16) 30\n49th tie (16) 20\n65th and up 10 \nPHASE 2 – RED BULL PROVING GROUNDS REGIONALS\nRed Bull Proving Grounds has doubled in size. There are now 12 Regions to last year’s 6 and they’ve been split into Divisions of East & West. The 6 teams from each Division will face off against each other in a Round Robin tournament in Santa Monica California. The top team to come out of that tournament will move onto the Championship Match. \nPHASE 3 – CHAMPIONSHIP MATCH\nThe 2 qualifying teams from each Division will face off in the FInals to determine the top team in Red Bull Proving Grounds. This will be a 3v3 Team Tournament but the winning team must win by 2 sets for a conclusive winner. \nGRAND PRIZE\n1st place: $6000USD ($2000USD per team member) Round trip and entry into the CPT North American Championships for the Team AND the top 8 of the winning Leader board. \nEVENT DATES\nSaturday August 5th\nSaturday September 2nd\nSaturday October 7th \nDISCLAIMER FOR US RESIDENTS:\nWe are always happy to have friends from the United States participate in tournaments. However; it must be noted that US residents are not eligible for Red Bull Proving Grounds points. They can however secure a monetary share from the collected prize pools.
URL:https://www.montrealgaming.com/lan-quebec/red-bull-mtlsf-underground-hype-august-5th/
LOCATION:Geekittude\, 2107 St Catherine St E\, Montreal\, Quebec\, H2K 2N9\, Canada
CATEGORIES:Multi-eSports-Event,Street Fighter Event
ATTACH;FMTTYPE=image/jpeg:https://www.montrealgaming.com/wp-content/uploads/2017/07/facebook_event_867932530022197.jpg
GEO:45.5251312;-73.5502859
X-APPLE-STRUCTURED-LOCATION;VALUE=URI;X-ADDRESS=Geekittude 2107 St Catherine St E Montreal Quebec H2K 2N9 Canada;X-APPLE-RADIUS=500;X-TITLE=2107 St Catherine St E:geo:-73.5502859,45.5251312
END:VEVENT
BEGIN:VEVENT
DTSTART;TZID=America/Toronto:20171007T120000
DTEND;TZID=America/Toronto:20171007T235900
DTSTAMP:20260421T092504
CREATED:20171005T153040Z
LAST-MODIFIED:20221027T145723Z
UID:10000552-1507377600-1507420740@www.montrealgaming.com
SUMMARY:Red Bull Proving Grounds: MTLSF Underground Hype (Oct\, 7th)
DESCRIPTION:Red Bull Proving Grounds: MTLSF Underground Hype (Oct\, 7th)\nMTLSF Underground Hype\nThe last in a three part Summer / Fall circuit of Ranking Battles in the expanded Red Bull Proving Grounds series. \nThis will be a one day event run by the MTLSF Team. Currently there will also be a Side Tournament of TEKKEN 7 \, Disc Jam & the brand new addition Marvel Vs Capcom Infinite. \nDATE\nSaturday October 7th \nREGISTRATION\nIt is encouraged that you pre-register before the actual tournament. It will make the bracket making process run far smoother for staff. All payments\, whether as a spectator or as a player are made in person at our Registration Desk on the day of the tournament. \n(TENTATIVE TIME FRAME)\nLast Chance Registration opens at 12:00pm for all games. \nSFV:\nRegistration closes at 4:00pm\nTournaments begin at 5:00pm \nMVCi:\nRegistration closes at 2:00pm\nTournaments begin at 3:00pm \nTekken7:\nRegistration closes at 2:00pm\nTournaments begin at 3:00pm \nATTENTION NEW LOCATION !! ATTENTION NEW LOCATION\nADDRESS:\n3713 Boul St-Laurent\, Suite #301\, Montréal\, QC H2X 2V7 \nPRIZE DISTRIBUTION\nThe tournament will use a graduated prize pool with distribution (percentage) as follows:\n32 – 64 entrants: 70 / 20 / 10\n64 – 96 entrants: 65 / 20 / 10 / 5\n96 – 128 entrants: 55 / 20 / 10 / 5 / 2.5/2.5\n128+ entrants: 45 / 20 / 15 / 7 / 5/5 / 1.5/1.5 \nFEES\nVenue: $10 (if pre-registered) $20 (if not pre-registered) \nTournament: $10 per tournament entered. \nSpectator: $10. Note that Spectators are not eligible to enter tournaments but are welcome to play in Casuals before or after tournaments have concluded. \nGAMES & RULES \nSTREET FIGHTER V (PS4) Double elimination tournament 2 out of 3 games per match including Winners Finals & Losers Finals 3 out of 5 games Grand Finals \nMVCi (PS4) Double elimination tournament 3 out of 5 games per match including Winners Finals & Losers Finals 3 out of 5 games Grand Finals \nTEKKEN 7 (PS4) Double elimination tournament 3 out of 5 games per match including Winners Finals & Losers Finals 3 out of 5 games Grand Finals \nThis is a Bring Your Own Controller event. Please be ready to play your matches with either a PS4 or PS3 Arcade Stick\, or controller with accepted Adapter. \nNOTE: There is a minimum 16 player pre-registration for all Side Tournaments. If a Side Tournament does not reach its pre-registration minimum by the time it closes\, the game will be struck from the played list on tournament date. Make sure to share and push invites to your friends and community. \nPLEASE CLICK AND READ CAREFULLY\nhttp://bit.ly/2m88veL \nWHAT IS RED BULL PROVING GROUNDS\nRed Bull Proving Grounds is the name of the regional Qualifier tournaments being hosted by the best tournament organizers (TOs) across North America where amateur players can prove themselves to be best in the country to earn a seat in the Red Bull Battle Grounds bracket. The TOs own and operate their own events; Red Bull is supporting as a partner. \nPHASE 1 – QUALIFIER TOURNAMENTS\nThis year\, the series has been greatly expanded. Last year\, 1 representative was sent from Canada. This year\, 3 participating cities (Toronto / Montreal / Vancouver) will send THREE representatives to show who the best Region is. The top 3 will form a team that represents their region in the Red Bull Proving Grounds finals. Qualifiers work just like last year. A series of Ranking Battles taking place once per month. \nPHASE 1 POINTS PLACEMENT POINTS\n1st 300\n2nd 250\n3rd 225\n4th 200\n5th tie (2) 175\n7th tie (2) 150\n9th tie (4) 125\n13th tie (4) 100\n17th tie (8) 75\n25th tie (8) 50\n33rd tie (16) 30\n49th tie (16) 20\n65th and up 10 \nPHASE 2 – RED BULL PROVING GROUNDS REGIONALS\nRed Bull Proving Grounds has doubled in size. There are now 12 Regions to last year’s 6 and they’ve been split into Divisions of East & West. The 6 teams from each Division will face off against each other in a Round Robin tournament in Santa Monica California. The top team to come out of that tournament will move onto the Championship Match. \nPHASE 3 – CHAMPIONSHIP MATCH\nThe 2 qualifying teams from each Division will face off in the FInals to determine the top team in Red Bull Proving Grounds. This will be a 3v3 Team Tournament but the winning team must win by 2 sets for a conclusive winner. \nGRAND PRIZE\n1st place: $6000USD ($2000USD per team member) Round trip and entry into the CPT North American Championships for the Team AND the top 8 of the winning Leader board. \nEVENT DATES\nSaturday August 5th\nSaturday September 2nd\nSaturday October 7th \nDISCLAIMER FOR US RESIDENTS:\nWe are always happy to have friends from the United States participate in tournaments. However; it must be noted that US residents are not eligible for Red Bull Proving Grounds points. They can however secure a monetary share from the collected prize pools.
URL:https://www.montrealgaming.com/lan-quebec/red-bull-proving-grounds-mtlsf-underground-hype-oct-7th/
LOCATION:3713 Boul St-Laurent\, Suite #301\, Montréal\, QC H2X 2V7\, 3713 Boul St-Laurent\, Montreal\, Quebec\, H2X 2V7\, Canada
CATEGORIES:Multi-eSports-Event,Street Fighter Event
ATTACH;FMTTYPE=image/jpeg:https://www.montrealgaming.com/wp-content/uploads/2017/10/facebook_event_115066519171994.jpg
GEO:45.5149733;-73.5746646
X-APPLE-STRUCTURED-LOCATION;VALUE=URI;X-ADDRESS=3713 Boul St-Laurent Suite #301 Montréal QC H2X 2V7 3713 Boul St-Laurent Montreal Quebec H2X 2V7 Canada;X-APPLE-RADIUS=500;X-TITLE=3713 Boul St-Laurent:geo:-73.5746646,45.5149733
END:VEVENT
BEGIN:VEVENT
DTSTART;VALUE=DATE:20190615
DTEND;VALUE=DATE:20190616
DTSTAMP:20260421T092504
CREATED:20190429T042427Z
LAST-MODIFIED:20190613T013314Z
UID:10000569-1560556800-1560643199@www.montrealgaming.com
SUMMARY:Red Bull Player One 2019
DESCRIPTION:Français\n\n \nRed Bull Player One 2019\nÊtes-vous prêt\, Player One? ? Are you ready\, Player One? \nLe coup d’envoi du Red Bull Player One 2019 approche. Ce tournoi 1v1 sur League of Legends réunit les meilleurs duellistes amateurs du monde. Ici\, aucune équipe ne viendra à votre secours\, les affrontements sont en tête à tête\, et un seul joueur sortira vainqueur ! \nJoignez-vous à nous à Montréal le 15 juin pour la seule épreuve canadienne permettant de se qualifier pour la finale mondiale 2019 au Brésil. \n  \n✍️Inscription:\nhttps://win.gs/RedBullPlayerOneMTL\n$10 à l’avance\, $20 sur le site. Accès gratuit pour les spectateurs!\nVous devez être 16+ pour participer. \n  \n?Prix:\nLe gagnant du tournoi représentera le Canada lors de la finale mondiale Red Bull Player One au Brésil\, toutes dépenses payées. \n\nTournoi 1v1 :\n\nPro – $2000\nAmateur – $700\nDébutant – $250\n\n\nTournoi 2v2 :\n\nPro – $1000\nAmateur – $500\nDébutant – $350\n\n\n\n  \nDiscord Red Bull Canada:\nhttps://discord.gg/Bjg8xvV \n  \nRestez à l’écoute pour savoir les règles et l’horaire! \n  \n\nEnglish\n\n \nRed Bull Player One 2019\nIt’s almost time to ring the bell to kick off Red Bull Player One 2019 – a 1v1 League of Legends tournament featuring the world’s best amateur duellists. There’s no team to come to your rescue in these head-to-head showdowns. Only one player can emerge victorious! \nRed Bull Player One is a 1v1 League of Legends tournament instead of the typical 5v5. There are three tournament brackets (Beginner\, Amateur\, Pro) each with their own prize purses. Everyone starts in round robin pools and are sent to compete in a specific bracket with a different prize purse depending on their record in pools. Join us in Montreal on June 15th for the exclusive Canadian stop for a chance to make it to the 2019 world finals in Brazil. \n  \n✍️ Registration:\nhttps://win.gs/RedBullPlayerOneMTL\n$10 in advance\, $20 at the door. Spectators can watch for free!\nMust be 16+ to enter. \n  \n? Prizes:\nThe tournament winner will get to represent Canada internationally at the Red Bull Player One World Finals in Brazil\, all expenses paid. \n\n1v1 Pro Tournament\n\nPro – $2000\nAmateur – $700\nBeginner – $250\n\n\n\n\n2v2 Pro Tournament\n\nPro – $1000\nAmateur – $500\nBeginner – $350\n\n\n\n  \nDiscord Red Bull Canada:\nhttps://discord.gg/Bjg8xvV \n  \nSchedule and rules coming soon. Stay tuned! \n  \n\n  \n  \nRedbull.ca/PlayerOne\n#RedBullPlayerOne \n 
URL:https://www.montrealgaming.com/lan-quebec/montreal-red-bull-player-one-2019/
LOCATION:Esports Central\, 1231 Rue Saint-Catherine O\, Montreal\, Quebec\, H3G 1P5\, Canada
CATEGORIES:League of Legends Event
ATTACH;FMTTYPE=image/jpeg:https://www.montrealgaming.com/wp-content/uploads/2019/04/Banner-red_bull_player_one_2019.jpg
GEO:45.4984435;-73.5746763
X-APPLE-STRUCTURED-LOCATION;VALUE=URI;X-ADDRESS=Esports Central 1231 Rue Saint-Catherine O Montreal Quebec H3G 1P5 Canada;X-APPLE-RADIUS=500;X-TITLE=1231 Rue Saint-Catherine O:geo:-73.5746763,45.4984435
END:VEVENT
BEGIN:VEVENT
DTSTART;VALUE=DATE:20220513
DTEND;VALUE=DATE:20220516
DTSTAMP:20260421T092504
CREATED:20220217T235441Z
LAST-MODIFIED:20220511T175342Z
UID:10000750-1652400000-1652659199@www.montrealgaming.com
SUMMARY:LAN ETS 2022
DESCRIPTION:Français\n\n \nLe Lan ETS fait un retour à ses racines et cette fois-ci en personne !\n13 au 15 mai 2022\nPrix en argent\n20000$+\n\n\n\nEnglish\n\n \nThe Lan ETS returns to its roots and this time in person !\nMay 13 – 15 2022\nCash prizes\n20000$+\n\n  \nCS:GO @ Lan ETS 2022 – $5500 \n  \nValorant @ Lan ETS 2022 – $5500 \n  \nLeague of Legends @ Lan ETS 2022 – $7500 \n  \nRocket League @ Lan ETS 2022 – $3500 \n  \nRED BULL: Super Smash Bros Melee @ Lan ETS 2022 – $750 + GOML Circuit \n  \nRED BULL: Super Smash Bros Ultimate @ Lan ETS 2022 – $1250 + GOML Circuit \n  \nStreet Fighter V @ Lan ETS 2022 \n  \nGuilty Gear -Strive @ Lan ETS 2022 \n  \nONLINE\n  \nDota 2 @ Lan ETS [1 mai] 2022 Online   \nRainbow Six Siege @ Lan ETS [7-8 mai] 2022 Online + $2000   \nStarcraft 2 @ Lan ETS [30 avril] 2022 Online  
URL:https://www.montrealgaming.com/lan-quebec/lan-ets-2022/
LOCATION:ETS – Pavillon A\, École de technologie supérieure\, 1100 Rue Notre-Dame Ouest\, Montréal\, Quebec\, H3C 1K3\, Canada
CATEGORIES:League of Legends Event,Multi-eSports-Event,Rocket League Event,Smash Bros Event,Street Fighter Event,Valorant Event
ATTACH;FMTTYPE=image/png:https://www.montrealgaming.com/wp-content/uploads/2022/02/LAN-ETS-2022.png
ORGANIZER;CN="LAN ETS":MAILTO:contact@lanets.ca
GEO:45.4951636;-73.5628144
X-APPLE-STRUCTURED-LOCATION;VALUE=URI;X-ADDRESS=ETS – Pavillon A École de technologie supérieure 1100 Rue Notre-Dame Ouest Montréal Quebec H3C 1K3 Canada;X-APPLE-RADIUS=500;X-TITLE=1100 Rue Notre-Dame Ouest:geo:-73.5628144,45.4951636
END:VEVENT
BEGIN:VEVENT
DTSTART;TZID=America/New_York:20221111T190000
DTEND;TZID=America/New_York:20221111T235500
DTSTAMP:20260421T092504
CREATED:20221027T151447Z
LAST-MODIFIED:20221027T151642Z
UID:10000752-1668193200-1668210900@www.montrealgaming.com
SUMMARY:OCTOGONE CUP
DESCRIPTION:OCTOGONE CUP\n\nSalut on est un organisme qui organise des tournois esport avec cash prize sur les jeux League of Legend et TFT (pour le moment).\nLe tournoi prochain est le 11 Novembre en partenariat avec Concordia esport.\nIl y aura un cash prize de $400 CAD et au maximum 16 équipes pourront participer.\n\n  \n\n\n\n\n\nPlus / More: ”Rules”\nSelectShow\n\n\n \nRules:\nBonjour à tous\, l’équipe OCTOGONE est heureux de vous présenter son cinquième tournoi ! Date : Ce dernier commencera le 11 Novembre 2022 à 19h15 ! Nouveautés : Pour cette édition nous serons en collaboration avec l’association eSport de l’université de Concordia ! De ce fait\, il y aura 4 places offertes pour 4 équipes possédant au moins un étudiant de Concordia (carte étudiante à l’appui). Dépêchez vous car les premiers arrivées seront les premiers servis ! Cash prize et prix d’entrée : 1 ère place 225 CAD 2 ème place 100 CAD + 1 pack de 24 canettes de Red Bull 3 ème place 75 CAD + 1 pack de 24 canettes de Red Bull 4 ème place 1 pack de 24 Red Bull L’entrée est de 10 CAD par joueur soit 49.99 CAD par équipe. Free pour les 4 premières équipes contenant un étudiants de Concordia ! Il est désormais possible de s’inscrire seul ou à 2-3-4 (le channel recrutement reste ouvert si vous cherchez des teammates). Il y aura au maximum 16 équipes. Lancement des premiers matchs à 19h15-30h. Pour suivre et trouver vos adversaires lors du tournoi veuillez vous référer au channel “arbre-du-tournoi”. Vous avez le droit d’observer/scoot vos adversaires jusqu’à 5 mins après la formation des lobbys. (Nous espérons terminer le tournoi vers 00h-00h30) Bonne chance à tous ! *à conditions que 16 équipes soient inscrites \n\n\n\n\n\n \n  \n \nEvent Main Admin\nKraitos27 sur le discord (@otg_mtl sur instagram) \n 
URL:https://www.montrealgaming.com/lan-quebec/octogone-cup/
LOCATION:ONLINE\, 1 Côte de la Citadelle\, Québec City\, Quebec\, G1R 3R2\, Canada
CATEGORIES:League of Legends Event
ATTACH;FMTTYPE=image/jpeg:https://www.montrealgaming.com/wp-content/uploads/2022/10/post-insta-annonce-tournoi-1111-1.jpg
ORGANIZER;CN="OTG (OCTOGONE)":MAILTO:octogone.discord@gmail.com
GEO:46.8071979;-71.2081029
X-APPLE-STRUCTURED-LOCATION;VALUE=URI;X-ADDRESS=ONLINE 1 Côte de la Citadelle Québec City Quebec G1R 3R2 Canada;X-APPLE-RADIUS=500;X-TITLE=1 Côte de la Citadelle:geo:-71.2081029,46.8071979
END:VEVENT
END:VCALENDAR