BEGIN:VCALENDAR
VERSION:2.0
PRODID:-//Montreal Gaming - Les esports au Qu&eacute;bec (Qc). - ECPv6.15.16//NONSGML v1.0//EN
CALSCALE:GREGORIAN
METHOD:PUBLISH
X-ORIGINAL-URL:https://www.montrealgaming.com
X-WR-CALDESC:Events for Montreal Gaming - Les esports au Qu&eacute;bec (Qc).
REFRESH-INTERVAL;VALUE=DURATION:PT1H
X-Robots-Tag:noindex
X-PUBLISHED-TTL:PT1H
BEGIN:VTIMEZONE
TZID:America/Halifax
BEGIN:DAYLIGHT
TZOFFSETFROM:-0400
TZOFFSETTO:-0300
TZNAME:ADT
DTSTART:20150308T060000
END:DAYLIGHT
BEGIN:STANDARD
TZOFFSETFROM:-0300
TZOFFSETTO:-0400
TZNAME:AST
DTSTART:20151101T050000
END:STANDARD
BEGIN:DAYLIGHT
TZOFFSETFROM:-0400
TZOFFSETTO:-0300
TZNAME:ADT
DTSTART:20160313T060000
END:DAYLIGHT
BEGIN:STANDARD
TZOFFSETFROM:-0300
TZOFFSETTO:-0400
TZNAME:AST
DTSTART:20161106T050000
END:STANDARD
BEGIN:DAYLIGHT
TZOFFSETFROM:-0400
TZOFFSETTO:-0300
TZNAME:ADT
DTSTART:20170312T060000
END:DAYLIGHT
BEGIN:STANDARD
TZOFFSETFROM:-0300
TZOFFSETTO:-0400
TZNAME:AST
DTSTART:20171105T050000
END:STANDARD
END:VTIMEZONE
BEGIN:VEVENT
DTSTART;TZID=America/Halifax:20160415T170000
DTEND;TZID=America/Halifax:20160417T170000
DTSTAMP:20260421T114439
CREATED:20151106T231746Z
LAST-MODIFIED:20160410T202145Z
UID:10000499-1460739600-1460912400@www.montrealgaming.com
SUMMARY:Lan ETS 2016
DESCRIPTION:Français\n\n \nLan ETS: Bigger than ever.\n2016\n\nL’année 2015 a été forte en émotion pour le comité organisateur du Lan ETS. Nous avons travaillé sur un projet d’expansion qui permettra d’accueillir plus de 2000 joueurs. Le Lan ETS se tiendra donc à la Place Bonaventure du 15 au 17 avril 2016 et aura plus de 2000 places BYOC. Plus de 40 000$ sera offert aux différents gagnant des tournois et 100 000$ en prix matériels! \nLe record pour le nombre de billets vendus a déjà été fracassé et nous n’avons aucune crainte que l’édition 2016 du Lan ETS soit l’un des meilleurs Lan Party au monde. \nNous pouvons vous assurer que la mission du Lan ETS ne changera pas. Nous allons continuer à offrir une expérience LAN Party qui sera accessible à tous les calibres de joueurs\, la plus abordable possible et qui permettra de faire grandir le sport électronique au Canada. \n\nVoici une liste des tournois PC:\nCounter Strike: Global Offensive\nLeague of Legends\nDota 2\nHearthstone\nStarcraft 2\nRocket League\nHeroes of the Storm \nConsole:\nCall of Duty: Black Ops 3\nSuper Smash Bros 4\nSuper Smash Bros Melee\nStreet Fighter 5\nNHL 16 \n \nLe billets sont disponibles ci-dessous. \n\n\n\n\n\n\n\n\n\n\n\n\n\n\nBYOC \n83$\n\n\n\n\n\n\n\n  \n\n\n\n\n\n\n\nAcheter\n\n\n\n\n\n\n\n\n\n\n\n  \n\n\n\n\n\n\n\n\n\n\n\n\n\n\nConsole\n40$\n\n\n\n\n\n\n\n  \n\n\n\n\n\n\n\nAcheter\n\n\n\n\n\n\n\n\n\n\n\n  \n\n\n\n\n\n\n\n\n\n\n\n\n\n\nVisiteur\n15$\n\n\n\n\n\n\n\n  \n\n\n\n\n\n\n\nAcheter\n\n\n\n\n\n\n\n\n\n\n\n  \nN’oubliez pas de vous inscrire dans un tournoi si vous souhaitez y participer. Les bourses monétaires pour chacun des tournois sont grandement infuencées par le nombre d’inscriptions. Vous pouvez le faire ici. \n  \n \n\nEnglish\n\n \nLan ETS: Bigger than ever.\n2016\n\n2015 was strong in emotion for the organizing committee of Lan ETS. We worked on an expansion project that will welcome more than 2\,000 players. Lan ETS will take place at Place Bonaventure from April 15 to 17 2016 and will have over 2000 BYOC seats. More than $40\,000 will be offered to different tournaments and $100\,000 material prices! \nThe record for the number of tickets sold has already been shattered and we have no fear that Lan ETS 2016 will be one of the best Lan Party in the world. \nWe can assure you that the mission of Lan ETS will not change. We will continue to offer a LAN party experience that will be accessible to all calibers of players\, most affordable as possible and that will keep growing eSports in Canada. \n\nHere’s a list of the tournaments:\nPC:\nCounter Strike: Global Offensive\nLeague of Legends\nDota 2\nHearthstone\nStarcraft 2\nRocket League\nHeroes of the Storm \nConsole:\nCall of Duty: Black Ops 3\nSuper Smash Bros 4\nSuper Smash Bros Melee\nStreet Fighter 5\nNHL 16 \n \nTickets are available below. \n\n\n\n\n\n\n\n\n\n\n\n\n\n\nBYOC \n83$\n\n\n\n\n\n\n\n\n\n\n\n\n\n\nBuy now\n\n\n\n\n\n\n\n\n\n\n\n\n\n\n\n\n\n\n\n\n\n\n\nConsole\n40$\n\n\n\n\n\n\n\n\n\n\n\n\n\n\nBuy now\n\n\n\n\n\n\n\n\n\n\n\n\n\n\n\n\n\n\n\n\n\n\n\nGuest\n15$\n\n\n\n\n\n\n\n\n\n\n\n\n\n\nBuy now\n\n\n\n\n\n\n\n\n\n\n\n  \nDon’t forget to sign up in a tournament if you want to participate. Pool prizes for each tournament are greatly influenced by registration. You can do it here. \n 
URL:https://www.montrealgaming.com/lan-quebec/lan-ets-2016/
LOCATION:Place Bonaventure\, 800\, De La Gauchetière St. West Suite 240\, Montreal\, Quebec\, H5A 1K6\, Canada
CATEGORIES:Call of Duty Event,Counter-Strike Event,DOTA Event,Hearthstone Event,Heroes of the Storm Event,League of Legends Event,Multi-eSports-Event,NHL Event,Rocket League Event,Smash Bros Event,Starcraft Event,Street Fighter Event
ATTACH;FMTTYPE=image/png:https://www.montrealgaming.com/wp-content/uploads/2015/11/facebook_event_1493123544317650.png
ORGANIZER;CN="LAN ETS":MAILTO:contact@lanets.ca
GEO:45.5001769;-73.5652741
X-APPLE-STRUCTURED-LOCATION;VALUE=URI;X-ADDRESS=Place Bonaventure 800 De La Gauchetière St. West Suite 240 Montreal Quebec H5A 1K6 Canada;X-APPLE-RADIUS=500;X-TITLE=800\, De La Gauchetière St. West Suite 240:geo:-73.5652741,45.5001769
END:VEVENT
END:VCALENDAR