BEGIN:VCALENDAR
VERSION:2.0
PRODID:-//Montreal Gaming - Les esports au Qu&eacute;bec (Qc). - ECPv6.15.16//NONSGML v1.0//EN
CALSCALE:GREGORIAN
METHOD:PUBLISH
X-ORIGINAL-URL:https://www.montrealgaming.com
X-WR-CALDESC:Events for Montreal Gaming - Les esports au Qu&eacute;bec (Qc).
REFRESH-INTERVAL;VALUE=DURATION:PT1H
X-Robots-Tag:noindex
X-PUBLISHED-TTL:PT1H
BEGIN:VTIMEZONE
TZID:America/New_York
BEGIN:DAYLIGHT
TZOFFSETFROM:-0500
TZOFFSETTO:-0400
TZNAME:EDT
DTSTART:20170312T070000
END:DAYLIGHT
BEGIN:STANDARD
TZOFFSETFROM:-0400
TZOFFSETTO:-0500
TZNAME:EST
DTSTART:20171105T060000
END:STANDARD
BEGIN:DAYLIGHT
TZOFFSETFROM:-0500
TZOFFSETTO:-0400
TZNAME:EDT
DTSTART:20180311T070000
END:DAYLIGHT
BEGIN:STANDARD
TZOFFSETFROM:-0400
TZOFFSETTO:-0500
TZNAME:EST
DTSTART:20181104T060000
END:STANDARD
BEGIN:DAYLIGHT
TZOFFSETFROM:-0500
TZOFFSETTO:-0400
TZNAME:EDT
DTSTART:20190310T070000
END:DAYLIGHT
BEGIN:STANDARD
TZOFFSETFROM:-0400
TZOFFSETTO:-0500
TZNAME:EST
DTSTART:20191103T060000
END:STANDARD
END:VTIMEZONE
BEGIN:VEVENT
DTSTART;TZID=America/New_York:20180220T190000
DTEND;TZID=America/New_York:20180220T230000
DTSTAMP:20260421T133357
CREATED:20180129T141207Z
LAST-MODIFIED:20180129T141326Z
UID:10000558-1519153200-1519167600@www.montrealgaming.com
SUMMARY:Gam1ng Café vs Skyzo Hearthstone
DESCRIPTION:Gam1ng Café vs Skyzo Hearthstone\nFriendly fireside Gatherings open to all Hearthstone fans! \nThis is a LAN event hosted by 2 Canadian LAN Center! (Quebec) \nGam1ng Café (Montreal) vs Skyzo  (Quebec) \n  \nFor registration please fill out this form first: https://goo.gl/iD2LBf \n\nTournament rules:\n Swiss to top 8 Single Elimination\, 32 players max\, Conquest\, Bo5 Standard Mode\, One Ban & 4 Heroes pre-selected.
URL:https://www.montrealgaming.com/lan-quebec/gam1ng-cafe-vs-skyzo-hearthstone/
LOCATION:ONLINE\, 1 Côte de la Citadelle\, Québec City\, Quebec\, G1R 3R2\, Canada
CATEGORIES:Hearthstone Event
ATTACH;FMTTYPE=image/jpeg:https://www.montrealgaming.com/wp-content/uploads/2018/01/HS_mtl-vs-qc.jpg
ORGANIZER;CN="Skyzo":MAILTO:mathieu@cea-acd.com
GEO:46.8071979;-71.2081029
X-APPLE-STRUCTURED-LOCATION;VALUE=URI;X-ADDRESS=ONLINE 1 Côte de la Citadelle Québec City Quebec G1R 3R2 Canada;X-APPLE-RADIUS=500;X-TITLE=1 Côte de la Citadelle:geo:-71.2081029,46.8071979
END:VEVENT
END:VCALENDAR