BEGIN:VCALENDAR
VERSION:2.0
PRODID:-//Montreal Gaming - Les esports au Qu&eacute;bec (Qc). - ECPv6.15.16//NONSGML v1.0//EN
CALSCALE:GREGORIAN
METHOD:PUBLISH
X-ORIGINAL-URL:https://www.montrealgaming.com
X-WR-CALDESC:Events for Montreal Gaming - Les esports au Qu&eacute;bec (Qc).
REFRESH-INTERVAL;VALUE=DURATION:PT1H
X-Robots-Tag:noindex
X-PUBLISHED-TTL:PT1H
BEGIN:VTIMEZONE
TZID:America/New_York
BEGIN:DAYLIGHT
TZOFFSETFROM:-0500
TZOFFSETTO:-0400
TZNAME:EDT
DTSTART:20140309T070000
END:DAYLIGHT
BEGIN:STANDARD
TZOFFSETFROM:-0400
TZOFFSETTO:-0500
TZNAME:EST
DTSTART:20141102T060000
END:STANDARD
BEGIN:DAYLIGHT
TZOFFSETFROM:-0500
TZOFFSETTO:-0400
TZNAME:EDT
DTSTART:20150308T070000
END:DAYLIGHT
BEGIN:STANDARD
TZOFFSETFROM:-0400
TZOFFSETTO:-0500
TZNAME:EST
DTSTART:20151101T060000
END:STANDARD
BEGIN:DAYLIGHT
TZOFFSETFROM:-0500
TZOFFSETTO:-0400
TZNAME:EDT
DTSTART:20160313T070000
END:DAYLIGHT
BEGIN:STANDARD
TZOFFSETFROM:-0400
TZOFFSETTO:-0500
TZNAME:EST
DTSTART:20161106T060000
END:STANDARD
END:VTIMEZONE
BEGIN:VTIMEZONE
TZID:America/Halifax
BEGIN:DAYLIGHT
TZOFFSETFROM:-0400
TZOFFSETTO:-0300
TZNAME:ADT
DTSTART:20150308T060000
END:DAYLIGHT
BEGIN:STANDARD
TZOFFSETFROM:-0300
TZOFFSETTO:-0400
TZNAME:AST
DTSTART:20151101T050000
END:STANDARD
BEGIN:DAYLIGHT
TZOFFSETFROM:-0400
TZOFFSETTO:-0300
TZNAME:ADT
DTSTART:20160313T060000
END:DAYLIGHT
BEGIN:STANDARD
TZOFFSETFROM:-0300
TZOFFSETTO:-0400
TZNAME:AST
DTSTART:20161106T050000
END:STANDARD
BEGIN:DAYLIGHT
TZOFFSETFROM:-0400
TZOFFSETTO:-0300
TZNAME:ADT
DTSTART:20170312T060000
END:DAYLIGHT
BEGIN:STANDARD
TZOFFSETFROM:-0300
TZOFFSETTO:-0400
TZNAME:AST
DTSTART:20171105T050000
END:STANDARD
END:VTIMEZONE
BEGIN:VEVENT
DTSTART;TZID=America/New_York:20151231T050000
DTEND;TZID=America/New_York:20151231T233000
DTSTAMP:20260421T141310
CREATED:20150922T222155Z
LAST-MODIFIED:20150923T012524Z
UID:10000656-1451538000-1451604600@www.montrealgaming.com
SUMMARY:SMASHLOFT - Smash 4
DESCRIPTION:Français\n\n \nSMASHLOFT – Smash 4\n\nC’est quoi le Smashloft?  \nC’est un appartement dédié à l’hébergement pour les tournois Super Smash Bros. 64\, PM\, mêlée et Smash 4 hebdomadaire. \nRèglements:\n***********\nHoraire:\nHeure d’arrivée prévue: 17:00\nDébut du bracket Doubles: 21:00\nDébut du bracket Singles: 19:00\nFermeture: 23:00 \n\nAMENEZ VOTRE PROPRE MANETTE (aussi disponibles sur place a 2$)\nPre-enregistrement pour Singles possible. Parlez avec moi\nAmenez un setup si vous pouvez (console + jeu + adapter)\nPrix d’entrée: 5$ DOLLAR (payé à l’entrée\, pas necessaire si vous avez un membership)\n>> A cause du temps limite\, nous ne faisons pas de doubles side event.\nNous vendons des pogos et boissons gaseuses a 1$ 😀\nUn rabais de 5$ est offert si vous amenez un Wii U avec l’adaptateur + DLCs\n\n\nEnglish\n\n \nSMASHLOFT – Smash 4\n\nWhat is the Smashloft? \nIt’s a loft apartment dedicated to host video game stuff for the community. We are currently hosting 64\, PM\, Melee and Smash 4 Regularly and Airdashers (BBCPEX and GGXrd mostly) and MKX biweekly. \nRules:\n***********\nSchedule:\nExpected arrival time: 17:00\nSingles Bracket start: 19:00\nExpected Closing Time: 23:30 \n\nBRING YOUR OWN CONTROLLER. (some controllers are available for 2$)\nPre-registration available for singles. Let me know.\nIf you can\, bring a setup (console + game + adapter)\n\n5$ DOLLAR entry fee (paid upon entry\, waived if you have a membership)\n>> Generally due time constraints\, we don’t do a doubles side event.\nWe got Pogos and soft drinks for 1$ 😀\nFree if you bring a Wii U setup with an adapter + DLCs\n\n\nFB Group : www.facebook.com/groups/ssb4mtl
URL:https://www.montrealgaming.com/lan-quebec/smashloft-smash-4/2015-12-31/
LOCATION:SmashLoft\, 2000 Avenue Northcliffe\, Suite #106\, Montreal\, H4A 3K5\, Canada
CATEGORIES:Smash Bros Event
ATTACH;FMTTYPE=image/jpeg:https://www.montrealgaming.com/wp-content/uploads/2015/09/SSB-MONTREAL-WiiU.jpg
ORGANIZER;CN="Smashloft":MAILTO:(514) 564-6274
GEO:45.4734086;-73.6054134
X-APPLE-STRUCTURED-LOCATION;VALUE=URI;X-ADDRESS=SmashLoft 2000 Avenue Northcliffe Suite #106 Montreal H4A 3K5 Canada;X-APPLE-RADIUS=500;X-TITLE=2000 Avenue Northcliffe\, Suite #106:geo:-73.6054134,45.4734086
END:VEVENT
BEGIN:VEVENT
DTSTART;TZID=America/Halifax:20160717T130000
DTEND;TZID=America/Halifax:20160717T200000
DTSTAMP:20260421T141310
CREATED:20160702T191721Z
LAST-MODIFIED:20160702T191721Z
UID:10000531-1468760400-1468785600@www.montrealgaming.com
SUMMARY:Smash a Sherbz 4
DESCRIPTION:Smash a Sherbz 4\nAprès le grand succès des 3 premières itérations de Smash @ Sherbz\, nous sommes de retour avec un autre tournoi. Encore un fois\, cet évenement est un tournoi amical de Super Smash Bros For Wii U organisé par des élèves de l’Université de Sherbrooke. Le but de ce tournoi est simplement de s’amuser et d’apprendre à connaître les joueurs de la région de Sherbrooke. \nTournament rules:\nENGLISH WILL FOLLOW \nDonc les formats de jeu pour le tournoi sont : \n1. Smash 4 Singles (1v1)\n2. Smash 4 Doubles (2v2) \nTous règles du tournoi seront presque identiques à celle de EVO 2016 :\nhttp://evo.shoryuken.com/additional-rules/ \nToutefois\, il y a 2 règles qui s’ajoute:\n1. On permet toutes les manettes\n2. 1 match de Doubles dure 8 minutes \nLe tarif pour participer pour le tournoi est le suivant :\n-10$ par participants pour Singles\n-10$ par équipe pour Doubles \nENGLISH :\nTwo game formats will be available :\n1. Smash 4 Singles (1v1)\n2. Smash 4 Doubles (2v2) \nThe tournament ruleset can be found here :\nhttp://evo.shoryuken.com/additional-rules/ \nThere are 2 additionnal rules added :\n1. We accept any controller\n2. Doubles matches are 8 minutes long \nThe entry fee for the tournametn is :\n1. 10$ per player for Singles\n2. 10$ per teams for Doubles
URL:https://www.montrealgaming.com/lan-quebec/smash-a-sherbz-4/
LOCATION:Refuge des Brasseurs\, 2155 rue Galt Ouest\, Sherbrooke\, QC\, J1K 1K3\, Canada
CATEGORIES:Smash Bros Event
ATTACH;FMTTYPE=image/png:https://www.montrealgaming.com/wp-content/uploads/2016/07/facebook_event_1814390045447911.png
ORGANIZER;CN="SSBSherbrooke":MAILTO:ssbsherbrooke@gmail.com
GEO:45.3871228;-71.9259283
X-APPLE-STRUCTURED-LOCATION;VALUE=URI;X-ADDRESS=Refuge des Brasseurs 2155 rue Galt Ouest Sherbrooke QC J1K 1K3 Canada;X-APPLE-RADIUS=500;X-TITLE=2155 rue Galt Ouest:geo:-71.9259283,45.3871228
END:VEVENT
END:VCALENDAR