BEGIN:VCALENDAR
VERSION:2.0
PRODID:-//Montreal Gaming - Les esports au Qu&eacute;bec (Qc). - ECPv6.15.16//NONSGML v1.0//EN
CALSCALE:GREGORIAN
METHOD:PUBLISH
X-ORIGINAL-URL:https://www.montrealgaming.com
X-WR-CALDESC:Events for Montreal Gaming - Les esports au Qu&eacute;bec (Qc).
REFRESH-INTERVAL;VALUE=DURATION:PT1H
X-Robots-Tag:noindex
X-PUBLISHED-TTL:PT1H
BEGIN:VTIMEZONE
TZID:America/Halifax
BEGIN:DAYLIGHT
TZOFFSETFROM:-0400
TZOFFSETTO:-0300
TZNAME:ADT
DTSTART:20140309T060000
END:DAYLIGHT
BEGIN:STANDARD
TZOFFSETFROM:-0300
TZOFFSETTO:-0400
TZNAME:AST
DTSTART:20141102T050000
END:STANDARD
BEGIN:DAYLIGHT
TZOFFSETFROM:-0400
TZOFFSETTO:-0300
TZNAME:ADT
DTSTART:20150308T060000
END:DAYLIGHT
BEGIN:STANDARD
TZOFFSETFROM:-0300
TZOFFSETTO:-0400
TZNAME:AST
DTSTART:20151101T050000
END:STANDARD
BEGIN:DAYLIGHT
TZOFFSETFROM:-0400
TZOFFSETTO:-0300
TZNAME:ADT
DTSTART:20160313T060000
END:DAYLIGHT
BEGIN:STANDARD
TZOFFSETFROM:-0300
TZOFFSETTO:-0400
TZNAME:AST
DTSTART:20161106T050000
END:STANDARD
END:VTIMEZONE
BEGIN:VTIMEZONE
TZID:America/New_York
BEGIN:DAYLIGHT
TZOFFSETFROM:-0500
TZOFFSETTO:-0400
TZNAME:EDT
DTSTART:20140309T070000
END:DAYLIGHT
BEGIN:STANDARD
TZOFFSETFROM:-0400
TZOFFSETTO:-0500
TZNAME:EST
DTSTART:20141102T060000
END:STANDARD
BEGIN:DAYLIGHT
TZOFFSETFROM:-0500
TZOFFSETTO:-0400
TZNAME:EDT
DTSTART:20150308T070000
END:DAYLIGHT
BEGIN:STANDARD
TZOFFSETFROM:-0400
TZOFFSETTO:-0500
TZNAME:EST
DTSTART:20151101T060000
END:STANDARD
BEGIN:DAYLIGHT
TZOFFSETFROM:-0500
TZOFFSETTO:-0400
TZNAME:EDT
DTSTART:20160313T070000
END:DAYLIGHT
BEGIN:STANDARD
TZOFFSETFROM:-0400
TZOFFSETTO:-0500
TZNAME:EST
DTSTART:20161106T060000
END:STANDARD
END:VTIMEZONE
BEGIN:VTIMEZONE
TZID:America/New_York
BEGIN:DAYLIGHT
TZOFFSETFROM:-0500
TZOFFSETTO:-0400
TZNAME:EDT
DTSTART:20170312T070000
END:DAYLIGHT
BEGIN:STANDARD
TZOFFSETFROM:-0400
TZOFFSETTO:-0500
TZNAME:EST
DTSTART:20171105T060000
END:STANDARD
BEGIN:DAYLIGHT
TZOFFSETFROM:-0500
TZOFFSETTO:-0400
TZNAME:EDT
DTSTART:20180311T070000
END:DAYLIGHT
BEGIN:STANDARD
TZOFFSETFROM:-0400
TZOFFSETTO:-0500
TZNAME:EST
DTSTART:20181104T060000
END:STANDARD
BEGIN:DAYLIGHT
TZOFFSETFROM:-0500
TZOFFSETTO:-0400
TZNAME:EDT
DTSTART:20190310T070000
END:DAYLIGHT
BEGIN:STANDARD
TZOFFSETFROM:-0400
TZOFFSETTO:-0500
TZNAME:EST
DTSTART:20191103T060000
END:STANDARD
BEGIN:DAYLIGHT
TZOFFSETFROM:-0500
TZOFFSETTO:-0400
TZNAME:EDT
DTSTART:20200308T070000
END:DAYLIGHT
BEGIN:STANDARD
TZOFFSETFROM:-0400
TZOFFSETTO:-0500
TZNAME:EST
DTSTART:20201101T060000
END:STANDARD
BEGIN:DAYLIGHT
TZOFFSETFROM:-0500
TZOFFSETTO:-0400
TZNAME:EDT
DTSTART:20210314T070000
END:DAYLIGHT
BEGIN:STANDARD
TZOFFSETFROM:-0400
TZOFFSETTO:-0500
TZNAME:EST
DTSTART:20211107T060000
END:STANDARD
END:VTIMEZONE
BEGIN:VEVENT
DTSTART;TZID=America/Halifax:20150917T170000
DTEND;TZID=America/Halifax:20150917T170000
DTSTAMP:20260421T131119
CREATED:20150911T225454Z
LAST-MODIFIED:20150911T225629Z
UID:10000605-1442509200-1442509200@www.montrealgaming.com
SUMMARY:LAN at McGill by MeSA and CSUS
DESCRIPTION:LAN at McGill\nThis year McGill e-Sports and CSUS are bringing you bi-weekly LANs! \nBring your own computers and come meet other students who are passionate about League\, DOTA\, CS:GO\, Hearthstone\, Starcraft or any other game! \nInvite your buddies and see you there! \nNote: No food or drinks in the lab
URL:https://www.montrealgaming.com/lan-quebec/lan-at-mcgill-by-mesa-and-csus/
LOCATION:3630 University – Trottier Building\, Room 3090\, 3630 University\, Montreal\, Quebec\, Canada
CATEGORIES:Counter-Strike Event,DOTA Event,Hearthstone Event,League of Legends Event,Starcraft Event
ATTACH;FMTTYPE=image/jpeg:https://www.montrealgaming.com/wp-content/uploads/2015/09/facebook_event_1476845699283290.jpg
GEO:45.5074008;-73.579024
X-APPLE-STRUCTURED-LOCATION;VALUE=URI;X-ADDRESS=3630 University – Trottier Building Room 3090 3630 University Montreal Quebec Canada;X-APPLE-RADIUS=500;X-TITLE=3630 University:geo:-73.579024,45.5074008
END:VEVENT
BEGIN:VEVENT
DTSTART;TZID=America/New_York:20151114T100000
DTEND;TZID=America/New_York:20151115T150000
DTSTAMP:20260421T131119
CREATED:20150922T204229Z
LAST-MODIFIED:20151022T003232Z
UID:10000611-1447495200-1447599600@www.montrealgaming.com
SUMMARY:LAN Montmorency Automne 2015
DESCRIPTION:LAN Montmorency Automne 2015\nNous somme fier de vous annoncer le prochain LAN qui se tiendra le 14 et le 15 novembre 2015 au Collège Montmorency ! 96 places BYOC et 32 places consoles seront disponibles. \nLes billets sont en vente au prix de 20$ pour BYOC et 10$ pour consoles. Les étudiants du Collège Montmorency auront droit à un rabais de 5$. Vous pouvez vous procurez votre billet à l’adresse suivante: https://lanmomo.org/tickets \nNous recherchons présentement des bénévoles ! Veuillez nous contacter à l’adresse info@lanmomo.org si vous êtes intéressé.
URL:https://www.montrealgaming.com/lan-quebec/lan-montmorency-2015/
LOCATION:Collège Montmorency\, 475\, boulevard de l'Avenir\, Laval\, QC\, H7N5H9\, Canada
CATEGORIES:Counter-Strike Event,DOTA Event,Hearthstone Event,Heroes of the Storm Event,League of Legends Event,Multi-eSports-Event,Smash Bros Event,Smite Event,Starcraft Event
ATTACH;FMTTYPE=image/jpeg:https://www.montrealgaming.com/wp-content/uploads/2015/09/LAN-Montmorency-Automne-2015.jpg
GEO:45.5599925;-73.7188475
X-APPLE-STRUCTURED-LOCATION;VALUE=URI;X-ADDRESS=Collège Montmorency 475 boulevard de l'Avenir Laval QC H7N5H9 Canada;X-APPLE-RADIUS=500;X-TITLE=475\, boulevard de l'Avenir:geo:-73.7188475,45.5599925
END:VEVENT
BEGIN:VEVENT
DTSTART;TZID=America/New_York:20180927T190000
DTEND;TZID=America/New_York:20180927T233000
DTSTAMP:20260421T131120
CREATED:20180925T153025Z
LAST-MODIFIED:20180925T153528Z
UID:10000713-1538074800-1538091000@www.montrealgaming.com
SUMMARY:Soirée Starcraft
DESCRIPTION:Une soirée Starcraft haute en couleur! Que se soit pour jouer au bon vieux classique Starcraft Broodwars ou encore le plus récent Starcraft II\, cette soirée est pour rencontrer d’autres amateurs de ce bon jeu et s’amuser! \nNous organiserons un mini-tournoi 1v1 sur Starcraft II. Pour y participer\, vous devez vous inscrire avant le 26 septembre directement dans l’événement et être présent à la soirée avant 19h15. \nPour les joueurs moins compétitif\, nous ferons des games amicales aussi 🙂 \n12$ non-membre/9$ membre de 19h à 23h. \nBo3 simple élimination ou Bo1 double-élimination selon le nombre de joueurs\, sujet à changement.\n\nFormule très amicale :)\n  \n  \n 
URL:https://www.montrealgaming.com/lan-quebec/soiree-starcraft/
LOCATION:pin Hall of Geek Centre de jeux\, 1100 boulevard Guillaume-Couture\, Lévis\, Quebec\, G6W 5M6\, Canada
CATEGORIES:Starcraft Event
ATTACH;FMTTYPE=image/jpeg:https://www.montrealgaming.com/wp-content/uploads/2018/09/StarcraftLogo.jpg
ORGANIZER;CN="Alexandre Savard":MAILTO:al_savardo@hotmail.com
GEO:46.7322981;-71.2675408
X-APPLE-STRUCTURED-LOCATION;VALUE=URI;X-ADDRESS=pin Hall of Geek Centre de jeux 1100 boulevard Guillaume-Couture Lévis Quebec G6W 5M6 Canada;X-APPLE-RADIUS=500;X-TITLE=1100 boulevard Guillaume-Couture:geo:-71.2675408,46.7322981
END:VEVENT
BEGIN:VEVENT
DTSTART;TZID=America/New_York:20180929T163000
DTEND;TZID=America/New_York:20180929T213000
DTSTAMP:20260421T131120
CREATED:20180912T225157Z
LAST-MODIFIED:20180912T225157Z
UID:10000710-1538238600-1538256600@www.montrealgaming.com
SUMMARY:Meltdown SC2 - 29 septembre
DESCRIPTION:Meltdown SC2\n29 septembre\nHey tout le monde!! Dreamhack Montréal est terminée\, et moi je sais par pour vous mais je me sens plus inspiré que jamais de continuer la tradition du Meltdown SC2 à Montréal! on continue de faire nos rencontres mensuelles SC2. Tournoi 1v1 de formule classique\, avec simple élimination BO3 ou double élimination BO1 selon le nombre de personne qui seront là! L’heure de départ officielle planifiée du tournoi est 5h\, arrivez plus tôt si vous voulez vous réchauffer. En fin de soirée\, si le tournoi finit assez tôt\, on fait des team games entre nous\, toujours beaucoup de fun en perspective également 😉 \nOn laissera un pichet de contributions volontaires pour ceux qui veulent participer à créer un petit prize pool\, mais ça n’est pas une condition pour participer au tournoi. Il y a toujours la consommation offerte par le bar également au gagnant\, bien entendu! \nOn commande normalement de la pizza vers 6h et je demande simplement une contribution de 5$ pour deux pointes. \nIl n’y a pas de niveau minimum pour participer! Tout le monde est le bienvenu! \nTournament rules:\nTournoi 1v1 de formule classique\, avec simple élimination BO3 ou double élimination BO1 selon le nombre de personne qui seront là! L’heure de départ officielle planifiée du tournoi est 5h\, arrivez plus tôt si vous voulez vous réchauffer.\n 
URL:https://www.montrealgaming.com/lan-quebec/meltdown-sc2-29-septembre/
LOCATION:Meltdown Montreal\, 2035 St Denis St\, Montreal\, Quebec\, H2X 3K8\, Canada
CATEGORIES:Starcraft Event
ATTACH;FMTTYPE=image/jpeg:https://www.montrealgaming.com/wp-content/uploads/2018/09/Capture.jpg
ORGANIZER;CN="Alexandre Savard":MAILTO:al_savardo@hotmail.com
GEO:45.5161904;-73.5658435
X-APPLE-STRUCTURED-LOCATION;VALUE=URI;X-ADDRESS=Meltdown Montreal 2035 St Denis St Montreal Quebec H2X 3K8 Canada;X-APPLE-RADIUS=500;X-TITLE=2035 St Denis St:geo:-73.5658435,45.5161904
END:VEVENT
BEGIN:VEVENT
DTSTART;TZID=America/New_York:20190302T100000
DTEND;TZID=America/New_York:20190303T170000
DTSTAMP:20260421T131120
CREATED:20190131T011116Z
LAST-MODIFIED:20190219T184122Z
UID:10000562-1551520800-1551632400@www.montrealgaming.com
SUMMARY:Polybash XIX
DESCRIPTION:Français\n\n \nPolybash XIX\nCette année se déroule la 19ème édition du PolyBash! Plus gros que jamais\, ce LAN party de grande envergure offrira des tournois de League of Legends (places limité à 12 équipes)\, Overwatch (places limité à 8 équipes)\, Starcraft II: Legacy of the Void\,Rocket League\, Hearthstone\, Super Smash Bros Melee et Super Smash Bros Ultimate! \nSi vous êtes intéressé à être bénévole pour l’événement (TO ou caster) contactez-nous sur notre page Facebook 🙂 \nLes billets seront bientôt disponible sur\nhttp://comic.polymtl.ca/polybash-vip-2/inscription/ ou directement dans notre local (C215.2\, Polytechnique)! \nNotez que les participants peuvent s’inscrire à plusieurs tournois mais qu’il est de leur responsabilité de s’assurer que les horaires des tournois le permettent. \n  \n\nBillet/Ticket (Pre-order): 10$\nBillet/Ticket (À la porte) : 10$\nEntrée tournoi/Tournament Entry : 10$\n\nTout joueur participant au PolyBash se doit de lire et accepter les règlements et consignes décrites ici. Toute personne ne respectant pas les règlements peut se faire expulser de l’évènement sans remboursement en tout temps. Il est à noter que pour des raisons de clarté et de concision\, l’emploi du masculin implique également le féminin.\n\n-Les organisateurs du PolyBash déclinent toute responsabilité quant aux pertes\, vol\, et/ou bris de biens appartenant aux participants. Chaque participant est responsable de son ordinateur\, de sa console et/ou de ses accessoires\, ainsi que de tous ses effets personnels. De plus\, nous ne serons pas responsables de toute blessure corporelle causée par un accident ou un autre participant durant l’évènement.\n-Toute personne prise à tricher d’une manière ou d’une autre sera immédiatement disqualifiée du tournoi et expulsée du PolyBash\, sans exception.\n-Tous comportements jugés inacceptable par les organisateurs entraineront une expulsion sans remboursement. Ces comportements inclus\, mais ne sont pas limité à : tout acte illégale commis sur place et/ou avec l’équipement fourni incluant la connexion réseau\, tous acte irrespectueux et/ou de haine\, ainsi que toute manifestation de violence.\n-Pendant les compétitions et durant la nuit\, il est interdit de quitter les lieux avec du matériel informatique\, et ce afin d’éviter le vol. Les participants désirant quitter le PolyBash pour de bon après la conclusion des activités officielles le samedi soir ou à la fin de l’évènement dimanche doivent se présenter au kiosque d’administration avec leur matériel pour se désenregistrer.\n-Il est de la responsabilité des participants de posséder une copie des jeux (et un compte sur le serveur américain dans le cas de jeux en ligne) nécessaires à la participation aux tournois.\n-Tout participant doit se soumettre à l’horaire établi des compétitions\, sans quoi il fait face à une disqualification. Ainsi\, tout délai excessif sera considéré comme un abandon involontaire du participant.\n-Advenant un litige entre participants\, seuls les responsables de l’évènement seront en mesure de prendre une décision qui règlera la situation. Il est donc important de conserver une trace de tous les matchs\, que ce soit sous la forme de replay ou d’une capture d’écran des résultats finaux.\n-Le bon déroulement de l’évènement dépend directement de l’ambiance qui y règne\, c’est pourquoi nous demandons à tous de faire preuve d’esprit d’équipe et de respect d’autrui de manière à ce que la compétition soit agréable pour tous.\n-La consommation d’alcool et de drogue est interdit pendant le Polybash.\n\nEnglish\n\n \nPolybash XIX\nThis 19th edition of PolyBash will be happening this year! Bigger and better than ever before\, this large-scale LAN party will be hosting League of Legends (places limited to 12 teams)\, Overwatch (places limited to 8 teams)\, Starcraft II: Legacy of the Void\, Rocket League\, Hearthstone\, Super Smash Bros Melee et Super Smash Bros Ultimate! \nIf you are interested in being a volunteer (TO or caster) for our event please contact us through our Facebook page 🙂 \nTickets will soon be available for purchase here\nhttp://comic.polymtl.ca/polybash-vip-2/inscription/ or you can come see us in person (C215.2\, )! \nNote that the participants can sign up for multiple tournaments but that it is their responsability to make sure the tournaments schedule works together. \n  \n\nBillet/Ticket (Pre-order): 10$\nBillet/Ticket (À la porte) : 10$\nEntrée tournoi/Tournament Entry : 10$\n\nEvery person who participate in the PolyBash must read and accept the following rules and regulations. Any person not following these rules can be expulsed from the event at any time without a refund.\n\n-The PolyBash’s hosts are not responsible for any lost\, damaged or stolen good belonging to attendees. Every attendee is responsible for their own computer\, game system and/or accessories\, as well as any other personal belonging. We are not responsable either for any injuries caused by an accident or another attendee during the event.\n-Any attendee caught cheating one way or another will be disqualified and expulsed from the PolyBash\, without exception.\n-All behavior considered inappropriate by a Tournament master will result in the attendee expulsion without refund. All illegal\, disrespectful\, heinous and/or violent act will be considered as inappropriate behavior.\n-During the tournament and during the night shift\, no one will be allowed to leave with equipment to avoid theft. Attendees wishing to leave the PolyBash for good can check-out after the tournament games end saturday or at the end of the event.\n-It is the attendee’s responsability to own the games (and accounts on american servers for online games) necessary to participate in the tournaments.\n-Every attendee must follow the established tournament schedule. Failure to do so will result in forfeiting the match.\n-Any dispute between attendees has to be resolved by an official tournament master. It is therefore important to keeptraces of your matches (replay file or screenshot of final results) in order to make resolutions swift.\n-In order to keep it fun for everyone\, we ask that all attendees show respect and proper teamwork.\n-It is forbidden to consume drugs or alcohol for the duration of the Polybash
URL:https://www.montrealgaming.com/lan-quebec/polybash-xix/
LOCATION:Ecole Polytechnique de Montréal.\,  2900 boul. Édouard-Montpetit\, Montreal\, Quebec\, H3T 1J4\, Canada
CATEGORIES:Hearthstone Event,League of Legends Event,Multi-eSports-Event,Overwatch Event,Rocket League Event,Smash Bros Event,Starcraft Event
ATTACH;FMTTYPE=image/png:https://www.montrealgaming.com/wp-content/uploads/2019/01/51736390_532790337233784_7764479677715972096_n.png
ORGANIZER;CN="PolyBash":MAILTO:polytechniquecomic@gmail.com
GEO:45.503297;-73.6188202
X-APPLE-STRUCTURED-LOCATION;VALUE=URI;X-ADDRESS=Ecole Polytechnique de Montréal.  2900 boul. Édouard-Montpetit Montreal Quebec H3T 1J4 Canada;X-APPLE-RADIUS=500;X-TITLE=2900 boul. Édouard-Montpetit:geo:-73.6188202,45.503297
END:VEVENT
BEGIN:VEVENT
DTSTART;TZID=America/New_York:20200125T170000
DTEND;TZID=America/New_York:20200125T233000
DTSTAMP:20260421T131120
CREATED:20200117T004016Z
LAST-MODIFIED:20200117T004143Z
UID:10000724-1579971600-1579995000@www.montrealgaming.com
SUMMARY:QSL VII (Quebec Starcraft League)
DESCRIPTION:QSL VII (Quebec Starcraft League)\n  \nLa septième édition de la QSL (Quebec Starcraft League)\, arrive à grands pas! Même heure que les autres éditions au Meltdown: 5h30 à 10h30\, c’est un rendez-vous! \nPrize Pool : 75$ minimum (possibilité d’augmenter). Répartition: 40/30/20/10 (%) pour la première\, deuxième\, troisième et quatrième place respectivement. \nRepas: on commande de la pizza vers 6h30-7h. Je demande normalement 5$ pour deux pointes\, mais la pizza est offerte à tous ceux qui auront fait plus de 50 km pour venir sur place à l’event. \nLimite de joueurs : si plus de 20 joueurs se manifestent pour participer\, les 20 joueurs actuellement les plus hauts classés sur le 1v1 ladder (EU et NA sont considérés équivalents) seront retenus. \nLogement: il est possible d’arranger de l’hébergement pour quiconque aura parcouru plus de 50 km pour parvenir à l’évènement. Envoyez-moi un message privé et on vous arrange ça! \nContactez Alexandre Savard via Facebook si vous avez des questions! \n  \nInscriptions : trois conditions à remplir: 1) vous devez vous présenter en personne au bar avant 5h30. AUCUN NOUVEL INSCRIT NE SERA ADMIS PASSÉ 5H30* (voir exceptions en bas de cette description) 2) Également\, le bar exige que vous preniez au moins une consommation (ce ne serait pas un tournoi Meltdown sans ça!). 3) Être âgé de 18 ans et plus (puisque le tournoi se déroule dans un bar). Vous êtes encouragés à mettre ‘’going’’ sur la page Facebook pour nous aider avec la planification\, mais ceci n’a pas valeur d’inscription officielle (il faut la faire sur place).\n\nPrix PogChamp : le joueur qui aura réalisé la stratégie la plus folle durant l’event se méritera le drink gratuit traditionnel offert par le Meltdown Montréal! Un comité de 3 personnes déterminera le gagnant le soir même. Si votre partie folle n’a pas été diffusé\, dites-le-nous sur place et on regardera la replay sur place dans le courant de la soirée \n\nCommentateur : le tournoi sera diffusé en anglais sur la chaîne de Gosu_PVP sur les écrans du bar! (https://www.twitch.tv/gosu_pvp). Soyez nombreux à spammer son chat! :D IMPORTANT : il se peut qu’on vous demande de ne pas démarrer votre partie immédiatement pour assurer qu’il y ait des parties en continu diffusées sur le stream de PVP.\n\nInstallation et réchauffement: chaque joueur aura entre 15 et 30 minutes pour s’installer entre 5h30 et 6h (il y a aura minimalement 8 ordinateurs de réservés pour notre event\, peut-être plus si suffisamment de gens annoncent venir) tandis que les brackets seront déterminés.\n\nFormat: la première ronde du winner ainsi que toutes les rondes du loser bracket hormis la finale du loser sont BO1\, les autres matchs étant des Bo3 et la finale étant Bo5\, le joueur provenant du loser bracket débute la série avec un désavantage de 1 partie. Selon l’avancée du tournoi\, une ou deux séries supplémentaires pourront être des Bo3 plutôt que Bo1. N.B. les anciens champions de la QSL ont un seed direct dans le winner bracket (sautent le premier round).\n\nVeto de cartes: la méthode de sélection des cartes est la suivante : une carte pré-déterminée : Triton (à moins de changement) sera imposée pour les séries BO1\, alors qu’un veto aura lieu pour les séries BO3 (chaque joueur élimine une carte tour à tour jusqu'à ce qu'il ne reste que 3 cartes; le joueur au plus faible MMR choisit le premier veto). Le joueur au plus fort MMR choisit la première carte parmi les 3\, le perdant de la première partie choisit la seconde carte parmi les deux restantes.\n\n-----\n*Une extension pourra être autorisée jusqu'à 17h45 pour un nombre limité de joueurs si vous me contactez en privé au moins 1h avant le début du tournoi. Si vous me contactez et arrivez passé 17h45\, vous perdrez automatiquement votre première ronde\, mais pourrez tenter de vous rattraper dans le loser bracket.
URL:https://www.montrealgaming.com/lan-quebec/qsl-vii-quebec-starcraft-league/
LOCATION:Meltdown Montreal\, 2035 St Denis St\, Montreal\, Quebec\, H2X 3K8\, Canada
CATEGORIES:Starcraft Event
ATTACH;FMTTYPE=image/png:https://www.montrealgaming.com/wp-content/uploads/2020/01/LogoQSLNoBackground.png
ORGANIZER;CN="Alexandre Savard":MAILTO:al_savardo@hotmail.com
GEO:45.5161904;-73.5658435
X-APPLE-STRUCTURED-LOCATION;VALUE=URI;X-ADDRESS=Meltdown Montreal 2035 St Denis St Montreal Quebec H2X 3K8 Canada;X-APPLE-RADIUS=500;X-TITLE=2035 St Denis St:geo:-73.5658435,45.5161904
END:VEVENT
END:VCALENDAR