BEGIN:VCALENDAR
VERSION:2.0
PRODID:-//Montreal Gaming - Les esports au Qu&eacute;bec (Qc). - ECPv6.15.16//NONSGML v1.0//EN
CALSCALE:GREGORIAN
METHOD:PUBLISH
X-ORIGINAL-URL:https://www.montrealgaming.com
X-WR-CALDESC:Events for Montreal Gaming - Les esports au Qu&eacute;bec (Qc).
REFRESH-INTERVAL;VALUE=DURATION:PT1H
X-Robots-Tag:noindex
X-PUBLISHED-TTL:PT1H
BEGIN:VTIMEZONE
TZID:America/Halifax
BEGIN:DAYLIGHT
TZOFFSETFROM:-0400
TZOFFSETTO:-0300
TZNAME:ADT
DTSTART:20140309T060000
END:DAYLIGHT
BEGIN:STANDARD
TZOFFSETFROM:-0300
TZOFFSETTO:-0400
TZNAME:AST
DTSTART:20141102T050000
END:STANDARD
BEGIN:DAYLIGHT
TZOFFSETFROM:-0400
TZOFFSETTO:-0300
TZNAME:ADT
DTSTART:20150308T060000
END:DAYLIGHT
BEGIN:STANDARD
TZOFFSETFROM:-0300
TZOFFSETTO:-0400
TZNAME:AST
DTSTART:20151101T050000
END:STANDARD
BEGIN:DAYLIGHT
TZOFFSETFROM:-0400
TZOFFSETTO:-0300
TZNAME:ADT
DTSTART:20160313T060000
END:DAYLIGHT
BEGIN:STANDARD
TZOFFSETFROM:-0300
TZOFFSETTO:-0400
TZNAME:AST
DTSTART:20161106T050000
END:STANDARD
BEGIN:DAYLIGHT
TZOFFSETFROM:-0400
TZOFFSETTO:-0300
TZNAME:ADT
DTSTART:20170312T060000
END:DAYLIGHT
BEGIN:STANDARD
TZOFFSETFROM:-0300
TZOFFSETTO:-0400
TZNAME:AST
DTSTART:20171105T050000
END:STANDARD
BEGIN:DAYLIGHT
TZOFFSETFROM:-0400
TZOFFSETTO:-0300
TZNAME:ADT
DTSTART:20180311T060000
END:DAYLIGHT
BEGIN:STANDARD
TZOFFSETFROM:-0300
TZOFFSETTO:-0400
TZNAME:AST
DTSTART:20181104T050000
END:STANDARD
END:VTIMEZONE
BEGIN:VTIMEZONE
TZID:America/New_York
BEGIN:DAYLIGHT
TZOFFSETFROM:-0500
TZOFFSETTO:-0400
TZNAME:EDT
DTSTART:20160313T070000
END:DAYLIGHT
BEGIN:STANDARD
TZOFFSETFROM:-0400
TZOFFSETTO:-0500
TZNAME:EST
DTSTART:20161106T060000
END:STANDARD
BEGIN:DAYLIGHT
TZOFFSETFROM:-0500
TZOFFSETTO:-0400
TZNAME:EDT
DTSTART:20170312T070000
END:DAYLIGHT
BEGIN:STANDARD
TZOFFSETFROM:-0400
TZOFFSETTO:-0500
TZNAME:EST
DTSTART:20171105T060000
END:STANDARD
BEGIN:DAYLIGHT
TZOFFSETFROM:-0500
TZOFFSETTO:-0400
TZNAME:EDT
DTSTART:20180311T070000
END:DAYLIGHT
BEGIN:STANDARD
TZOFFSETFROM:-0400
TZOFFSETTO:-0500
TZNAME:EST
DTSTART:20181104T060000
END:STANDARD
END:VTIMEZONE
BEGIN:VEVENT
DTSTART;TZID=America/Halifax:20150912T130000
DTEND;TZID=America/Halifax:20150912T210000
DTSTAMP:20260421T113021
CREATED:20150910T023309Z
LAST-MODIFIED:20150910T023309Z
UID:10000602-1442062800-1442091600@www.montrealgaming.com
SUMMARY:Back 2 School Battle Royale
DESCRIPTION:eSports MTL presents Back 2 School Battle Royale\neSports MTL is organizing a massive back to school fighting game event! Featuring Super Smash Bros 4\, Super Smash Bros Melee\, Street Fighter 4 and Pokemon! \nCome compete against your friends and pro players from all over Montreal! \nGET YOUR TICKETS HERE: https://www.eventjoy.com/e/back-2-school-battle-royale \nEVENT DETAILS \nGames: \nSuper Smash Bros 4\, Super Smash Bros Melee\, Street Fighter 4 and Pokemon \nPrices \n$20* Player Tickets (Super Smash Bros 4\, Super Smash Bros Melee & Street Fighter 4\n$10* Player Tickets (Pokemon League)\n$5 Guest Tickets \n*Half the ticket price will go towards the prize pool and the other half will be to pay the venue.\n** All ticket sales are final and non refundable \nPrizes \nSuper Smash Bros 4: $600* in prizes (will come with gift receipt for in store credit) \nSuper Smash Bros Melee: $400 in prizes (will come with gift receipt for in store credit) \nStreet Fighter 4: $400* in prizes (will come with gift receipt for in store credit) \nPokemon: 100$* in prizes (will come with gift receipt for in store credit) \n* All prizes are subject to change. It will depend on the number of participants. Half the ticket price will go towards the prize pool. The other half goes towards the venue fees. \nADDITIONAL DETAILS: \n– Live host & commentary by Derick (just Derick)\n– The tournament highlights will filmed and posted on youtube (possibly streamed on\n– Pro players will be competing at the event\n– NES and Wii U gaming stations will be set-up and available for guests\n– Location: Forum de Montreal (AMC Center)\, 3rd floor Gamescentre\n– Mini game tournaments during breaks (you can win small prizes) \nGOOD TO KNOW \n– Tickets will be on sale until September 6th\, 2015\, at 11:30pm. If you don’t buy your ticket in that time period\, you will have to purchase it at the door.\n– Registration will be from 11am to 1pm.\n– Tournaments officially start at 1:30pm\n– The event will be BYOC (bring your controller)\, we will only have a very few controllers for rental on site\n– Tons of giveaways will be happening \nRules & Information: \nGame Settings: \nFor Smash 4:\nSingles: 2 Stock\, 6 Minute Time Limit\, Items Off\, Equipment Off\, 2/3 Games (3/5 in finals matches)\nAll DLCs are permitted \nStarting Stages: Battlefield\, Final Destination\, Smashville\, Town & City \nCounterpick Stages: Castle Siege\, Delfino Plaza\, Duck Hunt\, Lylat Cruise\, Dream Land \nMii fighters 1111/2222/3333 only \nOmega Stages* \n* Treated as Final Destination in banning phase. If Final Destination is banned\, Omegas are banned and vice versa \nAdditional Rules: \n– Stage Striking: The player with port priority strikes one stage from the Starter Stage list. Then the other player strikes one stage and the remaining stage is used for the first match.\n– Stage Clause: You cannot counterpick a stage that has already been played on in the set.\n– Stage Bans: During the stage ban phase\, the player who won the previous game may ban 2 stages from either the Starter of Counterpick lists. \nFor Melee: \nSingles: 4 Stock\, 8 Minute Time Limit\, Items Off\, Equipment Off\, 2/3 Games (3/5 in finals matches)\nAll DLCs are permitted \nStarting Stages: Battlefield\, Yoshi’s Story\, Dream Land\, Final Destination\, Fountain of Dreams \nCounterpick Stages: Pokémon Stadium \nMii fighters 1111/2222/3333 only \nOmega Stages* \n* Treated as Final Destination in banning phase. If Final Destination is banned\, Omegas are banned and vice versa \nAdditional Rules: \nStage Striking: Players eliminate stages from the Starter/Neutral stagelist until there is one stage remaining. The player or team without port priority strikes first. Then the other player/team strikes two stages. Then the player/team with port priority strikes one more stage and the remaining stage is used for the first game of the set. \nStage Bans: After each game of the set\, before counterpicking\, the player who won the previous game may ban one stage from the stagelist. This rule is not in effect for best-of-5 sets. All stage bans affect both players\, meaning players who banned a stage may NOT counterpick that stage themselves later in the set. \nStage Clause: A player/team may not counterpick any stage they previously won on during the set. \nFor Street Fighter 4:\nTBA \nFor Pokemon:\nhttp://pkmnleaguemtl.proboards.com/thread/348/style-tournament-esports-battle-royale \nGET YOUR TICKETS HERE: https://www.eventjoy.com/e/back-2-school-battle-royale \nSponsors: \nGetRekt – eSports news coverage\, events & updates\nhttp://www.getrekt.gg \nMTL Blog – Look At Your City\nhttp://www.mtlblog.com
URL:https://www.montrealgaming.com/lan-quebec/back-2-school-battle-royale/
LOCATION:2313 Rue Ste-Catherine Ouest\, Montréal\, QC H3H 1N2\, 2313 Rue Ste-Catherine Ouest\, Montreal\, Quebec\, H3H 1N2\, Canada
CATEGORIES:Multi-eSports-Event,Smash Bros Event,Street Fighter Event
ATTACH;FMTTYPE=image/png:https://www.montrealgaming.com/wp-content/uploads/2015/09/facebook_event_418967008293436.png
GEO:45.4901147;-73.5846202
X-APPLE-STRUCTURED-LOCATION;VALUE=URI;X-ADDRESS=2313 Rue Ste-Catherine Ouest Montréal QC H3H 1N2 2313 Rue Ste-Catherine Ouest Montreal Quebec H3H 1N2 Canada;X-APPLE-RADIUS=500;X-TITLE=2313 Rue Ste-Catherine Ouest:geo:-73.5846202,45.4901147
END:VEVENT
BEGIN:VEVENT
DTSTART;TZID=America/Halifax:20160415T170000
DTEND;TZID=America/Halifax:20160417T170000
DTSTAMP:20260421T113021
CREATED:20151106T231746Z
LAST-MODIFIED:20160410T202145Z
UID:10000499-1460739600-1460912400@www.montrealgaming.com
SUMMARY:Lan ETS 2016
DESCRIPTION:Français\n\n \nLan ETS: Bigger than ever.\n2016\n\nL’année 2015 a été forte en émotion pour le comité organisateur du Lan ETS. Nous avons travaillé sur un projet d’expansion qui permettra d’accueillir plus de 2000 joueurs. Le Lan ETS se tiendra donc à la Place Bonaventure du 15 au 17 avril 2016 et aura plus de 2000 places BYOC. Plus de 40 000$ sera offert aux différents gagnant des tournois et 100 000$ en prix matériels! \nLe record pour le nombre de billets vendus a déjà été fracassé et nous n’avons aucune crainte que l’édition 2016 du Lan ETS soit l’un des meilleurs Lan Party au monde. \nNous pouvons vous assurer que la mission du Lan ETS ne changera pas. Nous allons continuer à offrir une expérience LAN Party qui sera accessible à tous les calibres de joueurs\, la plus abordable possible et qui permettra de faire grandir le sport électronique au Canada. \n\nVoici une liste des tournois PC:\nCounter Strike: Global Offensive\nLeague of Legends\nDota 2\nHearthstone\nStarcraft 2\nRocket League\nHeroes of the Storm \nConsole:\nCall of Duty: Black Ops 3\nSuper Smash Bros 4\nSuper Smash Bros Melee\nStreet Fighter 5\nNHL 16 \n \nLe billets sont disponibles ci-dessous. \n\n\n\n\n\n\n\n\n\n\n\n\n\n\nBYOC \n83$\n\n\n\n\n\n\n\n  \n\n\n\n\n\n\n\nAcheter\n\n\n\n\n\n\n\n\n\n\n\n  \n\n\n\n\n\n\n\n\n\n\n\n\n\n\nConsole\n40$\n\n\n\n\n\n\n\n  \n\n\n\n\n\n\n\nAcheter\n\n\n\n\n\n\n\n\n\n\n\n  \n\n\n\n\n\n\n\n\n\n\n\n\n\n\nVisiteur\n15$\n\n\n\n\n\n\n\n  \n\n\n\n\n\n\n\nAcheter\n\n\n\n\n\n\n\n\n\n\n\n  \nN’oubliez pas de vous inscrire dans un tournoi si vous souhaitez y participer. Les bourses monétaires pour chacun des tournois sont grandement infuencées par le nombre d’inscriptions. Vous pouvez le faire ici. \n  \n \n\nEnglish\n\n \nLan ETS: Bigger than ever.\n2016\n\n2015 was strong in emotion for the organizing committee of Lan ETS. We worked on an expansion project that will welcome more than 2\,000 players. Lan ETS will take place at Place Bonaventure from April 15 to 17 2016 and will have over 2000 BYOC seats. More than $40\,000 will be offered to different tournaments and $100\,000 material prices! \nThe record for the number of tickets sold has already been shattered and we have no fear that Lan ETS 2016 will be one of the best Lan Party in the world. \nWe can assure you that the mission of Lan ETS will not change. We will continue to offer a LAN party experience that will be accessible to all calibers of players\, most affordable as possible and that will keep growing eSports in Canada. \n\nHere’s a list of the tournaments:\nPC:\nCounter Strike: Global Offensive\nLeague of Legends\nDota 2\nHearthstone\nStarcraft 2\nRocket League\nHeroes of the Storm \nConsole:\nCall of Duty: Black Ops 3\nSuper Smash Bros 4\nSuper Smash Bros Melee\nStreet Fighter 5\nNHL 16 \n \nTickets are available below. \n\n\n\n\n\n\n\n\n\n\n\n\n\n\nBYOC \n83$\n\n\n\n\n\n\n\n\n\n\n\n\n\n\nBuy now\n\n\n\n\n\n\n\n\n\n\n\n\n\n\n\n\n\n\n\n\n\n\n\nConsole\n40$\n\n\n\n\n\n\n\n\n\n\n\n\n\n\nBuy now\n\n\n\n\n\n\n\n\n\n\n\n\n\n\n\n\n\n\n\n\n\n\n\nGuest\n15$\n\n\n\n\n\n\n\n\n\n\n\n\n\n\nBuy now\n\n\n\n\n\n\n\n\n\n\n\n  \nDon’t forget to sign up in a tournament if you want to participate. Pool prizes for each tournament are greatly influenced by registration. You can do it here. \n 
URL:https://www.montrealgaming.com/lan-quebec/lan-ets-2016/
LOCATION:Place Bonaventure\, 800\, De La Gauchetière St. West Suite 240\, Montreal\, Quebec\, H5A 1K6\, Canada
CATEGORIES:Call of Duty Event,Counter-Strike Event,DOTA Event,Hearthstone Event,Heroes of the Storm Event,League of Legends Event,Multi-eSports-Event,NHL Event,Rocket League Event,Smash Bros Event,Starcraft Event,Street Fighter Event
ATTACH;FMTTYPE=image/png:https://www.montrealgaming.com/wp-content/uploads/2015/11/facebook_event_1493123544317650.png
ORGANIZER;CN="LAN ETS":MAILTO:contact@lanets.ca
GEO:45.5001769;-73.5652741
X-APPLE-STRUCTURED-LOCATION;VALUE=URI;X-ADDRESS=Place Bonaventure 800 De La Gauchetière St. West Suite 240 Montreal Quebec H5A 1K6 Canada;X-APPLE-RADIUS=500;X-TITLE=800\, De La Gauchetière St. West Suite 240:geo:-73.5652741,45.5001769
END:VEVENT
BEGIN:VEVENT
DTSTART;TZID=America/Halifax:20160717T130000
DTEND;TZID=America/Halifax:20160717T200000
DTSTAMP:20260421T113021
CREATED:20160702T191721Z
LAST-MODIFIED:20160702T191721Z
UID:10000531-1468760400-1468785600@www.montrealgaming.com
SUMMARY:Smash a Sherbz 4
DESCRIPTION:Smash a Sherbz 4\nAprès le grand succès des 3 premières itérations de Smash @ Sherbz\, nous sommes de retour avec un autre tournoi. Encore un fois\, cet évenement est un tournoi amical de Super Smash Bros For Wii U organisé par des élèves de l’Université de Sherbrooke. Le but de ce tournoi est simplement de s’amuser et d’apprendre à connaître les joueurs de la région de Sherbrooke. \nTournament rules:\nENGLISH WILL FOLLOW \nDonc les formats de jeu pour le tournoi sont : \n1. Smash 4 Singles (1v1)\n2. Smash 4 Doubles (2v2) \nTous règles du tournoi seront presque identiques à celle de EVO 2016 :\nhttp://evo.shoryuken.com/additional-rules/ \nToutefois\, il y a 2 règles qui s’ajoute:\n1. On permet toutes les manettes\n2. 1 match de Doubles dure 8 minutes \nLe tarif pour participer pour le tournoi est le suivant :\n-10$ par participants pour Singles\n-10$ par équipe pour Doubles \nENGLISH :\nTwo game formats will be available :\n1. Smash 4 Singles (1v1)\n2. Smash 4 Doubles (2v2) \nThe tournament ruleset can be found here :\nhttp://evo.shoryuken.com/additional-rules/ \nThere are 2 additionnal rules added :\n1. We accept any controller\n2. Doubles matches are 8 minutes long \nThe entry fee for the tournametn is :\n1. 10$ per player for Singles\n2. 10$ per teams for Doubles
URL:https://www.montrealgaming.com/lan-quebec/smash-a-sherbz-4/
LOCATION:Refuge des Brasseurs\, 2155 rue Galt Ouest\, Sherbrooke\, QC\, J1K 1K3\, Canada
CATEGORIES:Smash Bros Event
ATTACH;FMTTYPE=image/png:https://www.montrealgaming.com/wp-content/uploads/2016/07/facebook_event_1814390045447911.png
ORGANIZER;CN="SSBSherbrooke":MAILTO:ssbsherbrooke@gmail.com
GEO:45.3871228;-71.9259283
X-APPLE-STRUCTURED-LOCATION;VALUE=URI;X-ADDRESS=Refuge des Brasseurs 2155 rue Galt Ouest Sherbrooke QC J1K 1K3 Canada;X-APPLE-RADIUS=500;X-TITLE=2155 rue Galt Ouest:geo:-71.9259283,45.3871228
END:VEVENT
BEGIN:VEVENT
DTSTART;VALUE=DATE:20170304
DTEND;VALUE=DATE:20170307
DTSTAMP:20260421T113021
CREATED:20170225T181520Z
LAST-MODIFIED:20170225T181520Z
UID:10000692-1488585600-1488844799@www.montrealgaming.com
SUMMARY:PolyBash 2017
DESCRIPTION:Polybash 2017\nCette année se déroule la 17e édition du PolyBash! Plus gros que jamais\, ce LAN party de grande envergure offrira des tournois de Starcraft II: Legacy of the Void\, League of Legends\, Super Smash Bros Melee\, Super Smash Bros 4\, Counter Strike: Global Offensive et Overwatch! \n———————————————————————– \nThis 17th edition of Polybash will be happening this year! Bigger and better than ever before\, this large scale LAN party will be hosting Starcraft II: Legacy of the Void\, League of Legends\, Super Smash Bros Melee\, Super Smash Bros 4\, Counter Strike: Global Offensive and Overwatch! \nBillet/Ticket (Pre-order): 10$\nBillet/Ticket (À la porte) : 15$\nEntrée tournoi/Tournament Entry : 10$ \n  \nTournament rules:\n(An English version will follow)\n\nTout joueur participant au PolyBash se doit de lire et accepter les règlements et consignes décrites ici. Toute personne ne respectant pas les règlements peut se faire expulser de l’évènement sans remboursement en tout temps. Il est à noter que pour des raisons de clarté et de concision\, l’emploi du masculin implique également le féminin.\n\nLes organisateurs du PolyBash déclinent toute responsabilité quant aux pertes\, vol\, et/ou bris de biens appartenant aux participants. Chaque participant est responsable de son ordinateur\, de sa console et/ou de ses accessoires\, ainsi que de tous ses effets personnels. De plus\, nous ne serons pas responsables de toute blessure corporelle causée par un accident ou un autre participant durant l’évènement.\n\nToute personne prise à tricher d’une manière ou d’une autre sera immédiatement disqualifiée du tournoi et expulsée du PolyBash\, sans exception.\n\nTous comportements jugés inacceptable par les organisateurs entraineront une expulsion sans remboursement. Ces comportements inclus\, mais ne sont pas limité à : tout acte illégale commis sur place et/ou avec l’équipement fourni incluant la connexion réseau\, tous acte irrespectueux et/ou de haine\, ainsi que toute manifestation de violence.\n\nPendant les compétitions et durant la nuit\, il est interdit de quitter les lieux avec du matériel informatique\, et ce afin d’éviter le vol. Les participants désirant quitter le PolyBash pour de bon après la conclusion des activités officielles le samedi soir ou à la fin de l’évènement dimanche doivent se présenter au kiosque d’administration avec leur matériel pour se désenregistrer.\n\nIl est de la responsabilité des participants de posséder une copie des jeux (et un compte sur le serveur américain dans le cas de jeux en ligne) nécessaires à la participation aux tournois.\n\nTout participant doit se soumettre à l’horaire établi des compétitions\, sans quoi il fait face à une disqualification. Ainsi\, tout délai excessif sera considéré comme un abandon involontaire du participant.\n\nAdvenant un litige entre participants\, seuls les responsables de l’évènement seront en mesure de prendre une décision qui règlera la situation. Il est donc important de conserver une trace de tous les matchs\, que ce soit sous la forme de replay ou d’une capture d’écran des résultats finaux.\n\nLe bon déroulement de l’évènement dépend directement de l’ambiance qui y règne\, c’est pourquoi nous demandons à tous de faire preuve d’esprit d’équipe et de respect d’autrui de manière à ce que la compétition soit agréable pour tous.\n La consommation d’alcool et de drogue est interdit pendant le Polybash.\n\nEnglish Version\n\nEvery person who participate in the PolyBash must read and accept the following rules and regulations. Any person not following these rules can be expulsed from the event at any time without a refund.\n\nThe PolyBash’s hosts are not responsible for any lost\, damaged or stolen good belonging to attendees. Every attendee is responsible for their own computer\, game system and/or accessories\, as well as any other personal belonging. We are not responsable either for any injuries caused by an accident or another attendee during the event.\n\nAny attendee caught cheating one way or another will be disqualified and expulsed from the PolyBash\, without exception.\n\nAll behavior considered inappropriate by a Tournament master will result in the attendee expulsion without refund. All illegal\, disrespectful\, heinous and/or violent act will be considered as inappropriate behavior.\n\nDuring the tournament and during the night shift\, no one will be allowed to leave with equipment to avoid theft. Attendees wishing to leave the PolyBash for good can check-out after the tournament games end saturday or at the end of the event.\n It is the attendee’s responsability to own the games (and accounts on american servers for online games) necessary to participate in the tournaments.\n\nEvery attendee must follow the established tournament schedule. Failure to do so will result in forfeiting the match.\n\nAny dispute between attendees has to be resolved by an official tournament master. It is therefore important to keeptraces of your matches (replay file or screenshot of final results) in order to make resolutions swift.\n\nIn order to keep it fun for everyone\, we ask that all attendees show respect and proper teamwork.\n\nIt is forbidden to consume drugs or alcohol for the duration of the Polybash
URL:https://www.montrealgaming.com/lan-quebec/polybash-2017/
LOCATION:Polytechnique Montréal\, 2900\, boul. Édouard-Montpetit\, Montreal\, QC\, H3T 1J4\, Canada
CATEGORIES:Counter-Strike Event,DOTA Event,Hearthstone Event,Heroes of the Storm Event,League of Legends Event,Multi-eSports-Event,Overwatch Event,Rocket League Event,Smash Bros Event,Smite Event,Starcraft Event
ATTACH;FMTTYPE=image/jpeg:https://www.montrealgaming.com/wp-content/uploads/2017/02/facebook_event_1370945186271664.jpg
ORGANIZER;CN="PolyBash":MAILTO:polytechniquecomic@gmail.com
GEO:45.503297;-73.6188202
X-APPLE-STRUCTURED-LOCATION;VALUE=URI;X-ADDRESS=Polytechnique Montréal 2900 boul. Édouard-Montpetit Montreal QC H3T 1J4 Canada;X-APPLE-RADIUS=500;X-TITLE=2900\, boul. Édouard-Montpetit:geo:-73.6188202,45.503297
END:VEVENT
BEGIN:VEVENT
DTSTART;TZID=America/Halifax:20170415T140000
DTEND;TZID=America/Halifax:20170415T210000
DTSTAMP:20260421T113021
CREATED:20170321T173250Z
LAST-MODIFIED:20170321T173632Z
UID:10000696-1492264800-1492290000@www.montrealgaming.com
SUMMARY:Smash a Sherbz 9 : Cercle de Lecture
DESCRIPTION:Smash a Sherbz 9 : Cercle de Lecture\nALLO ALLO! Nous avons tous des examens\, mais il faut bien prendre une pause. Alors amène toi et tes notes de lectures à notre tournoi. Encore un fois\, cet évenement est un tournoi amical de Super Smash Bros For Wii U organisé par des élèves de l’Université de Sherbrooke. Le but de ce tournoi est simplement de s’amuser et d’apprendre à connaître les joueurs de la région de Sherbrooke. \nFORMATS :\nLes formats de jeu pour le tournoi sont : \n1. Smash 4 Singles (1v1)\n2. Smash 4 Doubles (2v2) \nLe tarif pour participer pour le tournoi est le suivant :\n– 5$ pour l’admission pour TOUS\n-10$ par PARTICIPANT pour Singles\n-10$ par ÉQUIPE pour Doubles \nNOTES IMPORTANTES : \n1. Même si l’evenement se passe dans une microbrasserie\, les moins de 18 ans sont les bienvenue.Nous avons consulté le personnel du bar et ils ont confirmé que cela ne posera pas problème. \n2. Étant donnée que la microbrasserie sert des breuvages et de la nourriture\, la consommation de nourriture/breuvages provenant de l’extérieur du bar ne sera pas permise. Merci de votre compréhension! \nIl y aura des prix pour les top 5 meilleurs joueurs et top 3 meilleures équipes. Pour toutes autres informations\, n’hésitez pas à contacter la page SSBSherbrooke. Nous espèrons vous voir en grand nombre! 🙂 \nRÈGLEMENTS :\nTous règles du tournoi seront presque identiques à celle du Recommended Ruleset :\n https://docs.google.com/document/d/1CFaeel_cVIImEZ7ZrIrb_fSva5H3tsN24yp2INyrVLE/edit
URL:https://www.montrealgaming.com/lan-quebec/smash-a-sherbz-9-cercle-de-lecture/
LOCATION:Refuge des Brasseurs\, 2155 rue Galt Ouest\, Sherbrooke\, QC\, J1K 1K3\, Canada
CATEGORIES:Multi-eSports-Event,Smash Bros Event
ATTACH;FMTTYPE=image/jpeg:https://www.montrealgaming.com/wp-content/uploads/2017/03/facebook_event_2266286256929074.jpg
ORGANIZER;CN="SSBSherbrooke":MAILTO:ssbsherbrooke@gmail.com
GEO:45.3871228;-71.9259283
X-APPLE-STRUCTURED-LOCATION;VALUE=URI;X-ADDRESS=Refuge des Brasseurs 2155 rue Galt Ouest Sherbrooke QC J1K 1K3 Canada;X-APPLE-RADIUS=500;X-TITLE=2155 rue Galt Ouest:geo:-71.9259283,45.3871228
END:VEVENT
BEGIN:VEVENT
DTSTART;TZID=America/Halifax:20170610T080000
DTEND;TZID=America/Halifax:20170611T200000
DTSTAMP:20260421T113021
CREATED:20170517T165900Z
LAST-MODIFIED:20170517T170444Z
UID:10000700-1497081600-1497211200@www.montrealgaming.com
SUMMARY:Tournoi de Super Smash Bros. sur Wii U au Digihub Shawinigan.
DESCRIPTION:Tournoi de Super Smash Bros. sur Wii U au Digihub Shawinigan.\nPRIX A GANGER: \n1ère place : 100 $\n2e place : 75 $\n3e place : 50 $ \nCOÛT \nPariticpant\n– 32.40$ par internet (cliquez pour être redirigé vers l’achat en ligne)\n– 40$ en personne le jour même (en fonction du nombre de billets restants et du temps écoulé depuis le début du tournoi). Les gens qui s’inscrivent seront placés à la fin du ladder. \nSpectateur\n– GRATUIT!  \nDébut \n– 8h00 à 20h00\, samedi le 10 juin 2017.*\n– 8h00 à 20h00\, dimanche le 11 juin 2017.* \n–LES JOUEURS DOIVENT ARRIVER 1H30 À L’AVANCE SELON L’HEURE DE LEUR PARTIEs. VOIS SECTION RÈGLEMENTS. \n*Les heures sont sujet à changement selon le nombre de participants.\nL’information sera diffusée sur notre page Facebook\, sur notre site et vous serrez contactés par courriel* \nDéroulement de l’événement\n– 1 vs 1\n– 2 de 3\n– Loser bracket\n– Les duels pour la 3e\, 2e et 1ère place seront de 3 de 5. \nManettes Admissibles\n– Les joueurs sont tenu de fournir leurs propres manettes de jeu. Les modèles acceptés sont les suivants:\n– Manette Wii U Pro Controller\n– Manette de Gamecube\n– Manette de Gamecube version Wii U(par connection USB)\n– Manette de Wii (modèle avec motion plus intégré) avec nunchuk\n– Aucune manette ne sera fourni pas l’organisation. \n  \nPour toutes questions au sujet du tournoi\, contacter nous par Facebook ou par courriel jessica.lefebvre@championnat-e-sports.ca. \n  \n \n Règles générales\n\n- Les joueurs doivent avoir 13 ans et plus en date du 10 juin 2017 pour participer\n - Aucune nourriture ne sera permise lors des parties\, ni boissons autre que des bouteilles d’eau.\n - Si vous avez des questions\, des litiges ou tout autre questionnement en lien avec le tournoi durant l’événement\, veuillez les reporter aux organisateurs du tournoi\n - Vous aurez la chance avec le début du match\, de modifier le nom de joueur. Celui-ci ne doit pas être vulgaire\, à connotation sexuelle ou à connotation violente. Les joueurs avec un nom jugé inapproprié ce verront demander de le changer.\n - Arriver 1h30 avant votre match.\n\nResponsabilité des joueurs :\n\n- Apporter le matériel nécessaire pour jouer (manettes autorisées pour l’événement) car l’organisation ne fournira aucune manette.\n - Surveiller les heures auxquelles vos parties se jouent. L’horaire peut être sujet à des changements (s’il y a de l’avance ou du retard) qui seront publiés sur les réseaux sociaux\, s’il y a lieu.\n - Chaque joueurs est responsable de son matériel en tout temps. S’il y a perte ou vol\, Championnat E-Sports ne peut être tenu responsable\n - Être respectueux en tout temps envers les autres participants\, le public ou le personnel en place. Sinon\, l’expulsion immédiate du tournoi pourrait être fait\n - Avoir en tout temps une attitude respectueuse\, c’est-à-dire CONTENIR le ‘’RAGE’’\, AUCUNE INSULTES\, AUCUN GESTES IRRESPECTUEUX\, sous peine d’expulsion immédiate du tournoi.\n - Trois avertissements seulement seront permis pour comportement irrespectueux\, au quatrième\, le joueur sera expulsé du tournoi\n - Arriver 1h30 avant votre match.\n\nPolitique de défaite par forfait\n\nSi vous n’êtes pas présent lorsque votre partie commence\, un délai de 10 min sera accordé. Si le délai de 10 minutes est écoulé et que vous êtes absents\, vous serez déclaré perdant par forfait.\n\nSi vous pensez être en retard\, veuillez nous contacter au numéro suivant : 819-852-3604
URL:https://www.montrealgaming.com/lan-quebec/tournoi-de-super-smash-bros-sur-wii-u-au-digihub-shawinigan/
LOCATION:Championnat E-Sports\, Shawinigan\, QC\, Canada
CATEGORIES:Smash Bros Event
ATTACH;FMTTYPE=image/png:https://www.montrealgaming.com/wp-content/uploads/2017/05/Dégradé-ces.png
ORGANIZER;CN="Championnat E-Sports":MAILTO:jessica.lefebvre@championnat-e-sports.ca
GEO:46.5618559;-72.7435254
END:VEVENT
END:VCALENDAR