BEGIN:VCALENDAR
VERSION:2.0
PRODID:-//Montreal Gaming - Les esports au Qu&eacute;bec (Qc). - ECPv6.15.16//NONSGML v1.0//EN
CALSCALE:GREGORIAN
METHOD:PUBLISH
X-ORIGINAL-URL:https://www.montrealgaming.com
X-WR-CALDESC:Events for Montreal Gaming - Les esports au Qu&eacute;bec (Qc).
REFRESH-INTERVAL;VALUE=DURATION:PT1H
X-Robots-Tag:noindex
X-PUBLISHED-TTL:PT1H
BEGIN:VTIMEZONE
TZID:America/New_York
BEGIN:DAYLIGHT
TZOFFSETFROM:-0500
TZOFFSETTO:-0400
TZNAME:EDT
DTSTART:20140309T070000
END:DAYLIGHT
BEGIN:STANDARD
TZOFFSETFROM:-0400
TZOFFSETTO:-0500
TZNAME:EST
DTSTART:20141102T060000
END:STANDARD
BEGIN:DAYLIGHT
TZOFFSETFROM:-0500
TZOFFSETTO:-0400
TZNAME:EDT
DTSTART:20150308T070000
END:DAYLIGHT
BEGIN:STANDARD
TZOFFSETFROM:-0400
TZOFFSETTO:-0500
TZNAME:EST
DTSTART:20151101T060000
END:STANDARD
BEGIN:DAYLIGHT
TZOFFSETFROM:-0500
TZOFFSETTO:-0400
TZNAME:EDT
DTSTART:20160313T070000
END:DAYLIGHT
BEGIN:STANDARD
TZOFFSETFROM:-0400
TZOFFSETTO:-0500
TZNAME:EST
DTSTART:20161106T060000
END:STANDARD
END:VTIMEZONE
BEGIN:VEVENT
DTSTART;TZID=America/New_York:20151128T093000
DTEND;TZID=America/New_York:20151129T210000
DTSTAMP:20260421T214318
CREATED:20151028T204119Z
LAST-MODIFIED:20151028T205035Z
UID:10000666-1448703000-1448830800@www.montrealgaming.com
SUMMARY:Smash INTENSIFIES 2
DESCRIPTION:Smash INTENSIFIES 2\n[64\, PM\, MELEE AND SMASH 4]\nREGISTRATION OPEN AT\n smash.gg/si2 \nWith support from CESA (Concordia E-Sport Association)\, SSBMontreal presents a competitive tournament scene and social experience that will allow players to meet head to head. Join us and play with a wide range of players and skill levels in an offline environment. \nThis time\, the event will be a 2 day tournament happening at Concordia University. Featuring all 4 Smash games played in Montreal’s competitive Smash community\, come join our fiercest competitors once again. \nThis year\, we will be featuring 64\, PM\, Melee and Smash 4 and Doubles tournament for Smash 4 and Melee. \nGrab your controller and game pads and let the Smashing Intensify! \n——————————————————————————- \nDate:\nNovember 28th and 29th\, 2015: 9:30 am – 9 pm \nLocation:\nConcordia University H Building\, 7th Floor – CSU Lounge\n1455 Boulevard de Maisonneuve O\, Montréal\, Québec\nH3G 1M8 \nDRUGS AND ALCOHOL ARE ENTIRELY FORBIDDEN \nStreams:\nhttp://www.twitch.tv/ssbmontreal\nhttp://www.twitch.tv/mtlfgc \nStream Schedule:\nTo be Announced \n——————————————————————————- \nREGISTRATION \nPre-Registration Available at SmashLoft and at smash.gg/si2\nRegistration on site will NOT be available.\nEvery player is limited to enter max 2 different games and 3 different events. \nVenue Fee – 20$\nSmash 64 Singles – 10$\nMelee Singles – 10$\nMelee Doubles – 10$ ea\nProject M 3.6 Singles – 10$\nSmash 4 Singles – 10$\nSmash 4 Doubles – 10$ ea \nCURRENT STRETCH GOALS \nFor every 128 unique entrants : 350$ added for Smash 4\, 350$ for Melee\, 150$ for PM and 75$ for Smash 64\n392+ entrants : We break the biggest Canadian tournament ever\, pot bonuses for all games increased (amount TBA) and SSBMTL Kyle will compete and TO the tournament dressed as Peach. \nBRING YOUR OWN CONTROLLER \nThere will be no spare controllers available for rent or borrowing. As per usual\, bringing your own is the tournament standard. \nBRING SETUPS (TV AND CONSOLES) \n  \nPAYOUTS \n\n\n\n\nPlus / More\nSelectShow\n\n\n64 Formula\n1st : 40%\n2nd : 25%\n3rd : 15%\n4th : 10%\n5th tie : 5% ea \nProject M\, Melee and Smash 4 formula\nTop 8 Payout\n1st : 40%\n2nd : 20%\n3rd : 15%\n4th : 10%\n5th tie : 5% ea\n7th tie : 2.5% ea\n\n\n\n\n  \nAttempted Schedule:\nVenue and check-in opens @ 9:30am \n\n\n\n\nPlus / More\nSelectShow\n\n\n*Players that register for at least 2 events will be scheduled for different waves*\n*Cross Registration between Melee and Smash 4 will NOT be allowed.*\n*Max 3 events and 2 different games per attendee* \nSaturday\, November 28th \nMELEE & SMASH 4\n9:30 – Doors are open and check in is available\n11:00 – Wave 1 of Melee and Smash 4 Pools + Doubles Bracket Pool for Melee and Smash 4\n12:30 – Wave 2 of Melee and Smash 4 Pools + Doubles Bracket Pool for Melee and Smash 4\n14:00 – Wave 3 of Melee and Smash 4 Pools – TOP 8 DOUBLES\n15:30 – Wave 4 of Melee and Smash 4 Pools – TOP 8 DOUBLES\n17:00 – Intermission\n18:00~20:00 – Round 2 of Pools for Melee and Smash 4 \nSunday\, November 29th \nOn Day 2\, recording setups and warm up stations will be available for Melee and Smash 4.\nPlayers that are playing Top32 in any game and joining 64 or PM should expect play both brackets without any pause or problem. Any minor delay will result in a double DQ from both Brackets. \nPROJECT M TOURNAMENT SCHEDULE\n11:00 – Wave 1 PM Pools\n12:30 – Wave 2 PM Pools\n14:00 – TOP 32 PM\n16:00 – TOP 8 PM \nSMASH 64 SCHEDULE\n11:00 – 64 Round Robin Pools\n13:00 – TOP 16/24 SMASH 64 \nSMASH 4 SCHEDULE\n12:00 – SMASH 4 TOP 32\n14:00 – SMASH 4 TOP 8 \nMELEE SCHEDULE\n16:00 – MELEE TOP 32\n18:00 – MELEE TOP 8\n\n\n\n\n  \nTournament rules and format \n\n\n\n\nPlus / More\nSelectShow\n\n\nAll singles events will be hosted in a Pools format.\nDepending on the attendance of each event\, players will be spread out in 6 to 8 person pools and the players with the highest score will move on to the next round of pools.\nAfter both rounds of pools are done\, qualified players join the final bracket to fight for first place. \nThe ruleset that will be used for Melee is TBH5 Ruleset with regular DSR.\nThe ruleset for Smash 4 is still in discussion and will be disclosed soon.\nThe ruleset for 64 is APEX 2015 Ruleset (5 stocks\, DL only\, 8 minute timed matches\, winner is character locked)\nThe ruleset that will be used for PM is the Montreal local ruleset\, https://drive.google.com/file/d/0B8aoTGCsLmJONDFPRFdjSmhrUzg/view\n\n\n\n\n  \nMontreal Smash Hubs: \nSmash Bros Montreal – https://www.facebook.com/groups/ssbmtl/\nSSB64 – https://www.facebook.com/groups/ssb64mtl/\nSSBM – https://www.facebook.com/groups/ssbmtl\nSSBB – https://www.facebook.com/groups/144552745610487/\nProject M – https://www.facebook.com/groups/pmmtl/\nSmash 4 (3ds/WiiU) – https://www.facebook.com/groups/ssb4mtl/ \nSmashLoft https://www.facebook.com/SmashLoft
URL:https://www.montrealgaming.com/lan-quebec/smash-intensifies-2/
LOCATION:Concordia University – Hall Building\, 1455 De Maisonneuve W.\, Montreal\, QC\, H3G 1M8\, Canada
CATEGORIES:Smash Bros Event
ATTACH;FMTTYPE=image/jpeg:https://www.montrealgaming.com/wp-content/uploads/2015/10/facebook_event_940618502652156.jpg
ORGANIZER;CN="Smashloft":MAILTO:(514) 564-6274
GEO:45.4973223;-73.5790288
X-APPLE-STRUCTURED-LOCATION;VALUE=URI;X-ADDRESS=Concordia University – Hall Building 1455 De Maisonneuve W. Montreal QC H3G 1M8 Canada;X-APPLE-RADIUS=500;X-TITLE=1455 De Maisonneuve W.:geo:-73.5790288,45.4973223
END:VEVENT
END:VCALENDAR