BEGIN:VCALENDAR
VERSION:2.0
PRODID:-//Montreal Gaming - Les esports au Qu&eacute;bec (Qc). - ECPv6.15.16//NONSGML v1.0//EN
CALSCALE:GREGORIAN
METHOD:PUBLISH
X-ORIGINAL-URL:https://www.montrealgaming.com
X-WR-CALDESC:Events for Montreal Gaming - Les esports au Qu&eacute;bec (Qc).
REFRESH-INTERVAL;VALUE=DURATION:PT1H
X-Robots-Tag:noindex
X-PUBLISHED-TTL:PT1H
BEGIN:VTIMEZONE
TZID:America/New_York
BEGIN:DAYLIGHT
TZOFFSETFROM:-0500
TZOFFSETTO:-0400
TZNAME:EDT
DTSTART:20150308T070000
END:DAYLIGHT
BEGIN:STANDARD
TZOFFSETFROM:-0400
TZOFFSETTO:-0500
TZNAME:EST
DTSTART:20151101T060000
END:STANDARD
BEGIN:DAYLIGHT
TZOFFSETFROM:-0500
TZOFFSETTO:-0400
TZNAME:EDT
DTSTART:20160313T070000
END:DAYLIGHT
BEGIN:STANDARD
TZOFFSETFROM:-0400
TZOFFSETTO:-0500
TZNAME:EST
DTSTART:20161106T060000
END:STANDARD
BEGIN:DAYLIGHT
TZOFFSETFROM:-0500
TZOFFSETTO:-0400
TZNAME:EDT
DTSTART:20170312T070000
END:DAYLIGHT
BEGIN:STANDARD
TZOFFSETFROM:-0400
TZOFFSETTO:-0500
TZNAME:EST
DTSTART:20171105T060000
END:STANDARD
END:VTIMEZONE
BEGIN:VEVENT
DTSTART;VALUE=DATE:20161111
DTEND;VALUE=DATE:20161114
DTSTAMP:20260421T185202
CREATED:20160927T001003Z
LAST-MODIFIED:20161109T195246Z
UID:10000533-1478822400-1479081599@www.montrealgaming.com
SUMMARY:Northern Arena - Montreal 2016
DESCRIPTION:Northern Arena – Montreal 2016\nPresented by Bell \nNOVEMBER 10-13\nNorthern Arena presented by Bell will make it’s Montreal debut from November 10-13. The event will host two main tournaments including the $100\,000 CS:GO Final\, $100\,000 Dota 2 Beat Invitational Final\, $5\,000 Gears of War 4 tournament and a $8\,000 Clash Royale tournament. \n*preliminary tournament matches will be streamed online\, only the finals will be held at the world-famous Bell Center for live spectators to watch. \nDoors open at the Bell Centre\, home of the Canadiens de Montréal on November 13th\, 2016 for the Grand Finals at 2:00PM EDT. \n  \n \nNorthern Arena BEAT Invitational\nThe Canadian League of Gamers and BEAT Gaming Corp. have partnered together to organize a $100\,000 Dota 2 Tournament in Montreal. \nThe Northern Arena BEAT Invitational Montreal 2016 will host 8 professional Dota 2 teams who will compete for a total of $100\,000 in prizes from November 11-13\, 2016. The event will be casted by Moonduck Studios\, who have worked on Dota 2 events such as The International\, Captain’s Draft\, and the Dota 2 Canada Cup. \n  \nDota2 teams:\nEvil Geniuses\nTeam NP\nAlliance\ncompLexity\nWings Gaming\nTeam Liquid\nEHOME\nFDL (Friendship\, Dedication\, Love)\n \n  \n\n\n\n\n\nThursday\, November 10\, 2016 \n\n\n\n\n\n\n 10:30 AM\n\nWB Rnd 1 (Bo3) Ad Finem vs NP\n\n\n\n\n\n 2:30 PM\n\nWB Rnd 1 (Bo3) Wings vs FDL\n\n\n\n\n\n 6:30 PM\n\nLB Eighths Match #1 (Bo1)\n\n\n\n\n\n 8:00 PM\n\nWinners Semi WB Rnd 2 Match #1 (Bo3)\n\n\n\n\n\n\n\n\n\n\n\n\n\nFriday\, November 11\, 2016 \n\n\n\n\n\n\n 10:30 AM\n\nWB Rnd 1 (Bo3) Ehome vs compLexity\n\n\n\n\n\n 2:30 PM\n\nWB RND 1 (Bo3) Evil Geniuses vs Alliance\n\n\n\n\n\n 6:30 PM\n\nLB Eighths Match #2 (Bo1)\n\n\n\n\n\n 8:00 PM\n\nWinner Semi WB Rnd 2 Match #2 (Bo3)\n\n\n\n\n\n\n\n\n\n\n\n\n\nSaturday\, November 12\, 2016 \n\n\n\n\n\n\n 10:30 AM\n\nLB Quarters Match #1 (Bo1)\n\n\n\n\n\n 12:00 PM\n\nLB Quarters Match #2 (Bo1)\n\n\n\n\n\n 1:30 PM\n\nWB Finals (Bo3)\n\n\n\n\n\n 5:30 PM\n\nLB Semi Final (Bo1)\n\n\n\n\n\n 7:00 PM\n\nLB Finals (Bo3)\n\n\n\n\n\n\n\n\n\n\n\n\n\nSunday\, November 13\, 2016 \n\n\n\n\n\n\n 3:30 PM\n\nGrand Finals (Bo3)\n\n\n\n\n\n\n\n\n  \n  \nBUY YOUR TICKETS \n  \n \nNorthern Arena CS:GO Montreal LAN Finals\nEight of the world’s best CS:GO teams are headed to Montreal\, Quebec in Canada to compete at the Northern Arena CS:GO Montreal LAN Finals presented by Bell for a prize pool of $100\,000! Join thousands of fans for the finals on November 13th at the Bell Center to experience the action live and meet up with your favorite players and teams! Get your tickets today and don’t forget to check out the limited VIP Experience CS:GO package. \n\nCS:GO Teams: \nGroup A: \nG2 Esports (Invited)\nTeam Liquid (Invited)\nHeroic (Invited)\ncompLexity (Qualified – Call of the North) \nGroup B: \nTeam EnVyUs (Invited)\nOpTic Gaming (Invited)\nNRG eSports (Invited)\nCounter Logic Gaming (Invited) \n  \n\n\n\n\n\nThursday\, November 10\, 2016 \n\n\n\n\n\n\n 10:30 AM\n\nGroup A G2 eSports vs. CompLexity (Bo1)\n\n\n\n\n\n 12:00 PM\n\nGroup B Envyus vs. CLG (Bo1)\n\n\n\n\n\n 1:30 PM\n\nGroup A Team Liquid vs. Heroic (Bo1)\n\n\n\n\n\n 3:00 PM\n\nGroup B Optic vs. NRG (Bo1)\n\n\n\n\n\n 4:30 PM\n\nGroup A Loser’s Match (Bo3)\n\n\n\n\n\n 7:30 PM\n\nGroup B Loser’s Match (Bo3)\n\n\n\n\n\n\n\n\n\n\n\n\n\nFriday\, November 11\, 2016 \n\n\n\n\n\n\n 11:00 AM\n\nGroup A Winner’s Match (Bo1)\n\n\n\n\n\n 12:30 PM\n\nGroup B Winner’s Match (Bo1)\n\n\n\n\n\n 5:00 PM\n\nGroup A Decider Match (Bo3)\n\n\n\n\n\n\n\n\n\n\n\n\n\nSaturday\, November 12\, 2016 \n\n\n\n\n\n\n 12:00 PM\n\nSemi-Final 1 A2 vs B1 (Bo3)\n\n\n\n\n\n 3:00 PM\n\nSemi-Final 2 A1 vs B2 (Bo3)\n\n\n\n\n\n\n\n\n\n\n\n\n\nSunday\, November 13\, 2016 \n\n\n\n\n\n\n 8:30 PM\n\nGrand Finals (Bo3)\n\n\n\n\n\n\n\n\n\n \n  \nBUY YOUR TICKETS \n  \n \n  \nNorthern Arena Gears of War 4 Canadian Qualifier\nThe Northern Arena Gears of War 4 Canadian Qualifier Presented by Bell will bring together 8 of the top Canadian Gears of War 4 teams to Montreal\, Quebec to compete for a single qualifying spot at the MLG Columbus Open on November 25-27. Winners of this qualifying tournament will receive $10\,000 along with flight and accommodations to Columbus. Runner-up will receive a consolation of $5\,000. The finals of this qualifier will be held in front of a live audience at the world-famous Bell Center on Sunday\, November 13. \nGoW teams:\nSetToDestroyXWait What\nFuLLy SpacEd\nComposure\nThe Glock\nF3\nSecond Nature\nTeam Alberta \n  \n\n\n\n\n\nSaturday\, November 12\, 2016 \n\n\n\n\n\n\n 10:30 AM\n\nWQ SetToDestroyX vs Team Alberta\n\n\n\n\n\n 10:40 AM\n\nWQ F3 vs Second Nature\n\n\n\n\n\n 12:25 PM\n\nWQ FuLLy SpacEd vs Composure\n\n\n\n\n\n 2:00 PM\n\nWinners Semis Match #5\n\n\n\n\n\n 2:10 PM\n\nLosers Bracket Match #1\n\n\n\n\n\n 2:15 PM\n\nWQ The Glock vs Wait What\n\n\n\n\n\n 3:45 PM\n\nWinners Semis Match #6\n\n\n\n\n\n 3:55 PM\n\nLosers Bracket Match #2\n\n\n\n\n\n 5:30 PM\n\nLosers Bracket Match #3\n\n\n\n\n\n 5:40 PM\n\nLosers Bracket Match #4\n\n\n\n\n\n 7:15 PM\n\nWinners Finals Match #7\n\n\n\n\n\n 7:25 PM\n\nLosers Bracket Match #5\n\n\n\n\n\n 9:00 PM\n\nLosers Finals Match #6\n\n\n\n\n\n\n\n\n\n\n\n\n\nSunday\, November 13\, 2016 \n\n\n\n\n\n\n 7:00 PM\n\nGrand Finals\n\n\n\n\n\n\n\n\n  \nBUY YOUR TICKETS \n \nCLASH ROYALE TOURNAMENT\nClash Royale competition is coming back to Northern Arena! The Live Finals of the Northern Arena Kings of the North competition will take place in Montreal\, Canada on Sunday\, November 13. Eight Clash Royale players participating in Montreal will have the opportunity to compete against 4 Clash Royale “Kings” in a Ladder Challenge for a $8000 prize pool. \n  \nBUY YOUR TICKETS
URL:https://www.montrealgaming.com/lan-quebec/northern-arena-montreal-2016/
LOCATION:Centre Bell\, 1909 Avenue des Canadiens-de-Montréal\, Montreal\, Quebec\, H4B 5G0\, Canada
CATEGORIES:Counter-Strike Event,DOTA Event,Gears of War Event,Multi-eSports-Event
ATTACH;FMTTYPE=image/jpeg:https://www.montrealgaming.com/wp-content/uploads/2016/09/unnamed.jpg
GEO:45.49603;-73.5694784
X-APPLE-STRUCTURED-LOCATION;VALUE=URI;X-ADDRESS=Centre Bell 1909 Avenue des Canadiens-de-Montréal Montreal Quebec H4B 5G0 Canada;X-APPLE-RADIUS=500;X-TITLE=1909 Avenue des Canadiens-de-Montréal:geo:-73.5694784,45.49603
END:VEVENT
END:VCALENDAR