BEGIN:VCALENDAR
VERSION:2.0
PRODID:-//Montreal Gaming - Les esports au Qu&eacute;bec (Qc). - ECPv6.15.16//NONSGML v1.0//EN
CALSCALE:GREGORIAN
METHOD:PUBLISH
X-ORIGINAL-URL:https://www.montrealgaming.com
X-WR-CALDESC:Events for Montreal Gaming - Les esports au Qu&eacute;bec (Qc).
REFRESH-INTERVAL;VALUE=DURATION:PT1H
X-Robots-Tag:noindex
X-PUBLISHED-TTL:PT1H
BEGIN:VTIMEZONE
TZID:America/New_York
BEGIN:DAYLIGHT
TZOFFSETFROM:-0500
TZOFFSETTO:-0400
TZNAME:EDT
DTSTART:20150308T070000
END:DAYLIGHT
BEGIN:STANDARD
TZOFFSETFROM:-0400
TZOFFSETTO:-0500
TZNAME:EST
DTSTART:20151101T060000
END:STANDARD
BEGIN:DAYLIGHT
TZOFFSETFROM:-0500
TZOFFSETTO:-0400
TZNAME:EDT
DTSTART:20160313T070000
END:DAYLIGHT
BEGIN:STANDARD
TZOFFSETFROM:-0400
TZOFFSETTO:-0500
TZNAME:EST
DTSTART:20161106T060000
END:STANDARD
BEGIN:DAYLIGHT
TZOFFSETFROM:-0500
TZOFFSETTO:-0400
TZNAME:EDT
DTSTART:20170312T070000
END:DAYLIGHT
BEGIN:STANDARD
TZOFFSETFROM:-0400
TZOFFSETTO:-0500
TZNAME:EST
DTSTART:20171105T060000
END:STANDARD
END:VTIMEZONE
BEGIN:VEVENT
DTSTART;TZID=America/New_York:20161112T140000
DTEND;TZID=America/New_York:20161113T210000
DTSTAMP:20260421T124454
CREATED:20161101T172225Z
LAST-MODIFIED:20161101T172225Z
UID:10000538-1478959200-1479070800@www.montrealgaming.com
SUMMARY:Smash a Sherbz 7 : When Do We Sleep Edition
DESCRIPTION:Smash a Sherbz 7 : When Do We Sleep Edition\nAfin de faire la promotion du VirusLAN\, nous avons décidé de faire un event de 2 jours afin de montrer notre amour de Smash et de remercier le VirusLAN de nous permettre d’organiser leur tournoi de Smash lors du LAN qui aura lieu le 26 et 27 Novembre. \nSAMEDI :\nDoubles et Special Rules Tourney \nLe tournoi commencera au plus tard à 2:30 PM. Si vous êtes en retard vous ne pourrez pas vous inscrire. \nDIMANCHE :\nSingles et Crew Battles \nLe tournoi commencera au plus tard à 1:30 PM. Arrivez à l’avance sinon vous ne serez pas accepté. \nIl y aura des prix en argent pour le top 5 en Singles et top 3 en Doubles \nLes règles des Crew Battles\, Singles et Doubles sont les mêmes que celle de Big House 6 :\nhttp://www.umsmash.com/rules/#wiiuruleset
URL:https://www.montrealgaming.com/lan-quebec/smash-a-sherbz-7-when-do-we-sleep-edition/
LOCATION:Refuge des Brasseurs\, 2155 rue Galt Ouest\, Sherbrooke\, QC\, J1K 1K3\, Canada
CATEGORIES:Smash Bros Event
ATTACH;FMTTYPE=image/jpeg:https://www.montrealgaming.com/wp-content/uploads/2016/11/facebook_event_1094190470689181.jpg
ORGANIZER;CN="SSBSherbrooke":MAILTO:ssbsherbrooke@gmail.com
GEO:45.3871228;-71.9259283
X-APPLE-STRUCTURED-LOCATION;VALUE=URI;X-ADDRESS=Refuge des Brasseurs 2155 rue Galt Ouest Sherbrooke QC J1K 1K3 Canada;X-APPLE-RADIUS=500;X-TITLE=2155 rue Galt Ouest:geo:-71.9259283,45.3871228
END:VEVENT
END:VCALENDAR