BEGIN:VCALENDAR
VERSION:2.0
PRODID:-//Montreal Gaming - Les esports au Qu&eacute;bec (Qc). - ECPv6.15.16//NONSGML v1.0//EN
CALSCALE:GREGORIAN
METHOD:PUBLISH
X-ORIGINAL-URL:https://www.montrealgaming.com
X-WR-CALDESC:Events for Montreal Gaming - Les esports au Qu&eacute;bec (Qc).
REFRESH-INTERVAL;VALUE=DURATION:PT1H
X-Robots-Tag:noindex
X-PUBLISHED-TTL:PT1H
BEGIN:VTIMEZONE
TZID:America/New_York
BEGIN:DAYLIGHT
TZOFFSETFROM:-0500
TZOFFSETTO:-0400
TZNAME:EDT
DTSTART:20130310T070000
END:DAYLIGHT
BEGIN:STANDARD
TZOFFSETFROM:-0400
TZOFFSETTO:-0500
TZNAME:EST
DTSTART:20131103T060000
END:STANDARD
BEGIN:DAYLIGHT
TZOFFSETFROM:-0500
TZOFFSETTO:-0400
TZNAME:EDT
DTSTART:20140309T070000
END:DAYLIGHT
BEGIN:STANDARD
TZOFFSETFROM:-0400
TZOFFSETTO:-0500
TZNAME:EST
DTSTART:20141102T060000
END:STANDARD
BEGIN:DAYLIGHT
TZOFFSETFROM:-0500
TZOFFSETTO:-0400
TZNAME:EDT
DTSTART:20150308T070000
END:DAYLIGHT
BEGIN:STANDARD
TZOFFSETFROM:-0400
TZOFFSETTO:-0500
TZNAME:EST
DTSTART:20151101T060000
END:STANDARD
END:VTIMEZONE
BEGIN:VEVENT
DTSTART;TZID=America/New_York:20140419T180000
DTEND;TZID=America/New_York:20140419T180000
DTSTAMP:20260421T114350
CREATED:20140401T130007Z
LAST-MODIFIED:20140401T031801Z
UID:10000575-1397930400-1397930400@www.montrealgaming.com
SUMMARY:La Grand-Messe du jeu (jeu libre et tournoi de LoL)
DESCRIPTION:Le rassemblement de jeux de tous les types entre Montréal et Québec : \n\nLAN party (détails ci-dessous)\nJeux de console (une quinzaine de postes de jeux sur petit écran et écran géant\, toutes les générations de console\, jeux d’occasions rares à vendre)\nJeux de table (cinquantaine de jeux de table et de société disponibles)\nJeux géants (jeux de rue unique en après-midi)\nEtc.\n\nPour le volet LAN : \n– En après-midi : Jeux libres\, priorité aux jeux gratuits offerts par Steam et aux jeux proposés par les participants. \n– En soirée : Tournoi de League of Legends. 150$ en prix! \nRéservation obligatoire! Écrivez à organisation@projet-enclave.com \nPour un LAN convivial avec une multitude d’activités de gamers “on the side”! \nLa page Facebook de l’événement : https://www.facebook.com/LaGrandMesse
URL:https://www.montrealgaming.com/lan-quebec/la-grand-messe-du-jeu-jeu-libre-et-tournoi-de-lol/
LOCATION:Centre des arts populaires de Nicolet\, 725 boulevard Louis-Fréchette\, Nicolet\, Quebec\, J3T 1L6\, Canada
CATEGORIES:League of Legends Event
ATTACH;FMTTYPE=image/png:https://www.montrealgaming.com/wp-content/uploads/2014/03/1800431_494675990644166_432118124_n.png
ORGANIZER;CN="Centre des arts populaires":MAILTO:organisation@projet-enclave.com
GEO:46.2321032;-72.611384
X-APPLE-STRUCTURED-LOCATION;VALUE=URI;X-ADDRESS=Centre des arts populaires de Nicolet 725 boulevard Louis-Fréchette Nicolet Quebec J3T 1L6 Canada;X-APPLE-RADIUS=500;X-TITLE=725 boulevard Louis-Fréchette:geo:-72.611384,46.2321032
END:VEVENT
END:VCALENDAR