BEGIN:VCALENDAR
VERSION:2.0
PRODID:-//Montreal Gaming - Les esports au Qu&eacute;bec (Qc). - ECPv6.15.16//NONSGML v1.0//EN
CALSCALE:GREGORIAN
METHOD:PUBLISH
X-WR-CALNAME:Montreal Gaming - Les esports au Qu&eacute;bec (Qc).
X-ORIGINAL-URL:https://www.montrealgaming.com
X-WR-CALDESC:Events for Montreal Gaming - Les esports au Qu&eacute;bec (Qc).
REFRESH-INTERVAL;VALUE=DURATION:PT1H
X-Robots-Tag:noindex
X-PUBLISHED-TTL:PT1H
BEGIN:VTIMEZONE
TZID:America/New_York
BEGIN:DAYLIGHT
TZOFFSETFROM:-0500
TZOFFSETTO:-0400
TZNAME:EDT
DTSTART:20170312T070000
END:DAYLIGHT
BEGIN:STANDARD
TZOFFSETFROM:-0400
TZOFFSETTO:-0500
TZNAME:EST
DTSTART:20171105T060000
END:STANDARD
BEGIN:DAYLIGHT
TZOFFSETFROM:-0500
TZOFFSETTO:-0400
TZNAME:EDT
DTSTART:20180311T070000
END:DAYLIGHT
BEGIN:STANDARD
TZOFFSETFROM:-0400
TZOFFSETTO:-0500
TZNAME:EST
DTSTART:20181104T060000
END:STANDARD
BEGIN:DAYLIGHT
TZOFFSETFROM:-0500
TZOFFSETTO:-0400
TZNAME:EDT
DTSTART:20190310T070000
END:DAYLIGHT
BEGIN:STANDARD
TZOFFSETFROM:-0400
TZOFFSETTO:-0500
TZNAME:EST
DTSTART:20191103T060000
END:STANDARD
BEGIN:DAYLIGHT
TZOFFSETFROM:-0500
TZOFFSETTO:-0400
TZNAME:EDT
DTSTART:20200308T070000
END:DAYLIGHT
BEGIN:STANDARD
TZOFFSETFROM:-0400
TZOFFSETTO:-0500
TZNAME:EST
DTSTART:20201101T060000
END:STANDARD
BEGIN:DAYLIGHT
TZOFFSETFROM:-0500
TZOFFSETTO:-0400
TZNAME:EDT
DTSTART:20210314T070000
END:DAYLIGHT
BEGIN:STANDARD
TZOFFSETFROM:-0400
TZOFFSETTO:-0500
TZNAME:EST
DTSTART:20211107T060000
END:STANDARD
BEGIN:DAYLIGHT
TZOFFSETFROM:-0500
TZOFFSETTO:-0400
TZNAME:EDT
DTSTART:20220313T070000
END:DAYLIGHT
BEGIN:STANDARD
TZOFFSETFROM:-0400
TZOFFSETTO:-0500
TZNAME:EST
DTSTART:20221106T060000
END:STANDARD
BEGIN:DAYLIGHT
TZOFFSETFROM:-0500
TZOFFSETTO:-0400
TZNAME:EDT
DTSTART:20230312T070000
END:DAYLIGHT
BEGIN:STANDARD
TZOFFSETFROM:-0400
TZOFFSETTO:-0500
TZNAME:EST
DTSTART:20231105T060000
END:STANDARD
BEGIN:DAYLIGHT
TZOFFSETFROM:-0500
TZOFFSETTO:-0400
TZNAME:EDT
DTSTART:20240310T070000
END:DAYLIGHT
BEGIN:STANDARD
TZOFFSETFROM:-0400
TZOFFSETTO:-0500
TZNAME:EST
DTSTART:20241103T060000
END:STANDARD
BEGIN:DAYLIGHT
TZOFFSETFROM:-0500
TZOFFSETTO:-0400
TZNAME:EDT
DTSTART:20250309T070000
END:DAYLIGHT
BEGIN:STANDARD
TZOFFSETFROM:-0400
TZOFFSETTO:-0500
TZNAME:EST
DTSTART:20251102T060000
END:STANDARD
END:VTIMEZONE
BEGIN:VEVENT
DTSTART;TZID=America/New_York:20241207T133000
DTEND;TZID=America/New_York:20241207T230000
DTSTAMP:20260421T102915
CREATED:20240919T165505Z
LAST-MODIFIED:20241003T143927Z
UID:10000760-1733578200-1733612400@www.montrealgaming.com
SUMMARY:Événement Gaming V
DESCRIPTION:Événement Gaming V\nTournois eSports\, arcades et jeux de société à Otterburn Park le samedi 2 novembre 2024!* \nPour la toute première fois de notre histoire\, on délaisse le tournoi en LAN pour faire place à 3 tournois eSports sur consoles (Street Fighter 6\, Super Smash Bros. Ultimate & Mario Kart 8)\, une section de jeux société en plus de 2 arcades rétro! N’est-ce pas merveilleux? Réserve ta places dès maintenant! \nAfin de t’éviter des frais de billeterie supplémentaires\, tu pourras réserver ton repas dès ton arrivée. \n  \n  \n*Si tu veux bénéficier d’un rabais additionnel de 5$ et amener ton équipement pour nous aider (console\, manettes & écran etc)\, entre le code setup5 lors de l’achat de ton billet. \nRules:\nVisitez le https://evenementgaming.ca/ pour tous les détails
URL:https://www.montrealgaming.com/lan-quebec/evenement-gaming-v/
LOCATION:Camp de Grandpré\, Chemin des Patriotes Sud\, Otterburn Park\, Quebec\, J3H 1Z4\, Canada
CATEGORIES:Multi-eSports-Event,Smash Bros Event,Street Fighter Event
ATTACH;FMTTYPE=image/jpeg:https://www.montrealgaming.com/wp-content/uploads/2024/09/EG_1920a.jpg
ORGANIZER;CN="%C3%89v%C3%A9nement Gaming":MAILTO:info@evenementgaming.ca
GEO:45.5452577;-73.2096079
X-APPLE-STRUCTURED-LOCATION;VALUE=URI;X-ADDRESS=Camp de Grandpré Chemin des Patriotes Sud Otterburn Park Quebec J3H 1Z4 Canada;X-APPLE-RADIUS=500;X-TITLE=Chemin des Patriotes Sud:geo:-73.2096079,45.5452577
END:VEVENT
BEGIN:VEVENT
DTSTART;TZID=America/New_York:20230617T140000
DTEND;TZID=America/New_York:20230617T230000
DTSTAMP:20260421T102915
CREATED:20230301T134757Z
LAST-MODIFIED:20230305T214749Z
UID:10000753-1687010400-1687042800@www.montrealgaming.com
SUMMARY:Événement Gaming IV - Le grand retour!
DESCRIPTION:Événement Gaming IV – Le grand retour!\nTu ne rêves pas\, Événement Gaming revient en force après 3 ans d’absence le samedi 17 juin 2023 à Otterburn Park avec un événement eSports pour les 16 ans et plus. En formule LAN\, un tournoi double élimination sur Rocket League (2 vs 2) avec un prix en argent de 600$* pour les grands gagnants! Notre tournoi secondaire où tu n’as rien besoin d’apporter (sauf ta bonne humeur) sera sur Super Smash Bros en double élimination avec un prix en argent de 200$* pour le grand gagnant! \nCet événement sera sur consoles uniquement (PlayStation / Xbox). Si tu es seul mais que tu aimerais participer\, t’inquiète pas\, nous allons t’aider à trouver quelqu’un. Tu dois apporter ton équipement (console\, écran et câble Ethernet) pour le tournoi Rocket League pour SSB\, juste ta manette si tu le désires! \n* À noter que les prix en argent peuvent être bonifiés grâce à l'ajout de commanditaires en cours de route.\nRules:\nPour les règlements\, consultez http://evenementgaming.ca#faq \n 
URL:https://www.montrealgaming.com/lan-quebec/evenement-gaming-iv-le-grand-retour/
LOCATION:756 Chemin des Patriotes Sud Otterburn Park\, QC J3H 1Z4\, 756 Chemin des Patriotes Sud\, Otterburn Park\, Quebec\, J3H 1Z4\, Canada
CATEGORIES:Multi-eSports-Event,Rocket League Event,Smash Bros Event
ATTACH;FMTTYPE=image/jpeg:https://www.montrealgaming.com/wp-content/uploads/2023/03/EG_poster_17juin23.jpg
ORGANIZER;CN="%C3%89v%C3%A9nement Gaming":MAILTO:info@evenementgaming.ca
GEO:45.5452577;-73.2096079
X-APPLE-STRUCTURED-LOCATION;VALUE=URI;X-ADDRESS=756 Chemin des Patriotes Sud Otterburn Park QC J3H 1Z4 756 Chemin des Patriotes Sud Otterburn Park Quebec J3H 1Z4 Canada;X-APPLE-RADIUS=500;X-TITLE=756 Chemin des Patriotes Sud:geo:-73.2096079,45.5452577
END:VEVENT
BEGIN:VEVENT
DTSTART;TZID=America/New_York:20200321T143000
DTEND;TZID=America/New_York:20200322T180000
DTSTAMP:20260421T102915
CREATED:20200129T084723Z
LAST-MODIFIED:20200129T084723Z
UID:10000725-1584801000-1584900000@www.montrealgaming.com
SUMMARY:Événement Gaming IV : fin de semaine eSports
DESCRIPTION:Événement Gaming IV : fin de semaine eSports\nTu ne rêves pas\, les 21 et 22 mars de la salle des Chevaliers de Colomb à Beloeil\, Événement Gaming se donne à fond en vous offrant un weekend complet de jeux vidéo! Située au cœur du Vieux-Beloeil\, la salle offre un service de bar pour les personnes de 18 ans et plus ainsi que tout le nécessaire pour les plus jeunes. \nCet événement sera sur consoles uniquement (PlayStation 4 / Xbox One). Si vous êtes seul mais que vous aimeriez participer\, nous allons vous combiner avec quelqu’un. Vous devez apporter votre matériel pour les tournois COD\, RL et Fortnite. \nNouveauté 2020\, McDonald’s Beloeil ajoute 2 nouvelles options repas (après la sélection des billets)\, soit un trio McDouble ou Junior au poulet (avec frites moyenne et breuvage). Mais nous vous inquiétez pas\, la pizza est aussi toujours disponible! Le repas sera servi à 18h00 le samedi (pause d’une heure) et à 13h00 le dimanche. Voici l’horaire ainsi que les prix en argent à gagner : \nSamedi 21 mars – 14h30 à 23h00 – PS4 / Xbox\nCall of Duty Modern Warfare (2 vs. 2)\nRocket League (2 vs. 2 – Double élimination)\n400$ 1ère place et 50% de rabais pour des billets pour la 2e place! \nSamedi 21 mars – 18h00 à 23h00 – PS4\nNHL 20 (Solo) avec prix en argent de 80$ \nDimanche 22 mars – 10h15 à 18h00 – PS4 / Xbox\nFortnite (Duo) avec prix en argent de 400$ et 50% de rabais pour des billets pour la 2e place! \nRèglements: www.evenementgaming.ca#faq\nPage Facebook: https://www.facebook.com/evenementgaming/\nDiscord: https://discord.gg/R2xwY37
URL:https://www.montrealgaming.com/lan-quebec/evenement-gaming-iv-fin-de-semaine-esports/
LOCATION:Les Chevaliers de Colomb du Conseil de Beloeil\, 250 Rue Hubert\, Beloeil\, Quebec\, J3G 2S9\, Canada
CATEGORIES:Call of Duty Event,Fortnite Event,Multi-eSports-Event,NHL Event,Rocket League Event
ATTACH;FMTTYPE=image/jpeg:https://www.montrealgaming.com/wp-content/uploads/2020/01/cover.jpg
ORGANIZER;CN="%C3%89v%C3%A9nement Gaming":MAILTO:info@evenementgaming.ca
GEO:45.5694622;-73.2046184
X-APPLE-STRUCTURED-LOCATION;VALUE=URI;X-ADDRESS=Les Chevaliers de Colomb du Conseil de Beloeil 250 Rue Hubert Beloeil Quebec J3G 2S9 Canada;X-APPLE-RADIUS=500;X-TITLE=250 Rue Hubert:geo:-73.2046184,45.5694622
END:VEVENT
BEGIN:VEVENT
DTSTART;TZID=America/New_York:20191214T153000
DTEND;TZID=America/New_York:20191214T233000
DTSTAMP:20260421T102915
CREATED:20190926T160212Z
LAST-MODIFIED:20191025T065235Z
UID:10000717-1576337400-1576366200@www.montrealgaming.com
SUMMARY:Événement Gaming présente : LAN Fortnite II (PS4/Xbox One)
DESCRIPTION:Événement Gaming présente : LAN Fortnite II (PS4/Xbox One)\nJuste à temps pour le temps des fêtes\, Événement Gaming vous gâte avec un troisième événement qui sera entièrement consacré pour une deuxième fois\, à Fortnite! Pour l’occasion\, nous serons dans une nouvelle salle située au cœur du Vieux-Beloeil (multitude de restaurants pour vous\, les parents) qui offre également un service de bar pour les personnes de 18 ans et plus. Afin de ménager le circuit électrique\, cet événement sera sur consoles uniquement (PlayStation 4 / Xbox One). Si vous êtes seul mais que vous aimeriez participer\, nous allons vous combiner avec quelqu’un. \n\nBourse Fortnite (Section)* : 400$\nBourse Super Smash Bros. : 80$ (60% / 30% / 10%)\nPrix de présence\n\nUne nouveauté pour cet événement\, nous aurons une section jeux de société animée par LigueGaming qui proposera les jeux Magic Modern et Trading Card Pokémon. Votre billet “visiteur” vous donne accès à tout ça\, suffit seulement d’amener vos decks/cartes! \nEn avant-scène vous y retrouverez Switch\, PS4\, Nintendo 64 et Super Nintendo Classic en jeu libre! Également à 19h00\, un tournoi de Super Smash Bros. Ultimate (Nintendo Switch) et accessible à tous les détenteurs de billets “visiteur”\, soyez-y! \n  \n*Mode de jeu (duo\, trio ou section) sujet à changement
URL:https://www.montrealgaming.com/lan-quebec/evenement-gaming-presente-lan-fortnite-ii-ps4-xbox-one/
LOCATION:Les Chevaliers de Colomb du Conseil de Beloeil\, 250 Rue Hubert\, Beloeil\, Quebec\, J3G 2S9\, Canada
CATEGORIES:Fortnite Event,Multi-eSports-Event,Smash Bros Event
ATTACH;FMTTYPE=image/jpeg:https://www.montrealgaming.com/wp-content/uploads/2019/09/lan_fortnite_2019.jpg
ORGANIZER;CN="%C3%89v%C3%A9nement Gaming":MAILTO:info@evenementgaming.ca
GEO:45.5694622;-73.2046184
X-APPLE-STRUCTURED-LOCATION;VALUE=URI;X-ADDRESS=Les Chevaliers de Colomb du Conseil de Beloeil 250 Rue Hubert Beloeil Quebec J3G 2S9 Canada;X-APPLE-RADIUS=500;X-TITLE=250 Rue Hubert:geo:-73.2046184,45.5694622
END:VEVENT
BEGIN:VEVENT
DTSTART;TZID=America/New_York:20190504T110000
DTEND;TZID=America/New_York:20190504T230000
DTSTAMP:20260421T102915
CREATED:20190221T022805Z
LAST-MODIFIED:20190419T010425Z
UID:10000565-1556967600-1557010800@www.montrealgaming.com
SUMMARY:Événement Gaming présente : Fortnite\, Rocket League & Super Smash Bros. Ultimate
DESCRIPTION:Événement Gaming présente : Fortnite\, Rocket League & Super Smash Bros. Ultimate\n** L’ÉVÉNEMENT EST COMPLET ** \nAprès le succès du premier événement de décembre 2018\, Événement Gaming revient en force avec une deuxième édition encore plus excitante que la première! \nPour l’occasion nous offrons pas un mais trois tournois dans la même journée! Pour la première partie de la journée\, de 11h00 à 17h00\, il y aura le tournoi de Fortnite en duos (PS4\, Xbox One\, Switch & PC). En soirée\, de 17h25 à 23h00\, nous changeons la donne avec un tournoi Rocket League en duos avec 32 personnes et un second tournoi Fortnite en solo\, avec 28 personnes! Comme au premier événement\, si vous êtes seuls nous allons vous combiner avec des gens sur place. \nBourse Fortnite :  300$* (duos) / 150$ (solo)\nBourse Rocket League : 1e – 200$* / 2e – 100$*\nBourse Super Smash Bros. : 50$* \n*Les bourses peuvent être revues sans pré-avis dépendant du taux de participation du tournoi en question. \nRéglements des tournois: www.evenementgaming.ca \nÉgalement en soirée\, un tournoi de Super Smash Bros. Ultimate (Nintendo Switch) accessible à tous les détenteurs de billets du même nom\, soyez-y! En avant-scène vous y retrouverez PS4\, Nintendo 64 et Super Nintendo Classic en jeu libre. \nLa formule repas est toujours disponible à la fin du processus d’achat au coût de 10-12$. Le repas pour Fortnite sera servi vers 13h et 19h pour Rocket League / Fortnite (solo). \n 
URL:https://www.montrealgaming.com/lan-quebec/evenement-gaming-presente-fortnite-rocket-league-apex-legends-super-smash-bros-ultimate/
LOCATION:Centre Culturel Pointe-Valaine\, 85 Rue d'Oxford\, Otterburn Park\, Quebec\, J3H 1H3\, Canada
CATEGORIES:Fortnite Event,Multi-eSports-Event,Rocket League Event
ATTACH;FMTTYPE=image/jpeg:https://www.montrealgaming.com/wp-content/uploads/2019/02/poster_print.jpg
ORGANIZER;CN="%C3%89v%C3%A9nement Gaming":MAILTO:info@evenementgaming.ca
GEO:45.5426414;-73.2188958
X-APPLE-STRUCTURED-LOCATION;VALUE=URI;X-ADDRESS=Centre Culturel Pointe-Valaine 85 Rue d'Oxford Otterburn Park Quebec J3H 1H3 Canada;X-APPLE-RADIUS=500;X-TITLE=85 Rue d'Oxford:geo:-73.2188958,45.5426414
END:VEVENT
BEGIN:VEVENT
DTSTART;TZID=America/New_York:20181201T130000
DTEND;TZID=America/New_York:20181201T230000
DTSTAMP:20260421T102915
CREATED:20180914T194919Z
LAST-MODIFIED:20180925T152525Z
UID:10000712-1543669200-1543705200@www.montrealgaming.com
SUMMARY:Événement Gaming présente : LAN Fortnite (PS4)
DESCRIPTION:Événement Gaming présente : LAN Fortnite (PS4)\nUn événement unique près du Mont-Saint-Hilaire et Beloeil pouvant accueillir 60 personnes avec formule BYOC (tu apportes ta console\, manette\, moniteur etc.) incluant prix\, tournois pendant la journée et plus. Tu adores Fortnite et tu as une PS4? C’est pour toi!
URL:https://www.montrealgaming.com/lan-quebec/evenement-gaming-presente-journee-fortnite/
LOCATION:Centre Culturel Pointe-Valaine\, 85 Rue d'Oxford\, Otterburn Park\, Quebec\, J3H 1H3\, Canada
CATEGORIES:Fortnite Event
ATTACH;FMTTYPE=image/jpeg:https://www.montrealgaming.com/wp-content/uploads/2018/09/lanop.jpg
ORGANIZER;CN="%C3%89v%C3%A9nement Gaming":MAILTO:info@evenementgaming.ca
GEO:45.5426414;-73.2188958
X-APPLE-STRUCTURED-LOCATION;VALUE=URI;X-ADDRESS=Centre Culturel Pointe-Valaine 85 Rue d'Oxford Otterburn Park Quebec J3H 1H3 Canada;X-APPLE-RADIUS=500;X-TITLE=85 Rue d'Oxford:geo:-73.2188958,45.5426414
END:VEVENT
END:VCALENDAR