BEGIN:VCALENDAR
VERSION:2.0
PRODID:-//Montreal Gaming - Les esports au Qu&eacute;bec (Qc). - ECPv6.15.16//NONSGML v1.0//EN
CALSCALE:GREGORIAN
METHOD:PUBLISH
X-ORIGINAL-URL:https://www.montrealgaming.com
X-WR-CALDESC:Events for Montreal Gaming - Les esports au Qu&eacute;bec (Qc).
REFRESH-INTERVAL;VALUE=DURATION:PT1H
X-Robots-Tag:noindex
X-PUBLISHED-TTL:PT1H
BEGIN:VTIMEZONE
TZID:America/New_York
BEGIN:DAYLIGHT
TZOFFSETFROM:-0500
TZOFFSETTO:-0400
TZNAME:EDT
DTSTART:20160313T070000
END:DAYLIGHT
BEGIN:STANDARD
TZOFFSETFROM:-0400
TZOFFSETTO:-0500
TZNAME:EST
DTSTART:20161106T060000
END:STANDARD
BEGIN:DAYLIGHT
TZOFFSETFROM:-0500
TZOFFSETTO:-0400
TZNAME:EDT
DTSTART:20170312T070000
END:DAYLIGHT
BEGIN:STANDARD
TZOFFSETFROM:-0400
TZOFFSETTO:-0500
TZNAME:EST
DTSTART:20171105T060000
END:STANDARD
BEGIN:DAYLIGHT
TZOFFSETFROM:-0500
TZOFFSETTO:-0400
TZNAME:EDT
DTSTART:20180311T070000
END:DAYLIGHT
BEGIN:STANDARD
TZOFFSETFROM:-0400
TZOFFSETTO:-0500
TZNAME:EST
DTSTART:20181104T060000
END:STANDARD
END:VTIMEZONE
BEGIN:VTIMEZONE
TZID:America/Halifax
BEGIN:DAYLIGHT
TZOFFSETFROM:-0400
TZOFFSETTO:-0300
TZNAME:ADT
DTSTART:20150308T060000
END:DAYLIGHT
BEGIN:STANDARD
TZOFFSETFROM:-0300
TZOFFSETTO:-0400
TZNAME:AST
DTSTART:20151101T050000
END:STANDARD
BEGIN:DAYLIGHT
TZOFFSETFROM:-0400
TZOFFSETTO:-0300
TZNAME:ADT
DTSTART:20160313T060000
END:DAYLIGHT
BEGIN:STANDARD
TZOFFSETFROM:-0300
TZOFFSETTO:-0400
TZNAME:AST
DTSTART:20161106T050000
END:STANDARD
BEGIN:DAYLIGHT
TZOFFSETFROM:-0400
TZOFFSETTO:-0300
TZNAME:ADT
DTSTART:20170312T060000
END:DAYLIGHT
BEGIN:STANDARD
TZOFFSETFROM:-0300
TZOFFSETTO:-0400
TZNAME:AST
DTSTART:20171105T050000
END:STANDARD
END:VTIMEZONE
BEGIN:VEVENT
DTSTART;TZID=America/New_York:20170225T220000
DTEND;TZID=America/New_York:20170226T030000
DTSTAMP:20260421T212613
CREATED:20170215T220418Z
LAST-MODIFIED:20170225T183144Z
UID:10000690-1488060000-1488078000@www.montrealgaming.com
SUMMARY:Montréal joue avec Gaymer Zone
DESCRIPTION:Montréal joue avec Gaymer Zone\n[English below] \nLe samedi 25 février 2017 au Club Unity: Joignez-vous aux #Gaymers de la région de Montréal dans la 2e salle pour une édition spéciale de Gaymer Zone; évènement officiel du Festival Montréal joue\, présenté par Bibliothèques de Montréal\, en collaboration avec TD! \nTOURNOI Super Smash Bros.\n– Prix à gagner!\n– Inscription gratuite sur place.\n– Apportez votre manette GameCube. \nSECTION Just Dance 2017\n– Une section entièrement dédiée au jeu de danse.\n– Maintenant avec demandes spéciales! \nSTATION Steam\n– À quels jeux multijoueurs (local) jouez-vous avec vos amis? Publiez vos demandes sur le mur de l’évènement Facebook. \nSTATION JEUX RETRO\n– Sega Genesis.\n– Sony PlayStation 1.\n– Super Nintendo Entertainment System.\n– Quels jeux aimeriez-vous avoir à ces stations? Publiez vos demandes sur le mur de l’évènement Facebook. \nKIOSQUE RÉZO\n– Joignez-vous à l’équipe pour créer un jeu de style « Cards Against Humanity ».\n– Courrez la chance de gagner un jeu Steam! \nADMISSION: Gratuite avant 23h\, 6$ après. \n——————– \nOn Saturday\, February 25\, 2017 at Club Unity: Join #Gaymers from the Montreal area for this special edition of Gaymer Zone; an official event of the Montréal joue Festival\, presented by Bibliothèques de Montréal\, in collaboration with TD! \nSuper Smash Bros. TOURNAMENT\n– Prizes to be won!\n– Free registration on-site.\n– Bring your own GameCube controller. \nJust Dance 2017 SECTION\n– A section completely dedicated to the dancing game.\n– Now with special requests! \nSteam STATION\n– Which local multiplayer games do you play with friends? Post your requests on the Facebook event wall! \nRETRO GAMES STATION\n– Sega Genesis.\n– Sony PlayStation 1.\n– Super Nintendo Entertainment System.\n– What games would you like to have at those stations? Post your requests on the Facebook event wall! \nRÉZO KIOSK\n– Join the team to create a Cards Against Humanity-style deck.\n– Get a chance to win a Steam game! \nADMISSION: No cover before 11PM\, $6 after.
URL:https://www.montrealgaming.com/lan-quebec/montreal-joue-avec-gaymer-zone/
LOCATION:Club Unity\, 1171 rue Sainte-Catherine Est\, Montreal\, QC\, H2L 2G8\, Canada
CATEGORIES:Counter-Strike Event,DOTA Event,Multi-eSports-Event,Smash Bros Event
ATTACH;FMTTYPE=image/jpeg:https://www.montrealgaming.com/wp-content/uploads/2017/02/facebook_event_612466695621689.jpg
ORGANIZER;CN="Gaymer Zone":MAILTO:mike@gaymer-zone.com
GEO:45.5183662;-73.5566009
X-APPLE-STRUCTURED-LOCATION;VALUE=URI;X-ADDRESS=Club Unity 1171 rue Sainte-Catherine Est Montreal QC H2L 2G8 Canada;X-APPLE-RADIUS=500;X-TITLE=1171 rue Sainte-Catherine Est:geo:-73.5566009,45.5183662
END:VEVENT
BEGIN:VEVENT
DTSTART;TZID=America/Halifax:20160625T210000
DTEND;TZID=America/Halifax:20160626T030000
DTSTAMP:20260421T212613
CREATED:20160623T155626Z
LAST-MODIFIED:20160623T160104Z
UID:10000528-1466888400-1466910000@www.montrealgaming.com
SUMMARY:PLAY: Gaymer Zone
DESCRIPTION:Français\n\n \nPLAY: Gaymer Zone\nLe mensuel Gaymer Zone est de retour au Play Montreal le 25 juin prochain! \nTOURNOI SMASH WiiU\n– Inscription gratuite sur place.\n– Single Elimination.\n– 8 Minutes\, 3 Stocks\, pas d’items.\n– Stage aléatoire parmi Battlefield\, Final Destination\, Smashville\, Town and City\, Dreamland et Lylat Cruise. \nJUST DANCE 2016 + UNLIMITED\n– Une salle dédiée entièrement à Just Dance de l’ouverture (21h) à la fermteure (3h). \nPOKEMON : COMBATS D’ARÈNES\n– Combattez nos champions d’arènes monotype!\n– Les combats seront diffusés sur une des télévisions sur place! \nSTATION RETRO GAMING\n– Raspberry Pi 3.\n– Une douzaine de consoles disponibles.\n– Une centaine de jeux.\n– Nostalgie garantie! \nRestez à l’affût pour plus d’information. \n\nEnglish\n\n \nPLAY: Gaymer Zone\nThe monthly Gaymer Zone returns to Play Montreal on June 25th! \nSMASH WiiU TOURNEY\n– Free registration on-site.\n– Single Elimination.\n– 8 Minutes\, 3 Stocks\, No Items.\n– Stage Random amongst Battlefield\, Final Destination\, Smashville\, Town and City\, Dreamland & Lylat Cruise. \nJUST DANCE 2016 + UNLIMITED\nA room completely dedicated to Just Dance from the opening (9PM) to closing (3AM). \nPOKEMON : GYM BATTLES\n– Battle one of our monotype Gym Leaders!\n– Battles will be streamed on a TV at the event! \nRETRO GAMING STATION\n– Raspberry Pi 3.\n– A dozen consoles available.\n– 100+ games to choose from.\n– Nostalgia guaranteed! \nStay tuned for more information
URL:https://www.montrealgaming.com/lan-quebec/play-gaymer-zone/
LOCATION:Play Montreal\, 1450 Sainte-Catherine est\, Montreal\, QC\, H2L 2H8\, Canada
CATEGORIES:Multi-eSports-Event,Smash Bros Event
ATTACH;FMTTYPE=image/jpeg:https://www.montrealgaming.com/wp-content/uploads/2016/06/facebook_event_1703867013209726.jpg
ORGANIZER;CN="Gaymer Zone":MAILTO:mike@gaymer-zone.com
GEO:45.5205489;-73.5539049
X-APPLE-STRUCTURED-LOCATION;VALUE=URI;X-ADDRESS=Play Montreal 1450 Sainte-Catherine est Montreal QC H2L 2H8 Canada;X-APPLE-RADIUS=500;X-TITLE=1450 Sainte-Catherine est:geo:-73.5539049,45.5205489
END:VEVENT
END:VCALENDAR