BEGIN:VCALENDAR
VERSION:2.0
PRODID:-//Montreal Gaming - Les esports au Qu&eacute;bec (Qc). - ECPv6.15.16//NONSGML v1.0//EN
CALSCALE:GREGORIAN
METHOD:PUBLISH
X-ORIGINAL-URL:https://www.montrealgaming.com
X-WR-CALDESC:Events for Montreal Gaming - Les esports au Qu&eacute;bec (Qc).
REFRESH-INTERVAL;VALUE=DURATION:PT1H
X-Robots-Tag:noindex
X-PUBLISHED-TTL:PT1H
BEGIN:VTIMEZONE
TZID:America/New_York
BEGIN:DAYLIGHT
TZOFFSETFROM:-0500
TZOFFSETTO:-0400
TZNAME:EDT
DTSTART:20160313T070000
END:DAYLIGHT
BEGIN:STANDARD
TZOFFSETFROM:-0400
TZOFFSETTO:-0500
TZNAME:EST
DTSTART:20161106T060000
END:STANDARD
BEGIN:DAYLIGHT
TZOFFSETFROM:-0500
TZOFFSETTO:-0400
TZNAME:EDT
DTSTART:20170312T070000
END:DAYLIGHT
BEGIN:STANDARD
TZOFFSETFROM:-0400
TZOFFSETTO:-0500
TZNAME:EST
DTSTART:20171105T060000
END:STANDARD
BEGIN:DAYLIGHT
TZOFFSETFROM:-0500
TZOFFSETTO:-0400
TZNAME:EDT
DTSTART:20180311T070000
END:DAYLIGHT
BEGIN:STANDARD
TZOFFSETFROM:-0400
TZOFFSETTO:-0500
TZNAME:EST
DTSTART:20181104T060000
END:STANDARD
END:VTIMEZONE
BEGIN:VTIMEZONE
TZID:America/Halifax
BEGIN:DAYLIGHT
TZOFFSETFROM:-0400
TZOFFSETTO:-0300
TZNAME:ADT
DTSTART:20140309T060000
END:DAYLIGHT
BEGIN:STANDARD
TZOFFSETFROM:-0300
TZOFFSETTO:-0400
TZNAME:AST
DTSTART:20141102T050000
END:STANDARD
BEGIN:DAYLIGHT
TZOFFSETFROM:-0400
TZOFFSETTO:-0300
TZNAME:ADT
DTSTART:20150308T060000
END:DAYLIGHT
BEGIN:STANDARD
TZOFFSETFROM:-0300
TZOFFSETTO:-0400
TZNAME:AST
DTSTART:20151101T050000
END:STANDARD
BEGIN:DAYLIGHT
TZOFFSETFROM:-0400
TZOFFSETTO:-0300
TZNAME:ADT
DTSTART:20160313T060000
END:DAYLIGHT
BEGIN:STANDARD
TZOFFSETFROM:-0300
TZOFFSETTO:-0400
TZNAME:AST
DTSTART:20161106T050000
END:STANDARD
END:VTIMEZONE
BEGIN:VEVENT
DTSTART;TZID=America/New_York:20170304T120000
DTEND;TZID=America/New_York:20170304T170000
DTSTAMP:20260422T024033
CREATED:20170217T201446Z
LAST-MODIFIED:20170217T205201Z
UID:10000691-1488628800-1488646800@www.montrealgaming.com
SUMMARY:MARCH MADNESS - CALL OF DUTY INFINITE WARFARE
DESCRIPTION:MARCH MADNESS – CALL OF DUTY INFINITE WARFARE\nAll teams/players in all locations will participate at one time in a GIANT double elimination bracket. No waiting for space to open up like a typical LAN event. \nTHIS IS NOT AN ONLINE TOURNAMENT! \nWhile matches do take place between teams via the internet\, the teams are all physically located at certified ggCircuit centers around North America. There will be no players or teams playing from home or remote locations. We will be tracking IP address and other data to ensure that all players/teams are only playing from their local certified ggCircuit center. \nThe tournaments consist of two fees to enter:  \n#1 Tournament Entry Fee\n\nThis is paid to ggCircuit to enter the brackets and 100% of these fees create the national prize pool for that\n\n#2 Tournament Venue Fee\n\nThis is paid to the local ggCircuit center for the use of their facility the day of the tournament. Many centers have options available for full station with all equipment or empty stations for teams to BYOC (Bring your own Console/Computer)\n\n  \nTournament rules:\n Registration will close at midnight two days before the event.\n\nThe brackets will then be created and posted 24 hours before the matches begin. On game day\, all teams may join the ggCircuit Discord channel for their game to help coordinate matching up teams for matches in the brackets.\n\nThe fun part is that we guarantee all entries at least three matches. If you are down on your luck and lose both of your first two matches in the double-elimination bracket\, you will be automatically entered for free into the famous Pink Pansy single elimination bracket with all other teams who lost their first two matches. This bracket will be a fight to the death for those teams to take the top prize and be able to call themselves true Pink Pansies!\n\n(Oh… and they also win back their tournament entry fee as another bonus!)\n\nAt the end of the main double-elimination bracket\, the captains of the top teams winning prize money will receive the money via PayPal within 24 hours.\n\nTime\n  Matches start at 1 PM EST sharp\, teams must be checked in no later than 12 PM EST\n\nDate\n\nSaturday\, March 4th\n\nFormat / Settings\n\n- Seeding will be performed at random\n - - Higher Seeded Teams receive choice of side\n - Double Elimination\n - - Teams eliminated out of main bracket ( 0-2 ) are entered into a side single elimination bracket for a chance to win their Team Pass back\n - Best of 3 Format until Winners Semi-Finals\n - - Game 1 – Hardpoint\n - - Game 2 – Search and Destroy\n - - Game 3 – Uplink\n - Best of 5 Format for Losers Semi-Finals\, Losers Finals\, Winners Semi-Finals\, Winners Finals\, Grand Finals\n - - Game 1 – Hardpoint\n - - Game 2 – Search and Destroy\n - - Game 3 – Uplink\n - - Game 4 – Hardpoint\n - - Game 5 – Search and Destroy\n - Maps will be predetermined for each round\n - Additional Rulings will utilize CWL Atlanta Open rulings
URL:https://www.montrealgaming.com/lan-quebec/march-madness-call-of-duty-infinite-warfare/
LOCATION:Nemesis Video Game Lounge\, 112 Walton\, Pointe-Claire\, QC\, H9R 1S6\, Canada
CATEGORIES:Hearthstone Event,League of Legends Event,Multi-eSports-Event,Rocket League Event
ATTACH;FMTTYPE=image/jpeg:https://www.montrealgaming.com/wp-content/uploads/2017/02/16711942_1250967498272826_2202709534574245527_n.jpg
GEO:45.458052;-73.8106858
X-APPLE-STRUCTURED-LOCATION;VALUE=URI;X-ADDRESS=Nemesis Video Game Lounge 112 Walton Pointe-Claire QC H9R 1S6 Canada;X-APPLE-RADIUS=500;X-TITLE=112 Walton:geo:-73.8106858,45.458052
END:VEVENT
BEGIN:VEVENT
DTSTART;TZID=America/Halifax:20151030T180000
DTEND;TZID=America/Halifax:20151030T180000
DTSTAMP:20260422T024033
CREATED:20150910T183326Z
LAST-MODIFIED:20150910T183326Z
UID:10000604-1446228000-1446228000@www.montrealgaming.com
SUMMARY:HALOWEEN  -  Halo 5 LAN PARTY
DESCRIPTION:Français\n\n \nHALOween est de retour cette année a Nemesis!\n29 OCTOBRE 2015 \nCoût: Gratuit!•• \nRejoignez-nous pour une nuit amusante.\nBYOC & jeux.\nVenez jouer entre amis! \n•• Quand vous pré-commander Halo Guardians avec Nemesis! (Valeur 8\,00 $) \n\nEnglish\n\n \nNemesis is bringing HALOween Back This Year!\nOCTOBER 29th 2015 \nCOST: FREE!••• \nJoin Us for a Fun Filled Night.\nBYOC & Game.\nCome Play among friends! \n••• When you pre-order Halo Guardians with Nemesis! ($8.00 value) \n\n \n 
URL:https://www.montrealgaming.com/lan-quebec/haloween-halo-5-lan-party/
LOCATION:Nemesis Video Game Lounge\, 112 Walton\, Pointe-Claire\, QC\, H9R 1S6\, Canada
CATEGORIES:Halo Event
ATTACH;FMTTYPE=image/jpeg:https://www.montrealgaming.com/wp-content/uploads/2015/09/facebook_event_1604788943099030.jpg
GEO:45.458052;-73.8106858
X-APPLE-STRUCTURED-LOCATION;VALUE=URI;X-ADDRESS=Nemesis Video Game Lounge 112 Walton Pointe-Claire QC H9R 1S6 Canada;X-APPLE-RADIUS=500;X-TITLE=112 Walton:geo:-73.8106858,45.458052
END:VEVENT
END:VCALENDAR