BEGIN:VCALENDAR
VERSION:2.0
PRODID:-//Montreal Gaming - Les esports au Qu&eacute;bec (Qc). - ECPv6.15.16//NONSGML v1.0//EN
CALSCALE:GREGORIAN
METHOD:PUBLISH
X-ORIGINAL-URL:https://www.montrealgaming.com
X-WR-CALDESC:Events for Montreal Gaming - Les esports au Qu&eacute;bec (Qc).
REFRESH-INTERVAL;VALUE=DURATION:PT1H
X-Robots-Tag:noindex
X-PUBLISHED-TTL:PT1H
BEGIN:VTIMEZONE
TZID:America/New_York
BEGIN:DAYLIGHT
TZOFFSETFROM:-0500
TZOFFSETTO:-0400
TZNAME:EDT
DTSTART:20170312T070000
END:DAYLIGHT
BEGIN:STANDARD
TZOFFSETFROM:-0400
TZOFFSETTO:-0500
TZNAME:EST
DTSTART:20171105T060000
END:STANDARD
BEGIN:DAYLIGHT
TZOFFSETFROM:-0500
TZOFFSETTO:-0400
TZNAME:EDT
DTSTART:20180311T070000
END:DAYLIGHT
BEGIN:STANDARD
TZOFFSETFROM:-0400
TZOFFSETTO:-0500
TZNAME:EST
DTSTART:20181104T060000
END:STANDARD
BEGIN:DAYLIGHT
TZOFFSETFROM:-0500
TZOFFSETTO:-0400
TZNAME:EDT
DTSTART:20190310T070000
END:DAYLIGHT
BEGIN:STANDARD
TZOFFSETFROM:-0400
TZOFFSETTO:-0500
TZNAME:EST
DTSTART:20191103T060000
END:STANDARD
END:VTIMEZONE
BEGIN:VTIMEZONE
TZID:America/New_York
BEGIN:DAYLIGHT
TZOFFSETFROM:-0500
TZOFFSETTO:-0400
TZNAME:EDT
DTSTART:20160313T070000
END:DAYLIGHT
BEGIN:STANDARD
TZOFFSETFROM:-0400
TZOFFSETTO:-0500
TZNAME:EST
DTSTART:20161106T060000
END:STANDARD
BEGIN:DAYLIGHT
TZOFFSETFROM:-0500
TZOFFSETTO:-0400
TZNAME:EDT
DTSTART:20170312T070000
END:DAYLIGHT
BEGIN:STANDARD
TZOFFSETFROM:-0400
TZOFFSETTO:-0500
TZNAME:EST
DTSTART:20171105T060000
END:STANDARD
BEGIN:DAYLIGHT
TZOFFSETFROM:-0500
TZOFFSETTO:-0400
TZNAME:EDT
DTSTART:20180311T070000
END:DAYLIGHT
BEGIN:STANDARD
TZOFFSETFROM:-0400
TZOFFSETTO:-0500
TZNAME:EST
DTSTART:20181104T060000
END:STANDARD
BEGIN:DAYLIGHT
TZOFFSETFROM:-0500
TZOFFSETTO:-0400
TZNAME:EDT
DTSTART:20190310T070000
END:DAYLIGHT
BEGIN:STANDARD
TZOFFSETFROM:-0400
TZOFFSETTO:-0500
TZNAME:EST
DTSTART:20191103T060000
END:STANDARD
END:VTIMEZONE
BEGIN:VEVENT
DTSTART;VALUE=DATE:20180804
DTEND;VALUE=DATE:20180805
DTSTAMP:20260421T145649
CREATED:20180530T010427Z
LAST-MODIFIED:20180801T015105Z
UID:10000707-1533340800-1533427199@www.montrealgaming.com
SUMMARY:THE RAINBOW SIX CANADIAN NATIONALS: SEASON 1
DESCRIPTION:Français\n\n \nLES NATIONAUX CANADIENS RAINBOW SIX: SAISON 1\n\nLes Nationaux canadiens Rainbow Six est un tournoi organisé pour les Canadiens\, par des Canadiens.\nDes équipes de tous les coins du pays rivaliseront pour le titre de champion au Canada\, ainsi qu’une cagnotte de 15 000$ CAD. \nL’événement\, réparti sur deux saisons de jeu\, se divise en trois phases : les qualifications ouvertes à tous\, le circuit en ligne et les finales en direct. \n \n\nEnglish\n\n \nTHE RAINBOW SIX CANADIAN NATIONALS: SEASON 1\n\nThe Rainbow Six Canadian Nationals is a tournament for Canadians\, by Canadians.\nSet across two Seasons of gameplay\, teams from all around the country will compete for the top title in Canada and a prize pool of $15\,000 CAD.\nFeaturing Open Qualifiers\, an Online Circuit and two Live Final events\, the Rainbow Six Canadian Nationals is the premiere Canadian Siege tournament.
URL:https://www.montrealgaming.com/lan-quebec/the-rainbow-six-canadian-nationals/
LOCATION:Olympia de Montréal\, 1004 Ste-Catherine\, Montreal\, Quebec\, H2L 2G2\, Canada
CATEGORIES:Rainbow Six Event
ATTACH;FMTTYPE=image/png:https://www.montrealgaming.com/wp-content/uploads/2018/05/2018-05-29-21_09_39-Rainbow-Six-Siege_-Nationaux-canadiens-2018.png
GEO:45.5171011;-73.556878
X-APPLE-STRUCTURED-LOCATION;VALUE=URI;X-ADDRESS=Olympia de Montréal 1004 Ste-Catherine Montreal Quebec H2L 2G2 Canada;X-APPLE-RADIUS=500;X-TITLE=1004 Ste-Catherine:geo:-73.556878,45.5171011
END:VEVENT
BEGIN:VEVENT
DTSTART;TZID=America/New_York:20180215T190000
DTEND;TZID=America/New_York:20180215T220000
DTSTAMP:20260421T145649
CREATED:20180105T024737Z
LAST-MODIFIED:20180105T051326Z
UID:10000556-1518721200-1518732000@www.montrealgaming.com
SUMMARY:Northern Arena: Rainbow 6 Canadian Circuit
DESCRIPTION:Français\n\n \nNorthern Arena:\nLe Rainbow Six Circuit Canadien\nÉvènement gratuit \nNorthern Arena est ravi d’offrir aux fans de Tom Clancy’s Rainbow Six Siege quelque chose de spécial en 2018. \nLe Rainbow Six Circuit Canadien de Northern Arena comprendra une compétition de quatre semaines avec des matchs hebdomadaires. Chaque samedi\, les équipes compétitionneront pour des points et une bourse hebdomadaire de 1\,250$ CAN. \nLes deux équipes ayant accumulé le plus de points à la fin des quatre semaines se verront offertes un voyage toutes dépenses payées à Montréal pour participer à la finale en direct \nJoignez-vous à nous à MONTRÉAL le JEUDI 15 FÉVRIER pour voir les meilleurs joueurs canadiens de Rainbow 6 s’affronter pour une bourse de 15\,000$! \n  \n \n  \n INSCRIPTION !\n\nEnglish\n\n \nNorthern Arena:\nRainbow 6 Canadian Circuit Final\nFREE EVENT \nNorthern Arena is excited to bring Tom Clancy’s Rainbow Six Siege fans something special in 2018. \nThe Northern Arena Rainbow Six Canadian Circuit will comprise of a four-week long circuit featuring weekly matches.\nEvery Saturday\, teams will compete for circuit points and the weekly prize pool of $1\,250 CAD. \nThe top two teams with the most circuit points at the end of the four weeks will be granted an all expenses paid trip to Montreal to compete in our live final! \nJoin us in MONTREAL on THURSDAY FEBRUARY 15 to watch Canada’s top Rainbow 6 players face off in a Best of 7 for a $15\,000 prize pool! \n  \n \n  \n REGISTER NOW!
URL:https://www.montrealgaming.com/lan-quebec/rainbow-6-canadian-circuit-final/
LOCATION:Theatre Plaza\, 6505\, rue Saint-Hubert\, Montreal\, QC\, H2S 2M5\, Canada
CATEGORIES:Rainbow Six Event
ATTACH;FMTTYPE=image/png:https://www.montrealgaming.com/wp-content/uploads/2018/01/NA-RAINBOW-SIX-Montreal-Esports-e1515124076942.png
GEO:45.5363124;-73.6031792
X-APPLE-STRUCTURED-LOCATION;VALUE=URI;X-ADDRESS=Theatre Plaza 6505 rue Saint-Hubert Montreal QC H2S 2M5 Canada;X-APPLE-RADIUS=500;X-TITLE=6505\, rue Saint-Hubert:geo:-73.6031792,45.5363124
END:VEVENT
BEGIN:VEVENT
DTSTART;TZID=America/New_York:20171216T100000
DTEND;TZID=America/New_York:20171217T200000
DTSTAMP:20260421T145649
CREATED:20171117T232824Z
LAST-MODIFIED:20171216T022525Z
UID:10000554-1513418400-1513540800@www.montrealgaming.com
SUMMARY:Northern Arena Experience ft. Call of Duty & Injustice 2
DESCRIPTION:Français\n\n \nNorthern Arena Experience ft. Call of Duty & Injustice 2\nNorthern Arena Experience est un événement canadien d’esports qui se déroulera du 16 au 17 décembre au Théâtre Impérial de Montréal\, au Québec. \nLors du NAx\, Northern Arena présentera deux tournois. Le Call of Duty Showdown et la finale de la Injustice 2 Elite League. De plus\, il y aura des conférences sur les sports électroniques dans le but de promouvoir les esports au Canada. \nLe NAx est ouvert à tous et les billets sont en vente au coût de 20$! \n  \n\n\nCall of Duty: WWII\n\n\n\n\n\n\nCompétiteurs\n\n\n\n\nRegarder des joueurs se battre pour\n\n\n\n\n$30\,000\n\n\nEn Bourse\n\n\n\n\n\n\n\n\n\n\n\n\n\n\n\nEvent Info\n\n\n\n\n\nThe Northern Arena Call of Duty Showdown will be a part of MLG’s CWL 2018 Season. Eight (8) professional teams will travel to Montreal\, Quebec to compete in Activision’s upcoming Call of Duty: WWII for a $30\,000 USD prize pool and a total of 15\,000 Pro Points from December 16th to 17th. The event will be taking place at the beautiful Imperial Theatre in downtown Montreal. \nThe eight (8) teams will be comprised of four (4) invited teams and four (4) qualified teams from CWL Dallas. If a team who has been invited finishes in the top four (4) of CWL Dallas\, then the next team in line will obtain the qualification spot. If there is a tie between two teams at CWL Dallas\, the team with the higher amount of Pro Points will qualify. \nThe teams will play in a double-elimination bracket in best of five (5) series. Each series will comprise of three different game modes. The game modes and maps will be announced upon launch of Call of Duty: WWII. All tournament games will be played on the PlayStation 4 console. The Northern Arena Call of Duty Showdown will be streamed on Twitch.tv and MLG.tv. \nBRACKET CALL OF DUTY \n\n\n\n\n\n\n\n\n\n\n\n\n\nPrize Pool\n\n\n\n\n\n1st: $15\,000\n2nd: $10\,000\n3rd: $5\,000 \n\n\n\n\n\n\n\n\n\n\nPro Points\n\n\n\n\n\n1st: 5\,000\n2nd: 3\,000\n3rd: 2\,200\n4th: 1\,800\n5th-6th: 1\,600\n7th-8th: 1\,400 \n\n\n\n\n\n\n\n\n\n  \n \n  \nInjustice 2\n\n\n\n\n\n\nCompétiteurs\n\n\n\n\nRegarder des joueurs se battre pour\n\n\n\n\n$10\,000\n\n\nEn Bourse\n\n\n\n\n\n\n\n\n\n\n\n\n\n\n\nQualifier\n\n\n\n\n\nThe Northern Arena Injustice 2 Elite League will run from November 11th to December 2nd. Players across Canada will be competing against each other in this online league every Saturday for four weeks using their favourite DC Heroes to rise to the top of the rankings. All games will be played on PS4. \nPoint System:\n1st Place – 12 points\n2nd Place – 8 points\n3rd Place – 6 points\n4th Place – 4 points\n5th Place – 2 points\n5th Place – 2 points\n7th Place – 1 point\n7th Place – 1 point \nAt the end of the four-week Elite League\, the top 16 players will be provided with an all expenses paid trip to fight for the championship and $10\,000 CAD at the Northern Arena Injustice 2 Elite League Final. This live event will be held from December 16th to December 17th in Montreal\, Québec. \n*if there is a tie for 16/17\, there will be a tiebreaker set \nBRACKET INJUSTICE 2 \n\n\n\n\n\n\n\n\n\nEnglish\n\n \nNorthern Arena Experience ft. Call of Duty & Injustice 2\nNorthern Arena Experience is a Canadian esports industry event that will take place from December 16th to 17th at the Imperial Theatre in Montreal\, Quebec \nNAx will feature two Northern Arena esports tournaments\, the Call of Duty Showdown and the Injustice 2 Elite League Final. It will also feature keynotes from industry leaders speaking about the esports space with a goal of promoting esports within Canada to all those interested. \nTickets for #NAx are less than $20 for all attendees! \n  \n  \n \n\n\n\n\n\n\nCall of Duty: WWII\nEach players battle it out for a\n\n\n\n\n$30\,000\n\n\nPrize pool\n\n\n\n\n\n\n\n\n\n\n\n\n\n\n\nEvent Info\n\n\n\n\n\nThe Northern Arena Call of Duty Showdown will be a part of MLG’s CWL 2018 Season. Eight (8) professional teams will travel to Montreal\, Quebec to compete in Activision’s upcoming Call of Duty: WWII for a $30\,000 USD prize pool and a total of 15\,000 Pro Points from December 16th to 17th. The event will be taking place at the beautiful Imperial Theatre in downtown Montreal. \nThe eight (8) teams will be comprised of four (4) invited teams and four (4) qualified teams from CWL Dallas. If a team who has been invited finishes in the top four (4) of CWL Dallas\, then the next team in line will obtain the qualification spot. If there is a tie between two teams at CWL Dallas\, the team with the higher amount of Pro Points will qualify. \nThe teams will play in a double-elimination bracket in best of five (5) series. Each series will comprise of three different game modes. The game modes and maps will be announced upon launch of Call of Duty: WWII. All tournament games will be played on the PlayStation 4 console. The Northern Arena Call of Duty Showdown will be streamed on Twitch.tv and MLG.tv. \nCALL OF DUTY BRACKET \n\n\n\n\n\n\n\n\n\n\n\n\n\nPrize Pool\n\n\n\n\n\n1st: $15\,000\n2nd: $10\,000\n3rd: $5\,000 \n\n\n\n\n\n\n\n\n\n\nPro Points\n\n\n\n\n\n1st: 5\,000\n2nd: 3\,000\n3rd: 2\,200\n4th: 1\,800\n5th-6th: 1\,600\n7th-8th: 1\,400 \n\n\n\n\n\n\n\n\n\n  \n \nInjustice 2\n\n\n\n\n\n\nCompetition\n\n\n\n\nWatch players battle it out for a\n\n\n\n\n$10\,000\n\n\nPrize pool\n\n\n\n\n\n\n\n\n\n\n\n\n\n\n\nQualifier\n\n\n\n\n\nThe Northern Arena Injustice 2 Elite League will run from November 11th to December 2nd. Players across Canada will be competing against each other in this online league every Saturday for four weeks using their favourite DC Heroes to rise to the top of the rankings. All games will be played on PS4. \nPoint System:\n1st Place – 12 points\n2nd Place – 8 points\n3rd Place – 6 points\n4th Place – 4 points\n5th Place – 2 points\n5th Place – 2 points\n7th Place – 1 point\n7th Place – 1 point \nAt the end of the four-week Elite League\, the top 16 players will be provided with an all expenses paid trip to fight for the championship and $10\,000 CAD at the Northern Arena Injustice 2 Elite League Final. This live event will be held from December 16th to December 17th in Montreal\, Québec. \n*if there is a tie for 16/17\, there will be a tiebreaker set \nINJUSTICE 2 BRACKET \n\n\n  \n\n\n\n\n\n\n  \nTickets / Eventbrite \n 
URL:https://www.montrealgaming.com/lan-quebec/northern-arena-experience-ft-call-of-duty-injustice-2/
LOCATION:Cinéma Impérial\, 1430\, rue de Bleury\, Montreal\, QC\, H3A 2J1\, Canada
CATEGORIES:Call of Duty Event,Injustice 2 Event,Multi-eSports-Event
ATTACH;FMTTYPE=image/jpeg:https://www.montrealgaming.com/wp-content/uploads/2017/11/facebook_event_515762908790008.jpg
GEO:45.5064517;-73.5677138
X-APPLE-STRUCTURED-LOCATION;VALUE=URI;X-ADDRESS=Cinéma Impérial 1430 rue de Bleury Montreal QC H3A 2J1 Canada;X-APPLE-RADIUS=500;X-TITLE=1430\, rue de Bleury:geo:-73.5677138,45.5064517
END:VEVENT
END:VCALENDAR