BEGIN:VCALENDAR
VERSION:2.0
PRODID:-//Montreal Gaming - Les esports au Qu&eacute;bec (Qc). - ECPv6.15.16//NONSGML v1.0//EN
CALSCALE:GREGORIAN
METHOD:PUBLISH
X-WR-CALNAME:Montreal Gaming - Les esports au Qu&eacute;bec (Qc).
X-ORIGINAL-URL:https://www.montrealgaming.com
X-WR-CALDESC:Events for Montreal Gaming - Les esports au Qu&eacute;bec (Qc).
REFRESH-INTERVAL;VALUE=DURATION:PT1H
X-Robots-Tag:noindex
X-PUBLISHED-TTL:PT1H
BEGIN:VTIMEZONE
TZID:America/New_York
BEGIN:DAYLIGHT
TZOFFSETFROM:-0500
TZOFFSETTO:-0400
TZNAME:EDT
DTSTART:20130310T070000
END:DAYLIGHT
BEGIN:STANDARD
TZOFFSETFROM:-0400
TZOFFSETTO:-0500
TZNAME:EST
DTSTART:20131103T060000
END:STANDARD
BEGIN:DAYLIGHT
TZOFFSETFROM:-0500
TZOFFSETTO:-0400
TZNAME:EDT
DTSTART:20140309T070000
END:DAYLIGHT
BEGIN:STANDARD
TZOFFSETFROM:-0400
TZOFFSETTO:-0500
TZNAME:EST
DTSTART:20141102T060000
END:STANDARD
BEGIN:DAYLIGHT
TZOFFSETFROM:-0500
TZOFFSETTO:-0400
TZNAME:EDT
DTSTART:20150308T070000
END:DAYLIGHT
BEGIN:STANDARD
TZOFFSETFROM:-0400
TZOFFSETTO:-0500
TZNAME:EST
DTSTART:20151101T060000
END:STANDARD
END:VTIMEZONE
BEGIN:VEVENT
DTSTART;VALUE=DATE:20140502
DTEND;VALUE=DATE:20140505
DTSTAMP:20260421T113436
CREATED:20140316T181503Z
LAST-MODIFIED:20140319T060901Z
UID:10000572-1398988800-1399247999@www.montrealgaming.com
SUMMARY:UGC Niagara - Xbox 360
DESCRIPTION:UGC Niagara – Xbox 360\nNiagara Falls\, ON L2G 3Y9\nMay 2nd – 4th\, 2014\n\n\n\n\n\nTitles being played at UGC Niagara Xbox 360. \n\n\n\n\n  \nCall of Duty: Ghosts \n$20\,000 PRIZE POOL – SOLD OUT !\n\n[vc_row][vc_column width=”1/3″] \n\n\nFriday\n\n9AM EST Registration and practice begins\n5PM EST Bracket play begins\n\nSaturday\n\n8AM EST Venue opens for practice\n10AM EST Bracket play begins\n\nSunday\n\n8AM EST Venue opens for practice\n10AM EST Bracket play begins\n\n\n[/vc_column][vc_column width=”1/3″] \n\n1ST\n2ND\n3RD\n4TH\n5TH\n\n[/vc_column][vc_column width=”1/3″] \n\n$10\,000\n$4\,000\n$3\,000\n$2\,000\n$1\,000\n\n[/vc_column][/vc_row] \n\n\nEA NHL ’14 \n$2\,000 PRIZE POOL\n[vc_row][vc_column width=”1/3″] \n\n\n\nFriday\n\n9AM EST Registration and practice begins\n5PM EST Bracket play begins\n\nSaturday\n\n8AM EST Venue opens for practice\n10AM EST Bracket play starts\n\nSunday\n\n8AM EST Venue opens for practice\n10AM EST Bracket play begins\n\n\n\n[/vc_column][vc_column width=”1/3″] \n\n1ST\n2ND\n3RD\n\n[/vc_column][vc_column width=”1/3″] \n\n$1\,200\n$600\n$200\n\n[/vc_column][/vc_row] \n\n 
URL:https://www.montrealgaming.com/lan-quebec/ugc-niagara-xbox-360/
LOCATION:Scotiabank Convention Centre\, 6815 Stanley Ave\, Niagara Falls\, Ontario\, L2G 3Y9\, Canada
CATEGORIES:Call of Duty Event,Multi-eSports-Event,NHL Event
ATTACH;FMTTYPE=image/png:https://www.montrealgaming.com/wp-content/uploads/2014/03/UGCNiagara280x340-83.png
ORGANIZER;CN="UMG":MAILTO: Bryan@UMGGaming.com
GEO:43.076069;-79.0850594
X-APPLE-STRUCTURED-LOCATION;VALUE=URI;X-ADDRESS=Scotiabank Convention Centre 6815 Stanley Ave Niagara Falls Ontario L2G 3Y9 Canada;X-APPLE-RADIUS=500;X-TITLE=6815 Stanley Ave:geo:-79.0850594,43.076069
END:VEVENT
END:VCALENDAR