BEGIN:VCALENDAR
VERSION:2.0
PRODID:-//Montreal Gaming - Les esports au Qu&eacute;bec (Qc). - ECPv6.15.16//NONSGML v1.0//EN
CALSCALE:GREGORIAN
METHOD:PUBLISH
X-ORIGINAL-URL:https://www.montrealgaming.com
X-WR-CALDESC:Events for Montreal Gaming - Les esports au Qu&eacute;bec (Qc).
REFRESH-INTERVAL;VALUE=DURATION:PT1H
X-Robots-Tag:noindex
X-PUBLISHED-TTL:PT1H
BEGIN:VTIMEZONE
TZID:America/New_York
BEGIN:DAYLIGHT
TZOFFSETFROM:-0500
TZOFFSETTO:-0400
TZNAME:EDT
DTSTART:20130310T070000
END:DAYLIGHT
BEGIN:STANDARD
TZOFFSETFROM:-0400
TZOFFSETTO:-0500
TZNAME:EST
DTSTART:20131103T060000
END:STANDARD
BEGIN:DAYLIGHT
TZOFFSETFROM:-0500
TZOFFSETTO:-0400
TZNAME:EDT
DTSTART:20140309T070000
END:DAYLIGHT
BEGIN:STANDARD
TZOFFSETFROM:-0400
TZOFFSETTO:-0500
TZNAME:EST
DTSTART:20141102T060000
END:STANDARD
BEGIN:DAYLIGHT
TZOFFSETFROM:-0500
TZOFFSETTO:-0400
TZNAME:EDT
DTSTART:20150308T070000
END:DAYLIGHT
BEGIN:STANDARD
TZOFFSETFROM:-0400
TZOFFSETTO:-0500
TZNAME:EST
DTSTART:20151101T060000
END:STANDARD
END:VTIMEZONE
BEGIN:VEVENT
DTSTART;TZID=America/New_York:20140329T100000
DTEND;TZID=America/New_York:20140330T170000
DTSTAMP:20260421T113601
CREATED:20140325T160751Z
LAST-MODIFIED:20140325T162722Z
UID:10000573-1396087200-1396198800@www.montrealgaming.com
SUMMARY:WonderLAN à l'UQAC
DESCRIPTION:Salut tout le monde! \nC’est en fin de semaine que se déroule le WonderLAN d’hiver a l’UQAC\, l’université du Québec à Chicoutimi! \n\nC’est où? À l’UQAC\nC’est combien? 30$ en prévente avec souper et déjeuner inclut! Le prix est le même a la porte\, mais sans les repas.\nCombien de temps? Samedi et Dimanche! Les deux jours!\nQuels jeux? Il y aura des tournois de SC2 HOTS\, LoL\, DOTA2\, Super Smash Bros Brawl!\nIl y aura aussi des places libre pour du Freeplay de divers jeux\nQu’est-ce que j’apporte? Votre matos de gamer\, la liste complète peut être trouvée dans la FAQ\nVous avez jusqu’a demain (le 26) pour vous inscrire! Après ca ce ne sera que pour du FreePlay\n\nPour plus d’informations\, dirigez-vous vers leur site web: http://wonderlan.aemi.ca/ \nSi vous y allez\, laisser nous savoir comment c’était et votre ranking! \nGame on! \n-Radhamante
URL:https://www.montrealgaming.com/lan-quebec/wonderlan-a-luqac/
LOCATION:Université du Québec à Chicoutimi\, 555 Boulevard Université\, Chicoutimi\, Québec\, G7H 2B1\, Canada
CATEGORIES:League of Legends Event,Multi-eSports-Event,Starcraft Event
ATTACH;FMTTYPE=image/jpeg:https://www.montrealgaming.com/wp-content/uploads/2014/03/WonderLAN.jpg
GEO:48.4199;-71.0521877
X-APPLE-STRUCTURED-LOCATION;VALUE=URI;X-ADDRESS=Université du Québec à Chicoutimi 555 Boulevard Université Chicoutimi Québec G7H 2B1 Canada;X-APPLE-RADIUS=500;X-TITLE=555 Boulevard Université:geo:-71.0521877,48.4199
END:VEVENT
END:VCALENDAR