BEGIN:VCALENDAR
VERSION:2.0
PRODID:-//Montreal Gaming - Les esports au Qu&eacute;bec (Qc). - ECPv6.15.16//NONSGML v1.0//EN
CALSCALE:GREGORIAN
METHOD:PUBLISH
X-ORIGINAL-URL:https://www.montrealgaming.com
X-WR-CALDESC:Events for Montreal Gaming - Les esports au Qu&eacute;bec (Qc).
REFRESH-INTERVAL;VALUE=DURATION:PT1H
X-Robots-Tag:noindex
X-PUBLISHED-TTL:PT1H
BEGIN:VTIMEZONE
TZID:America/New_York
BEGIN:DAYLIGHT
TZOFFSETFROM:-0500
TZOFFSETTO:-0400
TZNAME:EDT
DTSTART:20180311T070000
END:DAYLIGHT
BEGIN:STANDARD
TZOFFSETFROM:-0400
TZOFFSETTO:-0500
TZNAME:EST
DTSTART:20181104T060000
END:STANDARD
BEGIN:DAYLIGHT
TZOFFSETFROM:-0500
TZOFFSETTO:-0400
TZNAME:EDT
DTSTART:20190310T070000
END:DAYLIGHT
BEGIN:STANDARD
TZOFFSETFROM:-0400
TZOFFSETTO:-0500
TZNAME:EST
DTSTART:20191103T060000
END:STANDARD
BEGIN:DAYLIGHT
TZOFFSETFROM:-0500
TZOFFSETTO:-0400
TZNAME:EDT
DTSTART:20200308T070000
END:DAYLIGHT
BEGIN:STANDARD
TZOFFSETFROM:-0400
TZOFFSETTO:-0500
TZNAME:EST
DTSTART:20201101T060000
END:STANDARD
END:VTIMEZONE
BEGIN:VEVENT
DTSTART;TZID=America/New_York:20190405T180000
DTEND;TZID=America/New_York:20190407T180000
DTSTAMP:20260421T131119
CREATED:20190310T190746Z
LAST-MODIFIED:20190310T191317Z
UID:10000567-1554487200-1554660000@www.montrealgaming.com
SUMMARY:Wake on Lan
DESCRIPTION:Wake on Lan\nWAKE ON LAN Trois-Rivières sera la première édition d’un LAN Party organisé en Mauricie. L’événement a pour but de rassembler tous les passionnés de jeux vidéo et de partager tous ensemble un moment magique et inoubliable. Nous ciblons 40 participants avec plus de 1000$ en prix. Les billets sont au coût de 30$. Nous encourageons aussi toute personne désirant venir visiter pendant la journée au coût de 5$. \nPendant le week-end\, les participants pourront assister à quatre tournois avec prix pour les trois premières positions : \n1- Rocket League \n2-  Super Smash Bros Ultimate \n3- Overwatch \n4- Hearthstone \nNous avons des commanditaires tels que GOX Technologies\, Lenovo et Fortinet. \n  \n\n\n\n\nPlus / More: ”Regle:”\nSelectShow\n\n\n \nRocket League\nGrosseur des équipes : 2\nNombre d’équipes minimum requises : 4\nFormat des parties\nDouble Elimination\nChaque partie sera un 2 de 3\nLa final sera un 3 de 5\nPlanification\nLes équipes doivent terminer leur inscription au tournoi avant le 4 avril 2019 20 :59 :59\n​Si une équipe ou un membre d’une équipe ne se présente pas 15 minutes après le départ d’un match planifié\, l’équipe en question sera disqualifiée.\nDéconnexion\nSi une équipe ou un membre d’une équipe est déconnecté de la partie\, la partie sera recommencée. S’il y a un abus du système ou la déconnexion a été volontaire\, l’équipe sera disqualifiée.\nTriche\nSi toute forme de tricherie ou « Exploit » sont détectés\, l’équipe en faute sera disqualifiée.\nPlateforme : PC \nOverwatch\nGrosseur des équipes : 4\nNombre d’équipes minimum requises : 4\nFormat des parties\n4v4 Élimination (30 Kills)\nTournoi Double Elimination\nChaque partie sera un 2 de 3\nPlanification\nLes équipes doivent terminer leur inscription au tournoi avant le 5 avril 2019 23 :59 :59\n​\nSi une équipe ou un membre d’une équipe ne se présente pas 15 minutes après le départ d’un match planifié\, l’équipe en question sera disqualifiée.\nDéconnexion\nSi une équipe ou un membre d’une équipe est déconnecté de la partie\, la partie sera recommencée. S’il y a un abus du système ou la déconnexion a été volontaire\, l’équipe sera disqualifiée.\nTriche\nSi toute forme de tricherie ou « Exploit » sont détectés\, l’équipe en faute sera disqualifiée.\nPlateforme : PC \nSuper Smash Bros Ultimate\nGrosseur des équipes : 1\nNombre d’équipes minimum requises : 6\nFormat des parties\nDouble Elimination\nTous les combats seront sur des stages “Battlefield-like”\nItems désactivés\n1 contre 1\n4 Vies\n10 minutes\n“Smash Meter” désactivé\n​\nNotes\nApportez votre propre manette (Sinon des manettes vous seront prêtées mais ce ne seront pas nécessairement des manettes de GameCube)\nPlanification\nLes équipes doivent terminer leur inscription au tournoi avant le 5 avril 2019 23 :59 :59\n​\nSi une équipe ou un membre d’une équipe ne se présente pas 15 minutes après le départ d’un match planifié\, l’équipe en question sera disqualifiée.\nDéconnexion\nSi une équipe ou un membre d’une équipe est déconnecté de la partie\, la partie sera recommencée. S’il y a un abus du système ou la déconnexion a été volontaire\, l’équipe sera disqualifiée.\nTriche\nSi toute forme de tricherie ou « Exploit » sont détectés\, l’équipe en faute sera disqualifiée.\nPlateforme : Nintendo Switch \nHearthstone\nGrosseur des équipes : 1\nNombre d’équipes minimum requises : 6\nFormat des parties\nDouble Elimination\nChaque joueur doit choisir 3 decks avec des classes différentes (Pas deux fois la même classe)\nAu début du round\, chaque joueur choisit un de ses 3 decks et celui-ci n’est pas révélé à l’adversaire\nSi un deck gagne une partie\, il ne peut pas être rejoué\nSi un deck à perdu la partie\, il peut être rejoué\nLe premier joueur à avoir gagné avec ses 3 decks\, gagne la manche\nLes decks doivent être en “Standard”\n​\nVIDÉO EXPLICATIF : https://www.youtube.com/watch?v=_hfGtSMPUMg\nPlanification\nLes équipes doivent terminer leur inscription au tournoi avant le 5 avril 2019 19 :00 :00\n​\nSi une équipe ou un membre d’une équipe ne se présente pas 15 minutes après le départ d’un match planifié\, l’équipe en question sera disqualifiée.\nDéconnexion\nSi une équipe ou un membre d’une équipe est déconnecté de la partie\, la partie sera recommencée. S’il y a un abus du système ou la déconnexion a été volontaire\, l’équipe sera disqualifiée.\nTriche\nSi toute forme de tricherie ou « Exploit » sont détectés\, l’équipe en faute sera disqualifiée.\nPlateforme : PC \n\n\n\n\n 
URL:https://www.montrealgaming.com/lan-quebec/wake-on-lan/
LOCATION:G.O.X. Technologies inc\, 3354 Rue Bellefeuille\, Trois-Rivières\, Quebec\, G9A 3Z3\, Canada
CATEGORIES:Hearthstone Event,Multi-eSports-Event,Overwatch Event,Rocket League Event,Smash Bros Event
ATTACH;FMTTYPE=image/png:https://www.montrealgaming.com/wp-content/uploads/2019/03/WakeOnLAN_02.png
ORGANIZER;CN="WAKE ON LAN":MAILTO:info@wakeonlan.ca
GEO:46.3330265;-72.5595816
X-APPLE-STRUCTURED-LOCATION;VALUE=URI;X-ADDRESS=G.O.X. Technologies inc 3354 Rue Bellefeuille Trois-Rivières Quebec G9A 3Z3 Canada;X-APPLE-RADIUS=500;X-TITLE=3354 Rue Bellefeuille:geo:-72.5595816,46.3330265
END:VEVENT
END:VCALENDAR