BEGIN:VCALENDAR
VERSION:2.0
PRODID:-//Montreal Gaming - Les esports au Qu&eacute;bec (Qc). - ECPv6.15.16//NONSGML v1.0//EN
CALSCALE:GREGORIAN
METHOD:PUBLISH
X-WR-CALNAME:Montreal Gaming - Les esports au Qu&eacute;bec (Qc).
X-ORIGINAL-URL:https://www.montrealgaming.com
X-WR-CALDESC:Events for Montreal Gaming - Les esports au Qu&eacute;bec (Qc).
REFRESH-INTERVAL;VALUE=DURATION:PT1H
X-Robots-Tag:noindex
X-PUBLISHED-TTL:PT1H
BEGIN:VTIMEZONE
TZID:America/New_York
BEGIN:DAYLIGHT
TZOFFSETFROM:-0500
TZOFFSETTO:-0400
TZNAME:EDT
DTSTART:20190310T070000
END:DAYLIGHT
BEGIN:STANDARD
TZOFFSETFROM:-0400
TZOFFSETTO:-0500
TZNAME:EST
DTSTART:20191103T060000
END:STANDARD
BEGIN:DAYLIGHT
TZOFFSETFROM:-0500
TZOFFSETTO:-0400
TZNAME:EDT
DTSTART:20200308T070000
END:DAYLIGHT
BEGIN:STANDARD
TZOFFSETFROM:-0400
TZOFFSETTO:-0500
TZNAME:EST
DTSTART:20201101T060000
END:STANDARD
BEGIN:DAYLIGHT
TZOFFSETFROM:-0500
TZOFFSETTO:-0400
TZNAME:EDT
DTSTART:20210314T070000
END:DAYLIGHT
BEGIN:STANDARD
TZOFFSETFROM:-0400
TZOFFSETTO:-0500
TZNAME:EST
DTSTART:20211107T060000
END:STANDARD
END:VTIMEZONE
BEGIN:VEVENT
DTSTART;TZID=America/New_York:20200125T113000
DTEND;TZID=America/New_York:20200125T233000
DTSTAMP:20260421T102318
CREATED:20200117T001917Z
LAST-MODIFIED:20200117T001917Z
UID:10000723-1579951800-1579995000@www.montrealgaming.com
SUMMARY:Locked & Loaded
DESCRIPTION:Français\n\n \nLocked & Loaded\n*PAYABLE À L’ENTRÉE* \nPREMIER TOURNOIS PAR LA NOUVELLE ORGANISATION FIGHT CLUB \nLocked & Loaded est un tournois de Super Smash Bros Ultimate avec l’arrière pensée de réunir la grande communauté québécoise de Smash pour une confrontation épique. \nPRIZE POOL: TOP 3 $$$ \nSingles Brackets: 15$\nDoubles Brackets : 15$\nLes deux : 25$ \nFight Club a réussi à louer une vieille Caisse Desjardins pour accueillir cet évènement unique. \n\nEnglish\n\n \nLocked & Loaded\n*PAY AT THE DOOR EVENT* \n***FIRST TOURNAMENT BY THE NEWLY FIGHT CLUB ORGANISATION*** \nLocked & Loaded is a Super Smash Bros Ultimate tournament with in mind to reunite the whole Quebec Smash community for an epic confrontation. \nPRIZE POOL: TOP 3. $$$ \nSingles Brackets : 15$\nDoubles Brackets : 15$\nBoth: 25$ \nFight Club rent an old Caisse Desjardins to held this event and create an unique experience. \n\n  \nLOCKED & LOADED RULESET\n\nGame Settings: 3 stocks\, Timer: 7:00\, 2 bans\, DSR\, Hazards Off\, Characters First (Double Blind).\n\nStarter stages: FD\, BF\, SmashVille \, Lylat\, Pokemon Stadium 2.\n\nCounter-pick stages: Town & City\, Kalos\, Yoshi Story (Melee)\n\nFirst stage is decided by banning from the Starter Stages in P1-P2-P2-P1 order.\n\nWinning player is not locked into the same character for the next match\, but has to pick before loser selects character.\n\nFollowing stages decided by winner banning one stage from all stages and then loser choosing.\n\nAny matches that are best of five\, there are no stage bans.\n\nYou may not choose a stage you have already won on unless mutually agreed to.
URL:https://www.montrealgaming.com/lan-quebec/locked-loaded/
LOCATION:2100 Rue Centre\, Montréal\, QC H3K 1J4\, Canada\, 2100 Centre St\, Montréal\, Quebec\, H3K 1J4\, Canada
CATEGORIES:Smash Bros Event
ATTACH;FMTTYPE=image/png:https://www.montrealgaming.com/wp-content/uploads/2020/01/Locked-loaded-banner-2.png
ORGANIZER;CN="Fight Club":MAILTO:fightcluborganisation@gmail.com
GEO:45.481208;-73.5644399
X-APPLE-STRUCTURED-LOCATION;VALUE=URI;X-ADDRESS=2100 Rue Centre Montréal QC H3K 1J4 Canada 2100 Centre St Montréal Quebec H3K 1J4 Canada;X-APPLE-RADIUS=500;X-TITLE=2100 Centre St:geo:-73.5644399,45.481208
END:VEVENT
END:VCALENDAR