BEGIN:VCALENDAR
VERSION:2.0
PRODID:-//Montreal Gaming - Les esports au Qu&eacute;bec (Qc). - ECPv6.15.16//NONSGML v1.0//EN
CALSCALE:GREGORIAN
METHOD:PUBLISH
X-WR-CALNAME:Montreal Gaming - Les esports au Qu&eacute;bec (Qc).
X-ORIGINAL-URL:https://www.montrealgaming.com
X-WR-CALDESC:Events for Montreal Gaming - Les esports au Qu&eacute;bec (Qc).
REFRESH-INTERVAL;VALUE=DURATION:PT1H
X-Robots-Tag:noindex
X-PUBLISHED-TTL:PT1H
BEGIN:VTIMEZONE
TZID:America/New_York
BEGIN:DAYLIGHT
TZOFFSETFROM:-0500
TZOFFSETTO:-0400
TZNAME:EDT
DTSTART:20140309T070000
END:DAYLIGHT
BEGIN:STANDARD
TZOFFSETFROM:-0400
TZOFFSETTO:-0500
TZNAME:EST
DTSTART:20141102T060000
END:STANDARD
BEGIN:DAYLIGHT
TZOFFSETFROM:-0500
TZOFFSETTO:-0400
TZNAME:EDT
DTSTART:20150308T070000
END:DAYLIGHT
BEGIN:STANDARD
TZOFFSETFROM:-0400
TZOFFSETTO:-0500
TZNAME:EST
DTSTART:20151101T060000
END:STANDARD
BEGIN:DAYLIGHT
TZOFFSETFROM:-0500
TZOFFSETTO:-0400
TZNAME:EDT
DTSTART:20160313T070000
END:DAYLIGHT
BEGIN:STANDARD
TZOFFSETFROM:-0400
TZOFFSETTO:-0500
TZNAME:EST
DTSTART:20161106T060000
END:STANDARD
END:VTIMEZONE
BEGIN:VEVENT
DTSTART;TZID=America/New_York:20151107T100000
DTEND;TZID=America/New_York:20151108T170000
DTSTAMP:20260421T171944
CREATED:20150910T020317Z
LAST-MODIFIED:20150910T020317Z
UID:10000599-1446890400-1447002000@www.montrealgaming.com
SUMMARY:GeekFest Montréal 2015
DESCRIPTION:Le GeekFest Montréal est de retour !\nNous sommes un festival de culture geek centré sur les activités et le partage des passions. \nLes fans de technologie\, de science-fiction\, de fantastique\, d’anime\, de jeux vidéo\, de jeux sur table\, de wargaming\, de comics\, de GN ou de tout autres centres d’intérêt geek y trouveront leur compte. \nINVITÉS : \n– Noob – Olydri\n– LARPs: The Series\n– les pieds dans la marge\n– Lar DeSouza \nFeaturing: \n– Jay Odjick\n– Julien Bernatchez\n– Gab Joncas\n– Émilie Laliberté\n– Pellep Pellep Pellep\n– Testeur Alpha (et Bêta)\n– Luduc\n– GuizDP et Laurent Lasalle de Le Jeu\, C’est Sérieux\n– Je joue le jeu\n– J-Mi & Midi-D (Official)\n– Daniel Proulx\n– Dr. Holocaust \nAvec des performances musicales de :\n– Jardin Mécanique\, Skieur Fluo et Deux Folles & un Banjo \nUn spectacle burlesque de Burlesgeek Montreal! \nTout le monde est le bienvenu !
URL:https://www.montrealgaming.com/lan-quebec/geekfest-montreal-2015/
LOCATION:College de Maisonneuve\, 2701\, rue Nicolet\, Montreal\, Quebec\, H1X 2A2\, Canada
CATEGORIES:Multi-eSports-Event
ATTACH;FMTTYPE=image/jpeg:https://www.montrealgaming.com/wp-content/uploads/2015/09/facebook_event_378498325659681.jpg
GEO:45.5493522;-73.5535776
X-APPLE-STRUCTURED-LOCATION;VALUE=URI;X-ADDRESS=College de Maisonneuve 2701 rue Nicolet Montreal Quebec H1X 2A2 Canada;X-APPLE-RADIUS=500;X-TITLE=2701\, rue Nicolet:geo:-73.5535776,45.5493522
END:VEVENT
END:VCALENDAR