BEGIN:VCALENDAR
VERSION:2.0
PRODID:-//Montreal Gaming - Les esports au Qu&eacute;bec (Qc). - ECPv6.15.16//NONSGML v1.0//EN
CALSCALE:GREGORIAN
METHOD:PUBLISH
X-WR-CALNAME:Montreal Gaming - Les esports au Qu&eacute;bec (Qc).
X-ORIGINAL-URL:https://www.montrealgaming.com
X-WR-CALDESC:Events for Montreal Gaming - Les esports au Qu&eacute;bec (Qc).
REFRESH-INTERVAL;VALUE=DURATION:PT1H
X-Robots-Tag:noindex
X-PUBLISHED-TTL:PT1H
BEGIN:VTIMEZONE
TZID:America/Halifax
BEGIN:DAYLIGHT
TZOFFSETFROM:-0400
TZOFFSETTO:-0300
TZNAME:ADT
DTSTART:20150308T060000
END:DAYLIGHT
BEGIN:STANDARD
TZOFFSETFROM:-0300
TZOFFSETTO:-0400
TZNAME:AST
DTSTART:20151101T050000
END:STANDARD
BEGIN:DAYLIGHT
TZOFFSETFROM:-0400
TZOFFSETTO:-0300
TZNAME:ADT
DTSTART:20160313T060000
END:DAYLIGHT
BEGIN:STANDARD
TZOFFSETFROM:-0300
TZOFFSETTO:-0400
TZNAME:AST
DTSTART:20161106T050000
END:STANDARD
BEGIN:DAYLIGHT
TZOFFSETFROM:-0400
TZOFFSETTO:-0300
TZNAME:ADT
DTSTART:20170312T060000
END:DAYLIGHT
BEGIN:STANDARD
TZOFFSETFROM:-0300
TZOFFSETTO:-0400
TZNAME:AST
DTSTART:20171105T050000
END:STANDARD
END:VTIMEZONE
BEGIN:VEVENT
DTSTART;TZID=America/Halifax:20160717T160000
DTEND;TZID=America/Halifax:20160717T230000
DTSTAMP:20260421T100752
CREATED:20160712T011647Z
LAST-MODIFIED:20160712T011647Z
UID:10000679-1468771200-1468796400@www.montrealgaming.com
SUMMARY:MESA - Melee Bar Tournament + EVO 2016 Viewing Party!
DESCRIPTION:Introducing the first bar tournament held by MESA in collaboration with BDP and SSBMontreal! \nWe are running a Singles\, Doubles and EVO Viewing event at BDP which can be found at 3714 Av du Parc\, Montréal\, QC H2X 2J1. This event will take place from 4PM – 11PM\, and the prices are as follows \nAll entry is paid at the door:\n$5 Venue fee\n$5 Singles\n$5 Doubles (Per Person) \nAs an added bonus\, BDP has also offered us the first 20 pitchers at a reduced price of $12.5 each! Please show your support by purchasing drinks at the establishment to enjoy as you watch EVO on the TVs in the bar. (This event is 18+) \nSchedule:\n4-5 – Setup\n5-7 – Doubles Bracket\n7-End – Singles Bracket + Events\n(There will also be time for events such as crews and items to take place inbetween) \nIf there are any other questions\, feel free to message Andrew Tran for more information!
URL:https://www.montrealgaming.com/lan-quebec/mesa-melee-bar-tournament-evo-2016-viewing-party/
LOCATION:Bar des Pins\, 3714 Av du Parc\, Montreal\, QC\, H2X 2J1\, Canada
CATEGORIES:Smash Bros Event
ATTACH;FMTTYPE=image/jpeg:https://www.montrealgaming.com/wp-content/uploads/2016/07/facebook_event_1748781255362591.jpg
ORGANIZER;CN="McGill E-Sports Students' Association":MAILTO:tran.andrew.a@mail.mcgill.ca
GEO:45.5111821;-73.5776041
X-APPLE-STRUCTURED-LOCATION;VALUE=URI;X-ADDRESS=Bar des Pins 3714 Av du Parc Montreal QC H2X 2J1 Canada;X-APPLE-RADIUS=500;X-TITLE=3714 Av du Parc:geo:-73.5776041,45.5111821
END:VEVENT
END:VCALENDAR