BEGIN:VCALENDAR
VERSION:2.0
PRODID:-//Montreal Gaming - Les esports au Qu&eacute;bec (Qc). - ECPv6.15.16//NONSGML v1.0//EN
CALSCALE:GREGORIAN
METHOD:PUBLISH
X-ORIGINAL-URL:https://www.montrealgaming.com
X-WR-CALDESC:Events for Montreal Gaming - Les esports au Qu&eacute;bec (Qc).
REFRESH-INTERVAL;VALUE=DURATION:PT1H
X-Robots-Tag:noindex
X-PUBLISHED-TTL:PT1H
BEGIN:VTIMEZONE
TZID:America/New_York
BEGIN:DAYLIGHT
TZOFFSETFROM:-0500
TZOFFSETTO:-0400
TZNAME:EDT
DTSTART:20140309T070000
END:DAYLIGHT
BEGIN:STANDARD
TZOFFSETFROM:-0400
TZOFFSETTO:-0500
TZNAME:EST
DTSTART:20141102T060000
END:STANDARD
BEGIN:DAYLIGHT
TZOFFSETFROM:-0500
TZOFFSETTO:-0400
TZNAME:EDT
DTSTART:20150308T070000
END:DAYLIGHT
BEGIN:STANDARD
TZOFFSETFROM:-0400
TZOFFSETTO:-0500
TZNAME:EST
DTSTART:20151101T060000
END:STANDARD
BEGIN:DAYLIGHT
TZOFFSETFROM:-0500
TZOFFSETTO:-0400
TZNAME:EDT
DTSTART:20160313T070000
END:DAYLIGHT
BEGIN:STANDARD
TZOFFSETFROM:-0400
TZOFFSETTO:-0500
TZNAME:EST
DTSTART:20161106T060000
END:STANDARD
BEGIN:DAYLIGHT
TZOFFSETFROM:-0500
TZOFFSETTO:-0400
TZNAME:EDT
DTSTART:20170312T070000
END:DAYLIGHT
BEGIN:STANDARD
TZOFFSETFROM:-0400
TZOFFSETTO:-0500
TZNAME:EST
DTSTART:20171105T060000
END:STANDARD
END:VTIMEZONE
BEGIN:VEVENT
DTSTART;TZID=America/New_York:20161112T100000
DTEND;TZID=America/New_York:20161113T100000
DTSTAMP:20260423T004250
CREATED:20161109T204725Z
LAST-MODIFIED:20161109T205057Z
UID:10000539-1478944800-1479031200@www.montrealgaming.com
SUMMARY:La console qui console Niveau 4
DESCRIPTION:La console qui console Niveau 4\nLa Console qui console est un événement se déroulant au cégep de Sherbrooke qui attire des centaines de geek/gamers dans le but d’assembler des fonds pour Leucan Estrie et le CHAS. Il s’agit d’un marathon de 24h de jeux vidéo et de table. Notre événement rassemble des divertissements tels que: des tournois de jeux vidéo en LAN ou sur des modèles de consoles qui traversent toutes les époques\, des tournois de jeux de société\, un tournoi de Magic: The Gathering et des initiations aux jeux de rôle. Il s’agit également d’une opportunité pour parader avec les plus beaux cosplay (costumes de personnages de fiction). La quatrième édition aura lieu du samedi 12 novembre 10:00 A.M. au dimanche 13 novembre 10:00 A.M. \n1) Au sujet du prix d’entrée\, être régulier signifie:\n-Un prix de 15$\n-Avoir accès au LAN (incluant les tournois)\n-Avoir accès au musée de la console\n-Avoir accès au salon du boardgame\n-Avoir accès aux tirages des prix réguliers (Ex: Porte clef\, Gourde\, T-shirt) \n2) Être VIP signifie:\n-Un prix d’entrée de 25$\n-Avoir accès au LAN\n-Avoir accès au musée de la console\n-Avoir accès au salon du boardgame\n-Avoir un rabais permanent sur l’alimentation\n-Avoir accès aux nombreuses salles VIP\n-Avoir la chance de pouvoir participer aux tournois VIP\n-Avoir la chance de participer aux tirages des prix VIP (Ex:PSvita\, PS4\, Boardgames\, chaise\, casque d’écoute\, clavier\, souris\, etc) \nNos salles VIP comprennent:\n-Des tournois sur écrans géants et consoles\n-L’Oculus Rift\, la PS VR et piste pour véhicules téléguidés\n-Salle de l’horreur avec jeux vidéo thématique\n-Salle Donjons & Dragons\n-Salle Magic: The Gathering \nNos différents tournois sont: \nOpen FFA (4 joueurs) Smash 4 Wii U – 11h à …\nSuper Smash Bros Melee (1v1) – 15h à …\nHalo 5 (2v2) 16h à … \nNHL 17 (1v1) – 18h à …\nRocket League (2v2) – 19h à …\nJust Dance (2 personnes) – 21h à …\nSmash 4 Wii U (1v1) – 22h à …\nHalo 5 FFA (4 joueurs) – 24h à … \n\nMario Kart SNES – 10h à 20h45 (Best time)\nMatt Hoffman Pro BMX 10h à 20h30 (Highest score)\nTony Hawk pro skater 10h à 20h15 (Highest score)\nRocksmith Hero 10h à 20h (Highest score) \nTournois LAN \n14h Hearthstone: Heroes of Warcraft \n18h League of Legends \n23h Counter-Strike: Global Offensive \n3h Destiny (3v3) \n\nTournament rules:\n DESTINY\n Plateforme : PS4\n Format du tournoi : Élimination double\, Md3 dans le winner’s bracket\, Md1 dans le loser’s bracket.\n Mode de jeu : Escarmouche (3v3)\n Arènes : Bannerfall\, The Cauldron\, Exodus Blue (toujours dans cet ordre exactement pour les 2 à 3 parties d’un match dans le winner's bracket); Exodus Blue (seulement cette arène pour le loser's bracket)\n Limite de score : 5000\n Limite de temps : 10 minutes\n Niveau de lumière : désactivé\n\nHEARTHSTONE\n Format du tournoi: Élimination double\, Md3 dans le winner's bracket\, Md1 dans le loser's bracket\n Mode de jeu: Standard (cela signifie que seulement les cartes de base\, les cartes classiques et les expansions Blackrock Mountain\, The Grand Tournament\, The League of Explorers\, Whisper of the Old Gods et One Night in Karazhan sont admissibles)\n Format des matchs: Deck unique (cela signifie que vous devez utiliser le même deck tout au long du tournoi\, vous ne pouvez pas changer de deck ou apporter des modifications à celui-ci une fois le tournoi entamé)\n\nLEAGUE OF LEGENDS\n Capacité maximale : 32 équipes\, premiers inscrits ont priorité\, minimum 8 équipes pour que le tournoi soit officiel.\n Format du tournoi : Élimination double\, Md3 dans le winner’s bracket\, Md1 dans le loser’s bracket.\n Arène et mode de jeu : Summoner’s Rift (5v5).\n Inscription: Afin d’être éligible pour les prix\, chaque membre de chaque équipe doit individuellement s’enregistrer sur la page officielle de La Console qui console niveau 4 du site de League of Legends qui se trouve à l’adresse suivante (à l'avance ou la journée même) :\n http://events.na.leagueoflegends.com/events/221520
URL:https://www.montrealgaming.com/lan-quebec/la-console-qui-console-niveau-4/
LOCATION:Cégep de Sherbrooke\, 475\, rue du Cégep\, Sherbrooke\, QC\, J1E 4K1\, Canada
CATEGORIES:Counter-Strike Event,Halo Event,Hearthstone Event,League of Legends Event,Multi-eSports-Event,NHL Event,Rocket League Event,Smash Bros Event
ATTACH;FMTTYPE=image/jpeg:https://www.montrealgaming.com/wp-content/uploads/2016/11/lcqc.jpg
ORGANIZER;CN="La console qui console":MAILTO:lyou@laconsolequiconsole.com
GEO:45.4111486;-71.8862553
X-APPLE-STRUCTURED-LOCATION;VALUE=URI;X-ADDRESS=Cégep de Sherbrooke 475 rue du Cégep Sherbrooke QC J1E 4K1 Canada;X-APPLE-RADIUS=500;X-TITLE=475\, rue du Cégep:geo:-71.8862553,45.4111486
END:VEVENT
BEGIN:VEVENT
DTSTART;TZID=America/New_York:20151114T100000
DTEND;TZID=America/New_York:20151115T100000
DTSTAMP:20260423T004250
CREATED:20151208T191208Z
LAST-MODIFIED:20151208T191208Z
UID:10000515-1447495200-1447581600@www.montrealgaming.com
SUMMARY:La console qui console Niveau 3 Édition Plav Audio
DESCRIPTION:La console qui console 3e édition aura lieu le samedi 14 novembre 10:00 am à dimanche 15 novembre 10:00 am prochain au Cégep de Sherbrooke à l’adresse : 475 Rue du Cégep\, Sherbrooke 1(819) 564-6350. \nLa console qui console est un 24h de jeux vidéo pour amasser des fonds pour\, entre autres\, Leucan Estrie. Un événement annuel qui attire des centaines de geek/gamers. Il s’agit d’un marathon de 24 heures de jeux intensif. Notre événement rassemble des divertissements tels que des tournois de jeux vidéos en LAN ou sur des modèles de consoles qui traversent toutes les époques\, des tournois de jeux de société et des initiations aux jeux de rôle. Il s’agit également d’une opportunité pour parader avec les plus beaux cosplay. \nLa troisième édition aura lieu au Cégep de Sherbrooke. Cette année\, nous prévoyons dépasser nos records d’achalandages. \nNous aurons plusieurs salles VIP donc entre autres:\nUne salle enfants\nUne salle Horreur\nUne salle Cartes Magic\nUne salle Dongon & Dragon\nUne salle de ”Drift” avec piste de course\nUne salle avec l’Oculus Rift\nUne salle des tournois console VIP \nPlusieurs prix de présence\, avec des tirages à toutes les heures. Nous sommes commandités par la microbrasserie Le Siboire et nous servirons de la bière (18ans et +). \n15$\nBoardgame\nLAN\nMusée\nPrix de présences: Porte clef\, Gourde\, Sac et t-shirt. \n25$\nBoardgame\nLAN\nMusée\n(6) Salles VIP\nTirages VIP\nRabais permanent au comptoir alimentaire\nPrix de présnces: PS4\, PSvita\, Casque TRITON\, BMX Haro\, etc. \nOfficiellement TOURNOIS LAN :\nSite: Cégep de Sherbrooke\nType: En personne \n1- Hearthstone:\nLes inscriptions se terminent à 14h30\, le tournoi commence à 15:00 Samedi le 14 Novembre. \n2-League of Legends:\nMeilleure des trois(BO3)\nÉlimination Double\nCarte: Summonner’s Rift\nNombre d’équipes: 16-31\nLes inscriptions se terminent à 19h30\, le tournoi commence à 20:00 Samedi le 14 Novembre. \n3-Counter-Strike: Global Offensive:\nLes inscriptions se feront jusqu’à la fin du tournoi de LoL\, le tournoi commence 30 minutes après que le tournoi de LoL soit terminé. \nOfficiellement TOURNOIS CONSOLES : \n1-Matt Hoffman proBMX (Playstation) PRIX: Un BMX de compétition HARO \n2-MarioKART (SNES) PRIX: Billets pour Karting Orford \n3-SuperSmashBro (WiiU&GC) PRIX: Surprise \n4-Halo (XBOXone) PRIX: Surprise \n5-NHL 2016 (XBOXone) PRIX: Surprise \n6-Just Dance 2016 (XBOXone) PRIX: Surprise \nRappelez\, vous c’est pour venir en aide à ceux qui viennent en aide. \nLa 3e édition vous réserve des surprises et des nouveautés!\nVenez jouer pour la bonne cause!
URL:https://www.montrealgaming.com/lan-quebec/la-console-qui-console-niveau-3-edition-plav-audio/
LOCATION:Cégep de Sherbrooke\, 475\, rue du Cégep\, Sherbrooke\, QC\, J1E 4K1\, Canada
ATTACH;FMTTYPE=image/jpeg:https://www.montrealgaming.com/wp-content/uploads/2015/12/facebook_event_1027428537281639.jpg
GEO:45.4111486;-71.8862553
X-APPLE-STRUCTURED-LOCATION;VALUE=URI;X-ADDRESS=Cégep de Sherbrooke 475 rue du Cégep Sherbrooke QC J1E 4K1 Canada;X-APPLE-RADIUS=500;X-TITLE=475\, rue du Cégep:geo:-71.8862553,45.4111486
END:VEVENT
END:VCALENDAR