BEGIN:VCALENDAR
VERSION:2.0
PRODID:-//Montreal Gaming - Les esports au Qu&eacute;bec (Qc). - ECPv6.15.16//NONSGML v1.0//EN
CALSCALE:GREGORIAN
METHOD:PUBLISH
X-ORIGINAL-URL:https://www.montrealgaming.com
X-WR-CALDESC:Events for Montreal Gaming - Les esports au Qu&eacute;bec (Qc).
REFRESH-INTERVAL;VALUE=DURATION:PT1H
X-Robots-Tag:noindex
X-PUBLISHED-TTL:PT1H
BEGIN:VTIMEZONE
TZID:America/Halifax
BEGIN:DAYLIGHT
TZOFFSETFROM:-0400
TZOFFSETTO:-0300
TZNAME:ADT
DTSTART:20140309T060000
END:DAYLIGHT
BEGIN:STANDARD
TZOFFSETFROM:-0300
TZOFFSETTO:-0400
TZNAME:AST
DTSTART:20141102T050000
END:STANDARD
BEGIN:DAYLIGHT
TZOFFSETFROM:-0400
TZOFFSETTO:-0300
TZNAME:ADT
DTSTART:20150308T060000
END:DAYLIGHT
BEGIN:STANDARD
TZOFFSETFROM:-0300
TZOFFSETTO:-0400
TZNAME:AST
DTSTART:20151101T050000
END:STANDARD
BEGIN:DAYLIGHT
TZOFFSETFROM:-0400
TZOFFSETTO:-0300
TZNAME:ADT
DTSTART:20160313T060000
END:DAYLIGHT
BEGIN:STANDARD
TZOFFSETFROM:-0300
TZOFFSETTO:-0400
TZNAME:AST
DTSTART:20161106T050000
END:STANDARD
END:VTIMEZONE
BEGIN:VEVENT
DTSTART;TZID=America/Halifax:20150926T100000
DTEND;TZID=America/Halifax:20150927T190000
DTSTAMP:20260421T190636
CREATED:20150910T022227Z
LAST-MODIFIED:20150910T022227Z
UID:10000601-1443261600-1443380400@www.montrealgaming.com
SUMMARY:GLOES GAMES - Édition 1
DESCRIPTION:LA PREMIÈRE ÉDITION DES GLOES GAMES EST OUVERTE !\n– ENTRÉE SPECTATEUR GRATUITE –\n– Tournoi League Of Legends –\n– 26 et 27 septembre à Montreal – \n1400$ DE PRIX \n_______________ \nINFORMATIONS GÉNÉRALES \n* 2 jours de tournoi League of Legends *\n16 équipes – 5v5 – Format double élimination \nPRIX:\n1ere place : 1000 $ + 5000 RP\, Ryze\, Triumphant Ryze\, 10-Win IP Boost\n2eme place : 400 $ + 4000 RP\, 10-Win IP Boost\n3eme place : 2500 RP\, 10-Win IP Boost\n4eme place : 1500 RP\, 10-Win IP Boost\n5eme place à la 8eme place : 10-Win IP Boost \nScène dédiée à chaque équipe\nCarré spectateurs\nPlateau commentateurs\nRediffusion en live\nEt d’autres surprises vous attendent… \n_______________ \nINSCRIPTIONS \n– La place spectateur est gratuite et sans inscription \n– La place challenger comprend :\n> Une entrée dans la compétition pour deux jours\n> Un accès internet\n> Un cable ethernet\n> Une place assise\n> Une scène au nom de votre équipe\n> Un accès spectateur pour 2 jours \nCe qu’il faut emmener :\nPC\, écran\, souris\, clavier\, headset\, mouse pad\, powerbar. \nL’inscription est individuelle\, mais pour jouer il vous faut être au moins 5. Veillez donc à ce que les 5 joueurs de votre équipe s’inscrivent. \nRÉSERVEZ VOTRE BILLET ICI:\nhttp://gloes.ca/gloesgames/ \nPour consulter le règlement et le format du tournoi:\nhttp://www.gloes.ca/reglement \nPour consulter la foire aux questions :\nhttp://www.gloes.ca/faq-2
URL:https://www.montrealgaming.com/lan-quebec/gloes-games-edition-1/
LOCATION:Collège de Maisonneuve\, 3800\, rue Sherbrooke Est\, Montreal\, QC\, H1X 2A2\, Canada
CATEGORIES:League of Legends Event
ATTACH;FMTTYPE=image/png:https://www.montrealgaming.com/wp-content/uploads/2015/09/facebook_event_444062135779241.png
GEO:45.5504901;-73.5539732
X-APPLE-STRUCTURED-LOCATION;VALUE=URI;X-ADDRESS=Collège de Maisonneuve 3800 rue Sherbrooke Est Montreal QC H1X 2A2 Canada;X-APPLE-RADIUS=500;X-TITLE=3800\, rue Sherbrooke Est:geo:-73.5539732,45.5504901
END:VEVENT
END:VCALENDAR