BEGIN:VCALENDAR
VERSION:2.0
PRODID:-//Montreal Gaming - Les esports au Qu&eacute;bec (Qc). - ECPv6.15.16//NONSGML v1.0//EN
CALSCALE:GREGORIAN
METHOD:PUBLISH
X-ORIGINAL-URL:https://www.montrealgaming.com
X-WR-CALDESC:Events for Montreal Gaming - Les esports au Qu&eacute;bec (Qc).
REFRESH-INTERVAL;VALUE=DURATION:PT1H
X-Robots-Tag:noindex
X-PUBLISHED-TTL:PT1H
BEGIN:VTIMEZONE
TZID:America/New_York
BEGIN:DAYLIGHT
TZOFFSETFROM:-0500
TZOFFSETTO:-0400
TZNAME:EDT
DTSTART:20170312T070000
END:DAYLIGHT
BEGIN:STANDARD
TZOFFSETFROM:-0400
TZOFFSETTO:-0500
TZNAME:EST
DTSTART:20171105T060000
END:STANDARD
BEGIN:DAYLIGHT
TZOFFSETFROM:-0500
TZOFFSETTO:-0400
TZNAME:EDT
DTSTART:20180311T070000
END:DAYLIGHT
BEGIN:STANDARD
TZOFFSETFROM:-0400
TZOFFSETTO:-0500
TZNAME:EST
DTSTART:20181104T060000
END:STANDARD
BEGIN:DAYLIGHT
TZOFFSETFROM:-0500
TZOFFSETTO:-0400
TZNAME:EDT
DTSTART:20190310T070000
END:DAYLIGHT
BEGIN:STANDARD
TZOFFSETFROM:-0400
TZOFFSETTO:-0500
TZNAME:EST
DTSTART:20191103T060000
END:STANDARD
END:VTIMEZONE
BEGIN:VTIMEZONE
TZID:America/Halifax
BEGIN:DAYLIGHT
TZOFFSETFROM:-0400
TZOFFSETTO:-0300
TZNAME:ADT
DTSTART:20160313T060000
END:DAYLIGHT
BEGIN:STANDARD
TZOFFSETFROM:-0300
TZOFFSETTO:-0400
TZNAME:AST
DTSTART:20161106T050000
END:STANDARD
BEGIN:DAYLIGHT
TZOFFSETFROM:-0400
TZOFFSETTO:-0300
TZNAME:ADT
DTSTART:20170312T060000
END:DAYLIGHT
BEGIN:STANDARD
TZOFFSETFROM:-0300
TZOFFSETTO:-0400
TZNAME:AST
DTSTART:20171105T050000
END:STANDARD
BEGIN:DAYLIGHT
TZOFFSETFROM:-0400
TZOFFSETTO:-0300
TZNAME:ADT
DTSTART:20180311T060000
END:DAYLIGHT
BEGIN:STANDARD
TZOFFSETFROM:-0300
TZOFFSETTO:-0400
TZNAME:AST
DTSTART:20181104T050000
END:STANDARD
END:VTIMEZONE
BEGIN:VEVENT
DTSTART;TZID=America/New_York:20180505T130000
DTEND;TZID=America/New_York:20180505T220000
DTSTAMP:20260421T105254
CREATED:20180410T222709Z
LAST-MODIFIED:20180410T223741Z
UID:10000560-1525525200-1525557600@www.montrealgaming.com
SUMMARY:Darwin Project au LvlOP
DESCRIPTION:Darwin Project au LvlOP\nPratique libre et coaching de 13h à 18h. \nLes comptes sont fournis. \nTournoi a compté de 18h au coût de 5$\, le format sera ajusté en fonction du nombre d’inscription. \nRègles:\nSeront poster sur le facebook de l'event encore quelques ajustements en cours\n 
URL:https://www.montrealgaming.com/lan-quebec/darwin-project-au-lvlop/
LOCATION:LvlOp\, 732 Rue St Joseph Est\, Quebec\, QC\, G1K 3C3\, Canada
ATTACH;FMTTYPE=image/jpeg:https://www.montrealgaming.com/wp-content/uploads/2018/04/30124715_1686287671447833_1438008119316709376_o.jpg
GEO:46.815696;-71.220255
X-APPLE-STRUCTURED-LOCATION;VALUE=URI;X-ADDRESS=LvlOp 732 Rue St Joseph Est Quebec QC G1K 3C3 Canada;X-APPLE-RADIUS=500;X-TITLE=732 Rue St Joseph Est:geo:-71.220255,46.815696
END:VEVENT
BEGIN:VEVENT
DTSTART;TZID=America/Halifax:20170422T100000
DTEND;TZID=America/Halifax:20170423T000000
DTSTAMP:20260421T105254
CREATED:20170225T182040Z
LAST-MODIFIED:20170225T182040Z
UID:10000693-1492855200-1492905600@www.montrealgaming.com
SUMMARY:Tournoi Rainbow 6 Siege Xbox1
DESCRIPTION:Tournoi Rainbow 6 Siege Xbox1\n32 équipes maximum\n3 vs 3\nLes joueurs doivent obligatoirement apporter leurs manettes et headset\nLes écrans ainsi que les consoles sont fournis \nTrès important! Les clavier et souris ne sont pas permis pour le tournoi. Merci \nPremier arrivé\, premier inscrit\nChaque joueur se verront attribuer une passe de participant pendant la journée avec leur nom et gametag dessus. \n30$ + taxes \ personne jusqu’au 12 Mars\n35$ + taxes \ personne du 13 Mars au 7 Avril\n40$ + taxes \ personne du 8 Avril au 21 Avril \n1200$ en prix\n1ère equipe: 900$ – 300$\joueur\n2eme: 300$ – 100$\joueur \nAvec 14 équipes et moins le tournoi sera en Round-Robin\nAvec 20 équipes et plus le tournoi sera en Elimination Simple\nLa finale sera en Best of 3 \nArrivé : 9 am\nDébut : 10 am\nFin : Selon le nombre d’équipes \nL’événement sera sur le Twitch du LvlOp : restobarlvlop qui hébergera Raptech.\nLes équipes seront appelé au micro pour leur participation \nAimerais-tu plus de tournois Rainbow six\, si oui rejoint nous sur le groupe Facebook \nhttps://www.facebook.com/groups/569452403263567/?hc_ref=SEARCH \nRules:\n Règlement du Jeu:\n 3 vs 3\n les setting comme (ESL Gaming saison 3) un bouclier par équipe et les cliches ne sera pas permis.\n\nLes règlement de l'établissement:\n Interdiction de consommer de la nourriture ou des breuvages (même les cafés/jus) provenant de l'extérieur du LvlOp sous peine d'expulsion du tournoi sans remboursement. Tous les joueurs seront cartés à leur arrivée peu importe l'âge\, alors n'oubliez pas vos cartes sinon vous ne pourrez pas participer. Merci à tous de votre compréhension.\n\n18 ans et plus
URL:https://www.montrealgaming.com/lan-quebec/tournoi-rainbow-6-siege-xbox1/
LOCATION:LvlOp\, 732 Rue St Joseph Est\, Quebec\, QC\, G1K 3C3\, Canada
CATEGORIES:Rainbow Six Event
ATTACH;FMTTYPE=image/jpeg:https://www.montrealgaming.com/wp-content/uploads/2017/02/facebook_event_405617866451787.jpg
GEO:46.815696;-71.220255
X-APPLE-STRUCTURED-LOCATION;VALUE=URI;X-ADDRESS=LvlOp 732 Rue St Joseph Est Quebec QC G1K 3C3 Canada;X-APPLE-RADIUS=500;X-TITLE=732 Rue St Joseph Est:geo:-71.220255,46.815696
END:VEVENT
END:VCALENDAR