BEGIN:VCALENDAR
VERSION:2.0
PRODID:-//Montreal Gaming - Les esports au Qu&eacute;bec (Qc). - ECPv6.15.16//NONSGML v1.0//EN
CALSCALE:GREGORIAN
METHOD:PUBLISH
X-ORIGINAL-URL:https://www.montrealgaming.com
X-WR-CALDESC:Events for Montreal Gaming - Les esports au Qu&eacute;bec (Qc).
REFRESH-INTERVAL;VALUE=DURATION:PT1H
X-Robots-Tag:noindex
X-PUBLISHED-TTL:PT1H
BEGIN:VTIMEZONE
TZID:America/New_York
BEGIN:DAYLIGHT
TZOFFSETFROM:-0500
TZOFFSETTO:-0400
TZNAME:EDT
DTSTART:20130310T070000
END:DAYLIGHT
BEGIN:STANDARD
TZOFFSETFROM:-0400
TZOFFSETTO:-0500
TZNAME:EST
DTSTART:20131103T060000
END:STANDARD
BEGIN:DAYLIGHT
TZOFFSETFROM:-0500
TZOFFSETTO:-0400
TZNAME:EDT
DTSTART:20140309T070000
END:DAYLIGHT
BEGIN:STANDARD
TZOFFSETFROM:-0400
TZOFFSETTO:-0500
TZNAME:EST
DTSTART:20141102T060000
END:STANDARD
BEGIN:DAYLIGHT
TZOFFSETFROM:-0500
TZOFFSETTO:-0400
TZNAME:EDT
DTSTART:20150308T070000
END:DAYLIGHT
BEGIN:STANDARD
TZOFFSETFROM:-0400
TZOFFSETTO:-0500
TZNAME:EST
DTSTART:20151101T060000
END:STANDARD
END:VTIMEZONE
BEGIN:VEVENT
DTSTART;VALUE=DATE:20140927
DTEND;VALUE=DATE:20140929
DTSTAMP:20260421T200509
CREATED:20140805T004635Z
LAST-MODIFIED:20151208T191119Z
UID:10000581-1411776000-1411948799@www.montrealgaming.com
SUMMARY:Tournoi League of Legends: Retour a L’école / Back to School League of Legends Tournament
DESCRIPTION:Tournoi League of Legends: Retour a L’école\nBack to School League of Legends Tournament\n\n  \nPrésenté par / Presented by: Montreal Gaming & Nemesis LAN \n  \nInfo: 8-10 Équipe/Teams (5v5 Summoners Rift)\nEn ligne / Online\n \n400$ Prize pool.\n+ Cadeau / Gifts\n  \n1st : Prix/Prize + 3200 RP & Triumphant Ryze skin\n2nd : Prix/Prize + 2400 RP\n3rd : Prix/Prize + 1600 RP\n4th : 800 RP \n  \n15$ Personne / Person\nOuvert/Open\nDouble élimination/Double elimination (Single Game) \n  \nCaster:\nAlex “Helpha” Brousseau & Guillaume “FireFoXz” Larivière\n \n  \nStream: www.Twitch.tv/MontrealGaming\nGameplay/videos: www.Youtube.com/MontrealGamingTV \n  \nRègles et Restrictions / Rules & Restrictions:\n \nFrançais\nEnglish \n\nToutes les équipes doivent être enregistrés d’ici le 19 septembre 2014\, 22:00 Est\nAll teams must be registered by September 19th \, 2014\, 11:00pm Eastern\n\n\nS’il y a plus de 10 équipes d’inscrites\, l’argent de leur inscription s’ajoutera directement à la cagnote.\nAnything over 10 teams the money will be added to the prize pool.\n\nLe Prix peut être modifié si moins de 8 équipes peuvent être confirmées.\n Prize pool is subject to change if less than 8 teams can be confirmed.\n  \nBuy tickets – Team Pass: \n  \n \n  \n\n \n\nPost by Montreal Gaming.\n\n  \nSponsor / Partner: \n \n  \n  \n  \n 
URL:https://www.montrealgaming.com/lan-quebec/league-of-legends-back-to-school/
LOCATION:Nemesis LAN\, 112 Avenue Walton\, Pointe-Claire\, Quebec\, H9R 1S6\, Canada
CATEGORIES:League of Legends Event
ATTACH;FMTTYPE=image/jpeg:https://www.montrealgaming.com/wp-content/uploads/2014/09/LoL_Flyer_Banner.jpg
ORGANIZER;CN="Montreal Gaming":MAILTO:Info@MontrealGaming.com
GEO:45.4574124;-73.8098343
X-APPLE-STRUCTURED-LOCATION;VALUE=URI;X-ADDRESS=Nemesis LAN 112 Avenue Walton Pointe-Claire Quebec H9R 1S6 Canada;X-APPLE-RADIUS=500;X-TITLE=112 Avenue Walton:geo:-73.8098343,45.4574124
END:VEVENT
END:VCALENDAR