BEGIN:VCALENDAR
VERSION:2.0
PRODID:-//Montreal Gaming - Les esports au Qu&eacute;bec (Qc). - ECPv6.15.16//NONSGML v1.0//EN
CALSCALE:GREGORIAN
METHOD:PUBLISH
X-ORIGINAL-URL:https://www.montrealgaming.com
X-WR-CALDESC:Events for Montreal Gaming - Les esports au Qu&eacute;bec (Qc).
REFRESH-INTERVAL;VALUE=DURATION:PT1H
X-Robots-Tag:noindex
X-PUBLISHED-TTL:PT1H
BEGIN:VTIMEZONE
TZID:America/New_York
BEGIN:DAYLIGHT
TZOFFSETFROM:-0500
TZOFFSETTO:-0400
TZNAME:EDT
DTSTART:20190310T070000
END:DAYLIGHT
BEGIN:STANDARD
TZOFFSETFROM:-0400
TZOFFSETTO:-0500
TZNAME:EST
DTSTART:20191103T060000
END:STANDARD
BEGIN:DAYLIGHT
TZOFFSETFROM:-0500
TZOFFSETTO:-0400
TZNAME:EDT
DTSTART:20200308T070000
END:DAYLIGHT
BEGIN:STANDARD
TZOFFSETFROM:-0400
TZOFFSETTO:-0500
TZNAME:EST
DTSTART:20201101T060000
END:STANDARD
BEGIN:DAYLIGHT
TZOFFSETFROM:-0500
TZOFFSETTO:-0400
TZNAME:EDT
DTSTART:20210314T070000
END:DAYLIGHT
BEGIN:STANDARD
TZOFFSETFROM:-0400
TZOFFSETTO:-0500
TZNAME:EST
DTSTART:20211107T060000
END:STANDARD
END:VTIMEZONE
BEGIN:VEVENT
DTSTART;TZID=America/New_York:20200124T100000
DTEND;TZID=America/New_York:20200124T200000
DTSTAMP:20260421T125406
CREATED:20200116T232122Z
LAST-MODIFIED:20200116T234355Z
UID:10000722-1579860000-1579896000@www.montrealgaming.com
SUMMARY:E-Sport Challenge Coop UQAM
DESCRIPTION:E-Sport Challenge Coop UQAM\nOrganisé par la Coop UQAM\, le E-Sport Challenge Coop UQAM c’est l’occasion unique pour les gamers de l’UQAM de s’adonner à leur passion en plein cœur de l’Agora du pavillon Judith-Jasmin au bénéfice de la Fondation de l’UQAM. \nHuit équipes s’affronteront à League of Legends jusqu’à la grande finale sous le regard attentif des curieux\, les remarques personnelles et pertinentes de nos commentateurs et l’impartialité de l’arbitre. Une aire de pratique libre sera aussi mise à disposition pour s’amuser ensemble en ligne. \nAlors\, tu nous rejoins? Constitue ton équipe de cinq\, inscris-toi vite\, c’est gratuit!\, et cours la chance de gagner un superbe ordinateur gaming de ROG (Asus). \nE-Sport Challenge Coop UQAM : \n\nC’est une compétition amicale ouverte à tous\nC’est un volet jeux libres pour grand public dans une aire exclusive réservée\n\n  \n\n\n\n\nOÙ :\n\n\nAgora du pavillon Judith-Jasmin de l’UQAM\, partie compétitive\nEspace J-2850 pour l’aire de pratique réservée\nAutour et au-dessus de l’Agora pour s’amuser librement et suivre la compétition\n\n \n\n\nQUAND :\nvendredi 24 janvier 2020 de 9 h à 20 h \n \n\n\nCOMBIEN :\nGratuit pour les équipes compétitives (voir comment s’inscrire ci-dessous)*\nAccès libre pour l’aire ludique réservée (une contribution volontaire à la Fondation de l’UQAM est suggérée).\n\n\n\n\n  \n\nVolet compétition amicale (Agora du pavillon Judith-Jasmin)  \n\nJeu: League of Legends\nÉquipes de 5 joueurs\nDurée des matchs 30-40 minutes\nNombre d’équipes : 8\nFormat : ladder – places de départ tirées au sort le 23 janvier\nAucun frais\, seule l’inscription de ton équipe est obligatoire\, communique-nous en nous donnant le nom de ton équipe de 5 joueurs\, ton courriel\, ton téléphone à l’adresse lancoopuqam@coopuqam.com.\n\nNous fournissons les tables et les chaises\, vous apportez votre ordinateur! \nPrix à gagner : \n1ère place : 300 $\n2e place : 200 $\n3e place : 100 $ \nEt lots en matériel et produits\, ASUS\, JBL… \nDès que votre inscription à la compétition sera enregistrée\, la Coop UQAM prendra contact avec vous pour le transfert des informations pratiques!
URL:https://www.montrealgaming.com/lan-quebec/e-sport-challenge-coop-uqam/
LOCATION:Pavillon J – Université du Québec à Montréal\, 405 St Catherine St E\, Montreal\, Quebec\, H2X 3S1\, Canada
CATEGORIES:League of Legends Event
ATTACH;FMTTYPE=image/jpeg:https://www.montrealgaming.com/wp-content/uploads/2020/01/675x1200_eSport_02.jpg
ORGANIZER;CN="Coop UQAM":MAILTO:bachelier.thierry@coopuqam.com
GEO:45.5141258;-73.5605506
X-APPLE-STRUCTURED-LOCATION;VALUE=URI;X-ADDRESS=Pavillon J – Université du Québec à Montréal 405 St Catherine St E Montreal Quebec H2X 3S1 Canada;X-APPLE-RADIUS=500;X-TITLE=405 St Catherine St E:geo:-73.5605506,45.5141258
END:VEVENT
END:VCALENDAR