BEGIN:VCALENDAR
VERSION:2.0
PRODID:-//Montreal Gaming - Les esports au Qu&eacute;bec (Qc). - ECPv6.15.16//NONSGML v1.0//EN
CALSCALE:GREGORIAN
METHOD:PUBLISH
X-ORIGINAL-URL:https://www.montrealgaming.com
X-WR-CALDESC:Events for Montreal Gaming - Les esports au Qu&eacute;bec (Qc).
REFRESH-INTERVAL;VALUE=DURATION:PT1H
X-Robots-Tag:noindex
X-PUBLISHED-TTL:PT1H
BEGIN:VTIMEZONE
TZID:America/Halifax
BEGIN:DAYLIGHT
TZOFFSETFROM:-0400
TZOFFSETTO:-0300
TZNAME:ADT
DTSTART:20140309T060000
END:DAYLIGHT
BEGIN:STANDARD
TZOFFSETFROM:-0300
TZOFFSETTO:-0400
TZNAME:AST
DTSTART:20141102T050000
END:STANDARD
BEGIN:DAYLIGHT
TZOFFSETFROM:-0400
TZOFFSETTO:-0300
TZNAME:ADT
DTSTART:20150308T060000
END:DAYLIGHT
BEGIN:STANDARD
TZOFFSETFROM:-0300
TZOFFSETTO:-0400
TZNAME:AST
DTSTART:20151101T050000
END:STANDARD
BEGIN:DAYLIGHT
TZOFFSETFROM:-0400
TZOFFSETTO:-0300
TZNAME:ADT
DTSTART:20160313T060000
END:DAYLIGHT
BEGIN:STANDARD
TZOFFSETFROM:-0300
TZOFFSETTO:-0400
TZNAME:AST
DTSTART:20161106T050000
END:STANDARD
BEGIN:DAYLIGHT
TZOFFSETFROM:-0400
TZOFFSETTO:-0300
TZNAME:ADT
DTSTART:20170312T060000
END:DAYLIGHT
BEGIN:STANDARD
TZOFFSETFROM:-0300
TZOFFSETTO:-0400
TZNAME:AST
DTSTART:20171105T050000
END:STANDARD
BEGIN:DAYLIGHT
TZOFFSETFROM:-0400
TZOFFSETTO:-0300
TZNAME:ADT
DTSTART:20180311T060000
END:DAYLIGHT
BEGIN:STANDARD
TZOFFSETFROM:-0300
TZOFFSETTO:-0400
TZNAME:AST
DTSTART:20181104T050000
END:STANDARD
END:VTIMEZONE
BEGIN:VEVENT
DTSTART;TZID=America/Halifax:20170923T100000
DTEND;TZID=America/Halifax:20170924T220000
DTSTAMP:20260421T202836
CREATED:20170928T031353Z
LAST-MODIFIED:20170928T033055Z
UID:10000705-1506160800-1506290400@www.montrealgaming.com
SUMMARY:Smash Ultime 4
DESCRIPTION:Smash Ultime 4\nhttps://smash.gg/tournament/smash-ultime-4 \nSmash ULtime\, le tournoi qui a relancé la scène compétitive de Smash dans la Ville de Québec\, est de retour pour une 3ème année les 23 et 24 septembre prochains au Grand Salon du Pavillon Desjardins de l’Université Laval! Comme lors des années précédentes\, il y aura un tournoi 1v1 et 2v2 pour Super Smash Bros. Melee\, Super Smash Bros. for Wii U (Smash 4)\, Super smash bros 64 et pour une première fois\, Street Fighter V! \n-== PRIX D’ENTRÉE DE BASE ==- \nPRÉ-VENTE : 10$ (jusqu’au 22 septembre à 11h59) \nSUR PLACE : 15$ (le jour même) \nRABAIS: -5 dollars en fournissant un set up complte de l’un des jeux à l’horaire \n(Set-up comprenant télé\, console\, adapteurs\, jeu)\nVISITEUR/SPECTATEUR : Gratuit\nIl est à noter que si vous décidez de vous inscrire sur place\, il pourrait ne plus y avoir de place pour certains événements. Il sera aussi impossible de s’inscrire pour les doubles sur place. \n-== COÛT D’INSCRPTION PAR JEU ==- \nSimples : 10$/personne\nDoubles : 5$/personne (10$/équipe)\n-== LA MEILLEURE EXPÉRIENCE DE TOURNOI ==- Il y aura une amateur bracket le samedi soir pour ceux qui ne sortiront pas des pools de leur catégorie en simple. \n-== HORAIRE ==- \n22 septembre (vendredi) : \nInstallation par les organisateurs (vous pouvez apporter vos setups en soirée si vous souhaitez les installer à l’avance\, sinon le samedi fonctionne aussi)\n23 septembre (samedi) : \n1ère ronde de pools pour Smash 4 et Melee (simples) et amateur bracket\nDoubles jusqu’à top 8 \n24 septembre (Dimanche) \nFinalisation de la bracket singles et doubles top 8 Smash 4 et Melee (simple) \n===================== \n(ENGLISH) Smash ULtime\, the tournament that revitalized Quebec City’s competitive Smash scene\, is back for a third year this September 23th and 24th at the Grand Salon in the Desjardins building at Laval University ! Just like previous years\, there will be a 1v1 and 2v2 tournament for Super Smash Bros. Melee (Melee) and Super Smash Bros. for Wii U (Smash 4)\,Super Smash bros 64 as well as for the first time this year\, Street fighter V ! \n-== VENUE FEE ==- \nPRE-SALE : $10 (until September 22th at 11:59 PM)\nAT THE VENUE: 15$(during the event itself)\nVISITOR/SPECTATOR : Free\nIt should be noted that if you decide to register at the venue\, there might not be any slots left for some events. It will also be impossible to register for doubles at the venue. \n-== ENTRY FEE PER GAME ==- \nSingles: $10/person\nDoubles : $5/person ($10/team)\n-== THE BEST PLAYER EXPERIENCE==- There will be an amateur bracket for those who do not make it out of singles pools. \n-== SCHEDULE ==- \nSeptember 22th (Friday): \nOrganizers will be setting up. You can bring your setups on Friday (evening) if you prefer to set them up in advance. If not\, you can also do it on Saturday.\nSeptember 23th (Saturday): \n1st round of pools for Smash 4 and Melee (singles) + amateur bracket\nDoubles until top 8\nSeptember 24th (Sunday) \nDoubles top 8\nSingles bracket until finals for all singles Smash 4 and Melee (singles)
URL:https://www.montrealgaming.com/lan-quebec/smash-ultime-4/
LOCATION:Université Laval\, 2325\, rue de l'Université\, Quebec\, Quebec\, G1V 0B4\, Canada
CATEGORIES:Multi-eSports-Event,Smash Bros Event,Street Fighter Event
ATTACH;FMTTYPE=image/jpeg:https://www.montrealgaming.com/wp-content/uploads/2017/09/facebook_event_1409160089175067.jpg
GEO:46.7792486;-71.26968
X-APPLE-STRUCTURED-LOCATION;VALUE=URI;X-ADDRESS=Université Laval 2325 rue de l'Université Quebec Quebec G1V 0B4 Canada;X-APPLE-RADIUS=500;X-TITLE=2325\, rue de l'Université:geo:-71.26968,46.7792486
END:VEVENT
BEGIN:VEVENT
DTSTART;TZID=America/Halifax:20150925T170000
DTEND;TZID=America/Halifax:20150926T230000
DTSTAMP:20260421T202836
CREATED:20150917T172508Z
LAST-MODIFIED:20150917T172508Z
UID:10000608-1443200400-1443308400@www.montrealgaming.com
SUMMARY:Smash ULtime La Revanche
DESCRIPTION:Français\n\n \nBonjour à tous\, vous êtes invités en grand nombre à cette réédition revampée du maintenant classique SmashULtime\, un tournoi de Super Smash Bros. à l’Université Laval. \nCette année\, on fait tout pareil mais en mieux.\nIl y aura de la NOURRITURE sur place\, le retour de la Bracket d’Amateurs pour Melee\, des matchs enregistrés avec commentateurs\, des prix de participation\, des prix en argent pour ceux qui se démarquent et bien sûr des tonnes de parties amicales.\nMais le plus important…\nLes jeux sont du nombre de trois:\nMelee\, Smash4 et ProjectM! Pour cette raison\, l’évènement se déroule sur 2 jours. \nDATE: Vendredi le 25 au soir – Samedi avant-midi jusqu’à complétion\nLIEU: Université Laval\, pavillon Alexandre-Vachon\, salle 2880.\n(2ème étage) \nENTRÉE: 10$\nRABAIS: 3$ si vous apportez une console avec jeu fonctionnelle. 2$ pour une télévision cathodique. Maximum de 5$ de rabais.\nIl est très important pour le bon déroulement d’avoir suffisamment de consoles et de télévision qu’on ne peut pas toutes fournir nous-mêmes.\nLe rabais est accompagné d’un remerciement très sincère 🙂 \nAPPORTEZ VOTRE PROPRE MANETTE! \nINSCRIPTION dans une catégorie: 5$ qui va complètement aux prix en argent. On peut participer à toutes les catégories. \nLes 5 CATÉGORIES DISPONIBLES sont:\nMelee 1v1\, Melee 2v2\, Smash4 1v1\, Smash4 2v2 et ProjectM 1v1.\nLes catégories 1v1 commencent en POOLS de 4 joueurs qui doivent tous s’affronter. Les 2 meilleurs de chaque pool continuent dans une Bracket Élimination Double. Dans le cas de Melee\, les 2 autres continuent également\, mais dans la Bracket Amateur qui a un fonctionnement un peu différent. Plus de détails à venir.\nLes catégories 2v2 débutent directement en Bracket Élimination Double. \nLes RÈGLES (détails à venir) pour chaque jeu suivront les standards de compétition. Donc non\, pas d’objet et le “Friendly Fire” est “ON” 😛\nÉgalement\, les “Custom moves” de Smash4 sont désactivés. \nHORAIRE:\nVendredi 17h: Début des inscriptions\nVendredi 18h: Fin des inscriptions et début de la compétition pour Melee 2v2.\nVendredi 18h30: Fin des inscriptions et début de la compétition pour Melee 1v1.\nVendredi minuit: Fermeture. Si incomplets\, Melee 1v1 et 2v2 reprennent le lendemain. \nSamedi 10h: Début des incriptions. Fin de melee s’il y a lieu.\nSamedi 11h: Fin des inscriptions et début de la compétition pour ProjectM 1v1\nSamedi 14h: Fin des inscriptions et début de la compétition pour Smash4 2v2.\nSamedi 14h30: Fin des inscriptions et début de la compétition pour Smash4 1v1.\nSamedi 16h: Remise des prix de participation.\nSamedi 21h: Remise des prix en argent.\nSamedi 22h: Fermeture. Si une catégorie n’est pas terminée\, la fermeture est repoussée à minuit. \nPRIX EN ARGENT:\nPondération:\n50-30-20\n*À partir de 60 entrées\, 8$ par entrée supplémentaire va à la cagnotte de chaque catégorie\, de manière proportionnelle au nombre d’inscriptions. \nATTENTION: Certains détails (excluant date et lieu) peuvent encore changer. \n\nEnglish\n\n \nOn this year’s edition\, we will have food\, an Amateur Bracket for Melee\, a stream\, prices for participants\, cash for winners and tons of friendlies.\nWe also have 3 games: Melee\, Smash4 and PM.\n5 categories: Melee 1v1\, Melee 2v2\, Smash4 1v1\, Smash4 2v2\, PM 1v1. \nFor this reason\, it is a 2-days event. \nDATE: Friday 25th of September & Saturday\nPLACE: Quebec City\, Université Laval\, pavillon Alexandre-Vachon\, room 2880.\n(2nd floor) \nENTRY: 10$\nDEDUCTIONS: 3$ for bringing an operational console with a game*. 2$ for a CRT TV.\n*WiiU must come with a wii 3colors cable.\nWe thank you gladly for anything you bring. \nBRING YOUR OWN CONTROLLER \nREGISTRATION in 1 category: 5$ that goes all in the pot for said category. You can participate in all categories. \n1v1 categories start in a 4-players pool and top 2 continues to a Double Elimination Bracket. For Melee\, bottom 2 goes to Amateur Bracket also DOuble Elimination but slightly different.\n2v2 starts directly in a Double Elimination Bracket. \nRULES follow standards. No custom moves for Smash4. \nSCHEDULE:\nFriday 17h: Start of registrations.\nFriday 18h: End of reg. for Melee 2v2.\nFriday 18h30 End of reg for Melee 1v1.\nFriday 24h: Closing. If unfinished\, Melee continues tomorrow. \nSaturday 10h: Start of reg.\nSaturday 11h: End of reg. for PM 1v1.\nSaturday 14h: End of reg. for Smash4 2v2\nSaturday 14h30: End of reg for Smash4 1v1.\nSaturday 16h: Participation prices.\nSaturday 21h: Cash prices.\nSaturday 23h: Closing. If a category is unfinished\, closing postponed to 24h. \nCASH PRIZES:\nDistribution: 50-30-20\nAfter 60 entries\, 5$ by new entry goes to pots proportionnaly to number of participants. \nWarning: Tournament will be ran in FRENCH. If you have trouble understanding\, try sticking with someone who is fluent and feel free to ask TOs. \nCAUTION: Details except date and place might change.
URL:https://www.montrealgaming.com/lan-quebec/smash-ultime-la-revanche/
LOCATION:Université Laval\, 2325\, rue de l'Université\, Quebec\, Quebec\, G1V 0B4\, Canada
CATEGORIES:Smash Bros Event
ATTACH;FMTTYPE=image/jpeg:https://www.montrealgaming.com/wp-content/uploads/2015/09/facebook_event_1027952663904128.jpg
GEO:46.7792486;-71.26968
X-APPLE-STRUCTURED-LOCATION;VALUE=URI;X-ADDRESS=Université Laval 2325 rue de l'Université Quebec Quebec G1V 0B4 Canada;X-APPLE-RADIUS=500;X-TITLE=2325\, rue de l'Université:geo:-71.26968,46.7792486
END:VEVENT
END:VCALENDAR