BEGIN:VCALENDAR
VERSION:2.0
PRODID:-//Montreal Gaming - Les esports au Qu&eacute;bec (Qc). - ECPv6.15.16//NONSGML v1.0//EN
CALSCALE:GREGORIAN
METHOD:PUBLISH
X-ORIGINAL-URL:https://www.montrealgaming.com
X-WR-CALDESC:Events for Montreal Gaming - Les esports au Qu&eacute;bec (Qc).
REFRESH-INTERVAL;VALUE=DURATION:PT1H
X-Robots-Tag:noindex
X-PUBLISHED-TTL:PT1H
BEGIN:VTIMEZONE
TZID:America/Halifax
BEGIN:DAYLIGHT
TZOFFSETFROM:-0400
TZOFFSETTO:-0300
TZNAME:ADT
DTSTART:20150308T060000
END:DAYLIGHT
BEGIN:STANDARD
TZOFFSETFROM:-0300
TZOFFSETTO:-0400
TZNAME:AST
DTSTART:20151101T050000
END:STANDARD
BEGIN:DAYLIGHT
TZOFFSETFROM:-0400
TZOFFSETTO:-0300
TZNAME:ADT
DTSTART:20160313T060000
END:DAYLIGHT
BEGIN:STANDARD
TZOFFSETFROM:-0300
TZOFFSETTO:-0400
TZNAME:AST
DTSTART:20161106T050000
END:STANDARD
BEGIN:DAYLIGHT
TZOFFSETFROM:-0400
TZOFFSETTO:-0300
TZNAME:ADT
DTSTART:20170312T060000
END:DAYLIGHT
BEGIN:STANDARD
TZOFFSETFROM:-0300
TZOFFSETTO:-0400
TZNAME:AST
DTSTART:20171105T050000
END:STANDARD
END:VTIMEZONE
BEGIN:VEVENT
DTSTART;TZID=America/Halifax:20161001T110000
DTEND;TZID=America/Halifax:20161001T160000
DTSTAMP:20260421T114325
CREATED:20160911T180749Z
LAST-MODIFIED:20160911T180749Z
UID:10000686-1475319600-1475337600@www.montrealgaming.com
SUMMARY:Tournament Series / VCSA ARAM
DESCRIPTION:Tournament Series / VCSA ARAM\n***SPACE IS LIMITED TO 20 TEAMS IN TOTAL.\n**Your team must consist of AT LEAST TWO (2) VANIER STUDENTS.\n*TIME AND SPACE is subject to change \nThe team captain must register his or her team on Battlefy (password: vanieresports) AND Google Forms.\nhttps://battlefy.com/vcsa-esports/tournament-series-vcsa-aram/57d1cf9946e9f52c0c734a1c/info + https://goo.gl/forms/DTiut8CTJz4SaQzB2 \nREGISTRATION DEADLINE: September 30 at 9PM \nARAM TOURNAMENT RULES\n1. RANK RESTRICTIONS\nEach team can have a maximum of THREE Diamond players. Master and Challenger players are restricted to 1 and will be counted as a Diamond player as well.\ne.g. Diamond\, Diamond\, Diamond\, Gold\, Gold is acceptable. Diamond\, Master\, Challenger\, Bronze\, Bronze is unacceptable. \n2. SMURFS\nWe desire to deliver quality tournaments for everyone to enjoy. Hence\, smurfing is NOT ALLOWED under any circumstances for any of our events. Anyone caught smurfing will be automatically banned for this tournament and PERMANTENTLY banned for all of our future tournaments. This also applies to the rest of the team involved with the player(s) smurfing. \n**If you happen to know of a smurfing participant in our tournament\, please send us a private message with legitimate and detailed proof of it. You will remain anonymous and will be rewarded for your help. Please be careful with your reports\, as we do not want false accusations that could ruin the experience of five players. \n3. ATTITUDE\nNeither bad mannerism nor toxicity will be allowed. Players committing such acts will be warned\, and may be disqualified if they decide to not conform to an acceptable behavior. \n4. PARTICIPANTS\nPlayers must be residents of QUEBEC\, as we desire to promote eSports culture in our local area. \n5. ROSTER CHANGES \nYou may change your team rosters after registering\, but you must have notified us at least 24h before the day of the tournament. Please PM us with the information needed to register for this tournament for your new player(s).\n**If there is a lack of information\, the roster change will not go through. \n6. UNIQUE TEAM PARTICIPATION\nYou may only register for ONE (1) team. A player may not register for one team as a starter and as a substitute for another. \n7. TOURNAMENT FORMAT\nThe tournament format will be the following: best out of 1 until semi-finals\, best out of 3 for finals. \n8. DATE AND TIME\nThe tournament will take place on SATURDAY\, OCTOBER 1ST. The tournament BEGINS AT 11AM\, and CHECK-IN STARTS at 10:30 AM until 10:55 AM.\nCheck-in will happen in the chat room called “VCSA ARAM”. \n9. GAME CREATION\nThe tournament code for each match will be provided on Battlefy. \n10. CHAMPION SELECT DISCONNECTION\nAnyone who DISCONNECTS during champion select may have their game recreated with the SAME CHAMPIONS from the previous champion select. We recommend you to please TAKE A SCREENSHOT when champion select starts in case this happens\, to guarantee that the enemy team and yours did not pick the wrong champions. If an issue arises\, please contact us ASAP. \n11. DISCONNECTIONS AND PAUSES\nPauses may only be used for disconnections\, lag\, and technical difficulties. Any other reasons for pausing will not be valid. A team pausing without a valid reason may be disqualified.\nEach team may ONLY pause for up to 10 minutes in total. This means that every paused time is accumulated to a MAXIMUM of 10 minutes. After 10 minutes of pause for one team\, the game must resume.\nAny team with a player still disconnected after 10 minutes of pause must choose to either continue the game or forfeit. \n12. PRIZES\nTBD. Prizes will be sponsored by Riot.\nAdditionally\, FIVE (5) 10$ RP cards will be given away. The giveaway is ONLY OPEN FOR VANIER STUDENTS participating to this tournament. \n13. TOURNAMENT CANCELLATION\nThis tournament may only happen if EIGHT TEAMS are registered by the day of the event. Please spread the word and join in big numbers! \nIF ANY OF THESE RULES ARE NOT FOLLOWED AS THEY SHOULD BE\, YOUR TEAM MAY BE DISQUALIFIED.
URL:https://www.montrealgaming.com/lan-quebec/tournament-series-vcsa-aram/
LOCATION:Vanier College\, 821 Sainte-Croix\, Montreal\, QC\, H4L 3X9\, Canada
CATEGORIES:League of Legends Event
ATTACH;FMTTYPE=image/jpeg:https://www.montrealgaming.com/wp-content/uploads/2016/09/facebook_event_911631382313596.jpg
ORGANIZER;CN="Vanier Esports Students Association":MAILTO:taingmonica@hotmail.com
GEO:45.5153098;-73.6757541
X-APPLE-STRUCTURED-LOCATION;VALUE=URI;X-ADDRESS=Vanier College 821 Sainte-Croix Montreal QC H4L 3X9 Canada;X-APPLE-RADIUS=500;X-TITLE=821 Sainte-Croix:geo:-73.6757541,45.5153098
END:VEVENT
BEGIN:VEVENT
DTSTART;TZID=America/Halifax:20160430T093000
DTEND;TZID=America/Halifax:20160430T093000
DTSTAMP:20260421T114325
CREATED:20160413T181926Z
LAST-MODIFIED:20160413T182107Z
UID:10000672-1462008600-1462008600@www.montrealgaming.com
SUMMARY:Tournament Series / VCSA RIFT
DESCRIPTION:***SPACE IS LIMITED TO 16 TEAMS IN TOTAL.\n**Your team must consist of AT LEAST TWO (2) VANIER STUDENTS. \nPlease follow this link: http://goo.gl/forms/qYKYpaZQTC in order to register your team to this tournament. \nOn top of registering through the google form\, please make sure that EACH PLAYER on your team registers via the Community Events website as well @ [LINK WILL BE POSTED AS SOON AS RIOT APPROVES THE EVENT] \n***You MUST be registered in order to obtain prizes! \nPrize \nThe TOP THREE (3) teams of the tournament will have the choice to obtain a LoL lanyard (Jinx/Vi) or an I HATE TEEMO/I LOVE TEEMO wristband! \nRIFT TOURNAMENT RULES \n1. RANK RESTRICTIONS\nThere are no rank restrictions for this tournament. \n2. SMURFS\nWe desire to deliver quality tournaments for everyone to enjoy. Hence\, smurfing is NOT ALLOWED under any circumstances for any of our events. Anyone caught smurfing will be automatically banned for this tournament and PERMANTENTLY banned for all of our future tournaments. This also applies to the rest of the team involved with the player(s) smurfing. \n**If you happen to know of a smurfing participant in our tournament\, please send us a private message with legitimate and detailed proof of it. You will remain anonymous and will be rewarded for your help. Please be careful with your reports\, as we do not want false accusations that could ruin the experience of five players. \n3. ATTITUDE\nNeither bad mannerism nor toxicity will be allowed. Players committing such acts will be warned\, and may be disqualified if they decide to not conform to an acceptable behavior. \n4. PARTICIPANTS\nYour team must consist of AT LEAST THREE (2) VANIER STUDENTS. We want to encourage participation from our students as well as to encourage players from our community to reach out to Vanier College students in order to socialize and to create bonds! Players must also be residents of QUEBEC\, as we desire to promote eSports culture in our local area\, and as most of our prizes will be given personally. \n5. ROSTER CHANGES\nYou may change your team rosters after registering\, but you must have notified us at least three days before the day of the tournament. Please PM us with the information needed to register for this tournament for your new player(s).\n**If there is a lack of information\, the roster change will not go through. \n6. UNIQUE TEAM PARTICIPATION\nYou may only register for ONE (1) team. A player may not register for one team as a starter and as a substitute for another. \n7. TOURNAMENT FORMAT\nThe tournament format will be the following: best out of 1 until semi-finals\, best out of 3 for finals. \n8. DATE AND TIME\nThe tournament will take place on SATURDAY\, APRIL 30TH. The tournament BEGINS AT 10:00 AM\, and CHECK-IN STARTS at 9:30 AM until 9:55 AM.\nCheck-in will happen in the chat room called “VCSA RIFT”. \n9. GAME CREATION\nA tournament code will be provided to you in the VCSA RIFT chat room for you to enter in Custom > Tournament Code in the client. Please DO NOT create your own rooms. Any games played without our approval will not be counted into the tournament.\nUpon the creation of the room\, each team is allowed 10 minutes to be ready. Any team still missing player(s) or not ready to start after the 10 minutes will automatically lose. \n10. CHAMPION SELECT DISCONNECTION\nAnyone who DISCONNECTS during champion select may have their game recreated with the SAME CHAMPIONS from the previous champion select. We recommend you to please TAKE A SCREENSHOT when champion select starts in case this happens\, to guarantee that the enemy team and yours did not pick the wrong champions. If an issue arises\, please contact us ASAP. \n11. DISCONNECTIONS AND PAUSES\nPauses may only be used for disconnections\, lag\, and technical difficulties. Any other reasons for pausing will not be valid. A team pausing without a valid reason may be disqualified.\nEach team may ONLY pause for up to 10 minutes in total. This means that every paused time is accumulated to a MAXIMUM of 10 minutes. After 10 minutes of pause for one team\, the game must resume.\nAny team with a player still disconnected after 10 minutes of pause must choose to either continue the game or forfeit. \n12. PRIZES \n[TBA] \n13. TOURNAMENT CANCELLATION\nThis tournament may only happen if EIGHT TEAMS are registered by the day of the event. Please spread the word and join in big numbers! \nIF ANY OF THESE RULES ARE NOT FOLLOWED AS THEY SHOULD BE\, YOUR TEAM MAY BE DISQUALIFIED. \nEvent Main Admin\nSindy Sinn\, Wonsuk Kim
URL:https://www.montrealgaming.com/lan-quebec/tournament-series-vcsa-rift/
LOCATION:Vanier College\, 821 Sainte-Croix\, Montreal\, QC\, H4L 3X9\, Canada
CATEGORIES:League of Legends Event
ATTACH;FMTTYPE=image/jpeg:https://www.montrealgaming.com/wp-content/uploads/2016/04/facebook_event_857806324348634.jpg
ORGANIZER;CN="Vanier Esports Students Association":MAILTO:taingmonica@hotmail.com
GEO:45.5153098;-73.6757541
X-APPLE-STRUCTURED-LOCATION;VALUE=URI;X-ADDRESS=Vanier College 821 Sainte-Croix Montreal QC H4L 3X9 Canada;X-APPLE-RADIUS=500;X-TITLE=821 Sainte-Croix:geo:-73.6757541,45.5153098
END:VEVENT
END:VCALENDAR